PDS_VERSION_ID = PDS3
/* FILE DATA ELEMENTS */
RECORD_TYPE = UNDEFINED
/* POINTERS TO DATA OBJECTS */
^IMAGE = ("HD676_0000_S24.TIF")
/* IDENTIFICATION DATA ELEMENTS */
DATA_SET_ID = "MEX-M-HRSC-4-REFDR-MAPPROJECT-EXT4-V4.0"
DATA_SET_NAME = "MARS EXPRESS HRSC MAP PROJECTED REFDR EXTENSION4 V4.0"
DETECTOR_ID = MEX_HRSC_S2
EVENT_TYPE = "MARS-REGIONAL-MAPPING-Vo-Te"
INSTRUMENT_HOST_ID = MEX
INSTRUMENT_HOST_NAME = "MARS EXPRESS"
INSTRUMENT_ID = HRSC
INSTRUMENT_NAME = "HIGH RESOLUTION STEREO CAMERA"
MISSION_NAME = "MARS EXPRESS"
MISSION_PHASE_NAME = ME_Phase_31
PROCESSING_LEVEL_ID = 4
PRODUCT_CREATION_TIME = 2023-02-01T02:09:17.000Z
PRODUCT_ID = "HD676_0000_S24.TIF"
RELEASE_ID = 0005
REVISION_ID = 0000
/* QUALITY DATA ELEMENTS */
DATA_QUALITY_ID = 1
DATA_QUALITY_DESC = "Data calculated based on original SPICE kernels"
/* TIME DATA ELEMENTS */
SPACECRAFT_CLOCK_START_COUNT = "1/0360992258.09037"
SPACECRAFT_CLOCK_STOP_COUNT = "1/0360992410.55660"
START_TIME = 2014-10-10T03:38:51.038Z
STOP_TIME = 2014-10-10T03:40:14.576Z
/* ORBITAL DATA ELEMENTS */
ASCENDING_NODE_LONGITUDE = 316.96
MAXIMUM_RESOLUTION = 0.0316
FOOTPRINT_POINT_LATITUDE = (36.639,36.6399,36.6405,36.6409,36.6412 ,36.6412,36.6408,36.6407,36.6742, 36.5687,36.4105,36.3052,36.1994,36.0939 ,35.9886,35.8308,35.6729,35.5679, 35.4103,35.3054,35.1479,34.9906,34.8857 ,34.7285,34.5714,34.4668,34.3099, 34.1531,34.0486,33.9442,33.8395,33.7352 ,33.631,33.5268,33.3706,33.2145,33.1104 ,32.9543,32.7984,32.539,32.2798,32.0208 ,31.7622,31.5038,31.4521,31.4119,31.411 ,31.4102,31.4094,31.4087,31.4068, 31.4056,31.404,31.4032,31.4022,31.3998, 31.3997,31.4001,31.6072,31.8146,31.9703 ,32.178,32.3338,32.4897,32.5936,32.6975 ,32.8537,32.9577,33.062,33.1661,33.2704 ,33.4269,33.5313,33.688,33.7923,33.8968 ,34.0016,34.1061,34.2106,34.3152, 34.4201,34.5247,34.6293,34.7345,34.8923 ,34.9973,35.1026,35.2077,35.3655, 35.4707,35.6286,35.7867,35.8921,36.0504 ,36.2088,36.3144,36.4199,36.5786, 36.6316,36.639)
FOOTPRINT_POINT_LONGITUDE = (267.29,267.044,266.796,266.548,266.3, 266.05,265.704,265.688,265.664,265.667, 265.673,265.676,265.68,265.683,265.687, 265.691,265.696,265.7,265.704,265.707, 265.712,265.716,265.719,265.724,265.728 ,265.731,265.735,265.739,265.741, 265.744,265.747,265.749,265.751,265.754 ,265.757,265.761,265.763,265.766,265.77 ,265.775,265.78,265.785,265.789,265.793 ,265.794,265.795,265.95,266.075,266.199 ,266.323,266.554,266.724,266.893, 267.015,267.138,267.367,267.382,267.387 ,267.384,267.381,267.379,267.375, 267.373,267.37,267.369,267.367,267.365, 267.363,267.361,267.359,267.358,267.355 ,267.353,267.351,267.349,267.347, 267.345,267.343,267.342,267.34,267.338, 267.336,267.334,267.332,267.329,267.328 ,267.326,267.324,267.321,267.319, 267.316,267.313,267.311,267.308,267.305 ,267.303,267.301,267.298,267.297, 267.29)
ORBIT_NUMBER = 13676
ORBITAL_ECCENTRICITY = 0.574
ORBITAL_INCLINATION = 86.9
ORBITAL_SEMIMAJOR_AXIS = 8824.65
PERIAPSIS_ALTITUDE = 368.08
PERIAPSIS_ARGUMENT_ANGLE = 140.92
PERIAPSIS_TIME = 2014-10-10T03:37:40.000Z
SPACECRAFT_ORIENTATION = (0.0,-1.0,0.0)
^MEX_ORIENTATION_DESC = "MEX_ORIENTATION_DESC.TXT"
SPACECRAFT_POINTING_MODE = ACROSSTRACK
^MEX_POINTING_DESC = "MEX_POINTING_DESC.TXT"
RIGHT_ASCENSION = -1e+32
DECLINATION = -1e+32
OFFSET_ANGLE = -0.3
SPACECRAFT_SOLAR_DISTANCE = 2.10762e+08
TARGET_NAME = MARS
/* CAMERA DATA ELEMENTS */
DETECTOR_TEMPERATURE = 18.5744
FOCAL_PLANE_TEMPERATURE = 8.5833
INST_CMPRS_NAME = "DISCRETE COSINE TRANSFORMATION (DCT)"
INST_CMPRS_RATIO = 6.24623
INST_CMPRS_QUALITY = 0
INST_CMPRS_QUANTZ_TBL_ID = 0
INSTRUMENT_TEMPERATURE = 11.234
LENS_TEMPERATURE = 8.9911
MACROPIXEL_SIZE = 2
MISSING_FRAMES = 0
PIXEL_SUBSAMPLING_FLAG = N
SIGNAL_CHAIN_ID = 1
/* RADIOMETRIC DATA ELEMENTS */
BANDWIDTH = 178.0
CENTER_FILTER_WAVELENGTH = 679.0
RADIANCE_OFFSET = 2.28958
RADIANCE_SCALING_FACTOR = 0.0175086
REFLECTANCE_SCALING_FACTOR = 0.000411875
MEX:REFLECTANCE_OFFSET = 0.0538606
/* IMAGE OBJECT DEFINITIONS */
OBJECT = IMAGE
  INTERCHANGE_FORMAT = BINARY
  LINES = 12544
  LINE_SAMPLES = 3250
  SAMPLE_TYPE = UNSIGNED_INTEGER
  SAMPLE_BITS = 8
  BANDS = 1
  BAND_STORAGE_TYPE = BAND_SEQUENTIAL
  MAXIMUM = 255
  MEAN = 83.0422
  MINIMUM = 1
  STANDARD_DEVIATION = 17.7542
END_OBJECT = IMAGE
/* MAP OBJECT DEFINITIONS */
OBJECT = IMAGE_MAP_PROJECTION
  ^DATA_SET_MAP_PROJECTION_CATALOG= "DSMAP.CAT"
  A_AXIS_RADIUS = 3396.0
  B_AXIS_RADIUS = 3396.0
  C_AXIS_RADIUS = 3396.0
  CENTER_LATITUDE = 0.0
  CENTER_LONGITUDE = 267.0
  COORDINATE_SYSTEM_NAME = PLANETOGRAPHIC
  COORDINATE_SYSTEM_TYPE = "BODY-FIXED ROTATING"
  EASTERNMOST_LONGITUDE = 267.387
  FIRST_STANDARD_PARALLEL = "N/A"
  LINE_FIRST_PIXEL = 1
  LINE_LAST_PIXEL = 12544
  LINE_PROJECTION_OFFSET = 87009.25
  MAP_PROJECTION_ROTATION = 0.0
  MAP_PROJECTION_TYPE = SINUSOIDAL
  MAP_RESOLUTION = 2370.85521546667
  MAP_SCALE = 0.025
  MAXIMUM_LATITUDE = 36.6742
  MINIMUM_LATITUDE = 31.3997
  POSITIVE_LONGITUDE_DIRECTION = EAST
  REFERENCE_LATITUDE = "N/A"
  REFERENCE_LONGITUDE = "N/A"
  SAMPLE_FIRST_PIXEL = 1
  SAMPLE_LAST_PIXEL = 3250
  SAMPLE_PROJECTION_OFFSET = 2514.25
  SECOND_STANDARD_PARALLEL = "N/A"
  WESTERNMOST_LONGITUDE = 265.664
END_OBJECT = IMAGE_MAP_PROJECTION
END
