PDS_VERSION_ID = PDS3
/* FILE DATA ELEMENTS */
RECORD_TYPE = UNDEFINED
/* POINTERS TO DATA OBJECTS */
^IMAGE = ("HD672_0000_S14.TIF")
/* IDENTIFICATION DATA ELEMENTS */
DATA_SET_ID = "MEX-M-HRSC-4-REFDR-MAPPROJECT-EXT4-V4.0"
DATA_SET_NAME = "MARS EXPRESS HRSC MAP PROJECTED REFDR EXTENSION4 V4.0"
DETECTOR_ID = MEX_HRSC_S1
EVENT_TYPE = "MARS-LOCAL-STEREO-Fl-Tc-Ts"
INSTRUMENT_HOST_ID = MEX
INSTRUMENT_HOST_NAME = "MARS EXPRESS"
INSTRUMENT_ID = HRSC
INSTRUMENT_NAME = "HIGH RESOLUTION STEREO CAMERA"
MISSION_NAME = "MARS EXPRESS"
MISSION_PHASE_NAME = ME_Phase_31
PROCESSING_LEVEL_ID = 4
PRODUCT_CREATION_TIME = 2023-02-01T02:09:17.000Z
PRODUCT_ID = "HD672_0000_S14.TIF"
RELEASE_ID = 0005
REVISION_ID = 0000
/* QUALITY DATA ELEMENTS */
DATA_QUALITY_ID = 1
DATA_QUALITY_DESC = "Data calculated based on original SPICE kernels"
/* TIME DATA ELEMENTS */
SPACECRAFT_CLOCK_START_COUNT = "1/0360891886.09044"
SPACECRAFT_CLOCK_STOP_COUNT = "1/0360892102.41003"
START_TIME = 2014-10-08T23:44:51.892Z
STOP_TIME = 2014-10-08T23:46:34.503Z
/* ORBITAL DATA ELEMENTS */
ASCENDING_NODE_LONGITUDE = 317.03
MAXIMUM_RESOLUTION = 0.0192
FOOTPRINT_POINT_LATITUDE = (15.9989,15.9797,15.9596,15.9384, 15.9274,15.9161,15.9045,15.8926,15.8804 ,15.8615,15.8599,15.8252,15.6402, 15.3935,15.1452,14.83,14.5135,14.1982, 14.0093,13.7519,13.5586,13.3014,13.1086 ,12.8507,12.7196,12.5233,12.392,12.1949 ,11.9969,11.8656,11.6657,11.5321, 11.3997,11.2662,11.1324,10.9983,10.8642 ,10.7286,10.5257,10.3207,10.1157, 9.97973,9.83982,9.63437,9.49535,9.35522 ,9.28646,9.2663,9.28832,9.30615,9.31773 ,9.32596,9.33852,9.35062,9.35985, 9.36896,9.37766,9.3908,9.39187,9.39272, 9.53217,9.67169,9.81088,9.94864,10.0863 ,10.2223,10.4278,10.565,10.7006,10.8377 ,11.041,11.1749,11.3083,11.4425,11.5769 ,11.7112,11.8455,12.0451,12.1767,12.374 ,12.5054,12.7029,12.8345,13.0318, 13.2247,13.3538,13.4828,13.6763,13.8054 ,13.9345,14.0639,14.3185,14.508,14.7608 ,15.0769,15.2666,15.5766,15.8861, 15.9479,15.9989)
FOOTPRINT_POINT_LONGITUDE = (315.132,314.873,314.611,314.344, 314.209,314.072,313.935,313.796,313.656 ,313.443,313.426,313.385,313.384, 313.382,313.379,313.376,313.372,313.368 ,313.366,313.363,313.36,313.357,313.355 ,313.351,313.349,313.347,313.345, 313.341,313.337,313.335,313.331,313.329 ,313.328,313.326,313.324,313.321, 313.318,313.315,313.313,313.308,313.304 ,313.301,313.295,313.293,313.29,313.286 ,313.285,313.285,313.577,313.828, 313.998,314.13,314.317,314.503,314.65, 314.796,314.941,315.156,315.174,315.183 ,315.182,315.181,315.179,315.178, 315.177,315.176,315.174,315.173,315.172 ,315.171,315.169,315.168,315.167, 315.165,315.164,315.163,315.162,315.16, 315.159,315.157,315.156,315.154,315.153 ,315.151,315.149,315.148,315.147, 315.145,315.143,315.142,315.141,315.139 ,315.137,315.134,315.131,315.129, 315.125,315.122,315.121,315.132)
ORBIT_NUMBER = 13672
ORBITAL_ECCENTRICITY = 0.574
ORBITAL_INCLINATION = 86.92
ORBITAL_SEMIMAJOR_AXIS = 8815.05
PERIAPSIS_ALTITUDE = 368.07
PERIAPSIS_ARGUMENT_ANGLE = 141.63
PERIAPSIS_TIME = 2014-10-08T23:39:41.000Z
SPACECRAFT_ORIENTATION = (0.0,-1.0,0.0)
^MEX_ORIENTATION_DESC = "MEX_ORIENTATION_DESC.TXT"
SPACECRAFT_POINTING_MODE = ACROSSTRACK
^MEX_POINTING_DESC = "MEX_POINTING_DESC.TXT"
RIGHT_ASCENSION = -1e+32
DECLINATION = -1e+32
OFFSET_ANGLE = -1.6
SPACECRAFT_SOLAR_DISTANCE = 2.10909e+08
TARGET_NAME = MARS
/* CAMERA DATA ELEMENTS */
DETECTOR_TEMPERATURE = 16.7393
FOCAL_PLANE_TEMPERATURE = 8.7872
INST_CMPRS_NAME = "DISCRETE COSINE TRANSFORMATION (DCT)"
INST_CMPRS_RATIO = 9.18015
INST_CMPRS_QUALITY = 0
INST_CMPRS_QUANTZ_TBL_ID = 0
INSTRUMENT_TEMPERATURE = 11.6418
LENS_TEMPERATURE = 10.0106
MACROPIXEL_SIZE = 1
MISSING_FRAMES = 0
PIXEL_SUBSAMPLING_FLAG = N
SIGNAL_CHAIN_ID = 2
/* RADIOMETRIC DATA ELEMENTS */
BANDWIDTH = 180.0
CENTER_FILTER_WAVELENGTH = 677.0
RADIANCE_OFFSET = 4.90296
RADIANCE_SCALING_FACTOR = 0.0110557
REFLECTANCE_SCALING_FACTOR = 0.000256575
MEX:REFLECTANCE_OFFSET = 0.113785
/* IMAGE OBJECT DEFINITIONS */
OBJECT = IMAGE
  INTERCHANGE_FORMAT = BINARY
  LINES = 15603
  LINE_SAMPLES = 4697
  SAMPLE_TYPE = UNSIGNED_INTEGER
  SAMPLE_BITS = 8
  BANDS = 1
  BAND_STORAGE_TYPE = BAND_SEQUENTIAL
  MAXIMUM = 255
  MEAN = 126.66
  MINIMUM = 1
  STANDARD_DEVIATION = 34.5917
END_OBJECT = IMAGE
/* MAP OBJECT DEFINITIONS */
OBJECT = IMAGE_MAP_PROJECTION
  ^DATA_SET_MAP_PROJECTION_CATALOG= "DSMAP.CAT"
  A_AXIS_RADIUS = 3396.0
  B_AXIS_RADIUS = 3396.0
  C_AXIS_RADIUS = 3396.0
  CENTER_LATITUDE = 0.0
  CENTER_LONGITUDE = 314.0
  COORDINATE_SYSTEM_NAME = PLANETOGRAPHIC
  COORDINATE_SYSTEM_TYPE = "BODY-FIXED ROTATING"
  EASTERNMOST_LONGITUDE = 315.183
  FIRST_STANDARD_PARALLEL = "N/A"
  LINE_FIRST_PIXEL = 1
  LINE_LAST_PIXEL = 15603
  LINE_PROJECTION_OFFSET = 37729.0
  MAP_PROJECTION_ROTATION = 0.0
  MAP_PROJECTION_TYPE = SINUSOIDAL
  MAP_RESOLUTION = 2370.85521546667
  MAP_SCALE = 0.025
  MAXIMUM_LATITUDE = 15.9989
  MINIMUM_LATITUDE = 9.266299999999999
  POSITIVE_LONGITUDE_DIRECTION = EAST
  REFERENCE_LATITUDE = "N/A"
  REFERENCE_LONGITUDE = "N/A"
  SAMPLE_FIRST_PIXEL = 1
  SAMPLE_LAST_PIXEL = 4697
  SAMPLE_PROJECTION_OFFSET = 1774.0
  SECOND_STANDARD_PARALLEL = "N/A"
  WESTERNMOST_LONGITUDE = 313.285
END_OBJECT = IMAGE_MAP_PROJECTION
END
