PDS_VERSION_ID = PDS3
/* FILE DATA ELEMENTS */
RECORD_TYPE = UNDEFINED
/* POINTERS TO DATA OBJECTS */
^IMAGE = ("HD670_0000_ND4.TIF")
/* IDENTIFICATION DATA ELEMENTS */
DATA_SET_ID = "MEX-M-HRSC-4-REFDR-MAPPROJECT-EXT4-V4.0"
DATA_SET_NAME = "MARS EXPRESS HRSC MAP PROJECTED REFDR EXTENSION4 V4.0"
DETECTOR_ID = MEX_HRSC_NADIR
EVENT_TYPE = "MARS-REGIONAL-MAPPING-Vo-Gl-Pf"
INSTRUMENT_HOST_ID = MEX
INSTRUMENT_HOST_NAME = "MARS EXPRESS"
INSTRUMENT_ID = HRSC
INSTRUMENT_NAME = "HIGH RESOLUTION STEREO CAMERA"
MISSION_NAME = "MARS EXPRESS"
MISSION_PHASE_NAME = ME_Phase_31
PROCESSING_LEVEL_ID = 4
PRODUCT_CREATION_TIME = 2023-02-01T02:09:17.000Z
PRODUCT_ID = "HD670_0000_ND4.TIF"
RELEASE_ID = 0005
REVISION_ID = 0000
/* QUALITY DATA ELEMENTS */
DATA_QUALITY_ID = 1
DATA_QUALITY_DESC = "Data calculated based on original SPICE kernels"
/* TIME DATA ELEMENTS */
SPACECRAFT_CLOCK_START_COUNT = "1/0360841240.08310"
SPACECRAFT_CLOCK_STOP_COUNT = "1/0360841484.63842"
START_TIME = 2014-10-08T09:41:19.123Z
STOP_TIME = 2014-10-08T09:44:10.127Z
/* ORBITAL DATA ELEMENTS */
ASCENDING_NODE_LONGITUDE = 317.07
MAXIMUM_RESOLUTION = 0.0149
FOOTPRINT_POINT_LATITUDE = (35.8876,35.8832,35.8783,35.8744, 35.8679,35.8676,35.8681,35.3873,35.0026 ,34.6181,34.1376,33.7533,33.3692,33.029 ,32.7999,32.5708,32.3418,32.1129, 31.8841,31.6553,31.4266,31.1979,30.9694 ,30.7409,30.5125,30.2842,30.056,29.8279 ,29.5998,29.3719,29.1441,28.9163, 28.6887,28.4612,28.2337,28.0064,27.7792 ,27.5522,27.3252,27.0984,26.8717, 26.6451,26.4187,26.1924,25.9662,25.7401 ,25.5142,25.2885,25.0628,24.9501, 24.9386,24.9402,24.9417,24.9418,24.941, 24.9409,24.9411,25.167,25.3931,25.6193, 25.8456,26.072,26.2986,26.5254,26.7522, 26.9792,27.2063,27.4335,27.6609,27.8884 ,28.116,28.3438,28.6856,28.9135,29.1416 ,29.3699,29.5982,29.8266,30.0551, 30.2836,30.5123,30.741,31.0843,31.4277, 31.6568,31.8861,32.1153,32.3446,32.574, 32.8035,33.033,33.3756,33.6642,34.0492, 34.4343,34.8195,35.2048,35.7829,35.8793 ,35.8876)
FOOTPRINT_POINT_LONGITUDE = (161.148,160.64,160.24,159.979,159.61, 159.594,159.564,159.578,159.588,159.598 ,159.609,159.618,159.626,159.633, 159.637,159.641,159.646,159.65,159.654, 159.657,159.661,159.664,159.667,159.67, 159.673,159.676,159.678,159.681,159.683 ,159.685,159.687,159.689,159.691, 159.692,159.694,159.695,159.696,159.697 ,159.698,159.699,159.699,159.7,159.7, 159.7,159.7,159.701,159.7,159.7,159.7, 159.7,159.7,159.991,160.449,160.893, 161.23,161.246,161.253,161.252,161.251, 161.25,161.248,161.247,161.246,161.244, 161.243,161.241,161.24,161.238,161.236, 161.235,161.234,161.233,161.232,161.229 ,161.228,161.226,161.224,161.223, 161.221,161.219,161.217,161.215,161.212 ,161.208,161.206,161.206,161.205, 161.203,161.201,161.199,161.197,161.194 ,161.192,161.188,161.185,161.181, 161.177,161.171,161.171,161.148)
ORBIT_NUMBER = 13670
ORBITAL_ECCENTRICITY = 0.574
ORBITAL_INCLINATION = 86.91
ORBITAL_SEMIMAJOR_AXIS = 8816.3
PERIAPSIS_ALTITUDE = 368.4
PERIAPSIS_ARGUMENT_ANGLE = 141.98
PERIAPSIS_TIME = 2014-10-08T09:40:46.000Z
SPACECRAFT_ORIENTATION = (0.0,-1.0,0.0)
^MEX_ORIENTATION_DESC = "MEX_ORIENTATION_DESC.TXT"
SPACECRAFT_POINTING_MODE = NADIR
^MEX_POINTING_DESC = "MEX_POINTING_DESC.TXT"
RIGHT_ASCENSION = -1e+32
DECLINATION = -1e+32
OFFSET_ANGLE = -1e+32
SPACECRAFT_SOLAR_DISTANCE = 2.10983e+08
TARGET_NAME = MARS
/* CAMERA DATA ELEMENTS */
DETECTOR_TEMPERATURE = 18.7783
FOCAL_PLANE_TEMPERATURE = 8.7872
INST_CMPRS_NAME = "DISCRETE COSINE TRANSFORMATION (DCT)"
INST_CMPRS_RATIO = 6.88487
INST_CMPRS_QUALITY = 0
INST_CMPRS_QUANTZ_TBL_ID = 0
INSTRUMENT_TEMPERATURE = 11.8457
LENS_TEMPERATURE = 9.3989
MACROPIXEL_SIZE = 1
MISSING_FRAMES = 0
PIXEL_SUBSAMPLING_FLAG = N
SIGNAL_CHAIN_ID = 0
/* RADIOMETRIC DATA ELEMENTS */
BANDWIDTH = 177.0
CENTER_FILTER_WAVELENGTH = 677.5
RADIANCE_OFFSET = 2.30851
RADIANCE_SCALING_FACTOR = 0.0119979
REFLECTANCE_SCALING_FACTOR = 0.000283716
MEX:REFLECTANCE_OFFSET = 0.0545896
/* IMAGE OBJECT DEFINITIONS */
OBJECT = IMAGE
  INTERCHANGE_FORMAT = BINARY
  LINES = 51924
  LINE_SAMPLES = 7064
  SAMPLE_TYPE = UNSIGNED_INTEGER
  SAMPLE_BITS = 8
  BANDS = 1
  BAND_STORAGE_TYPE = BAND_SEQUENTIAL
  MAXIMUM = 255
  MEAN = 97.1269
  MINIMUM = 1
  STANDARD_DEVIATION = 32.4248
END_OBJECT = IMAGE
/* MAP OBJECT DEFINITIONS */
OBJECT = IMAGE_MAP_PROJECTION
  ^DATA_SET_MAP_PROJECTION_CATALOG= "DSMAP.CAT"
  A_AXIS_RADIUS = 3396.0
  B_AXIS_RADIUS = 3396.0
  C_AXIS_RADIUS = 3396.0
  CENTER_LATITUDE = 0.0
  CENTER_LONGITUDE = 160.0
  COORDINATE_SYSTEM_NAME = PLANETOGRAPHIC
  COORDINATE_SYSTEM_TYPE = "BODY-FIXED ROTATING"
  EASTERNMOST_LONGITUDE = 161.253
  FIRST_STANDARD_PARALLEL = "N/A"
  LINE_FIRST_PIXEL = 1
  LINE_LAST_PIXEL = 51924
  LINE_PROJECTION_OFFSET = 170175.0
  MAP_PROJECTION_ROTATION = 0.0
  MAP_PROJECTION_TYPE = SINUSOIDAL
  MAP_RESOLUTION = 4741.71043093333
  MAP_SCALE = 0.0125
  MAXIMUM_LATITUDE = 35.8876
  MINIMUM_LATITUDE = 24.9386
  POSITIVE_LONGITUDE_DIRECTION = EAST
  REFERENCE_LATITUDE = "N/A"
  REFERENCE_LONGITUDE = "N/A"
  SAMPLE_FIRST_PIXEL = 1
  SAMPLE_LAST_PIXEL = 7064
  SAMPLE_PROJECTION_OFFSET = 1674.0
  SECOND_STANDARD_PARALLEL = "N/A"
  WESTERNMOST_LONGITUDE = 159.564
END_OBJECT = IMAGE_MAP_PROJECTION
END
