PDS_VERSION_ID = PDS3
/* FILE DATA ELEMENTS */
RECORD_TYPE = UNDEFINED
/* POINTERS TO DATA OBJECTS */
^IMAGE = ("HD659_0000_S14.TIF")
/* IDENTIFICATION DATA ELEMENTS */
DATA_SET_ID = "MEX-M-HRSC-4-REFDR-MAPPROJECT-EXT4-V4.0"
DATA_SET_NAME = "MARS EXPRESS HRSC MAP PROJECTED REFDR EXTENSION4 V4.0"
DETECTOR_ID = MEX_HRSC_S1
EVENT_TYPE = "MARS-REGIONAL-MAPPING-Vo-Im-Pf"
INSTRUMENT_HOST_ID = MEX
INSTRUMENT_HOST_NAME = "MARS EXPRESS"
INSTRUMENT_ID = HRSC
INSTRUMENT_NAME = "HIGH RESOLUTION STEREO CAMERA"
MISSION_NAME = "MARS EXPRESS"
MISSION_PHASE_NAME = ME_Phase_31
PROCESSING_LEVEL_ID = 4
PRODUCT_CREATION_TIME = 2023-02-01T02:09:17.000Z
PRODUCT_ID = "HD659_0000_S14.TIF"
RELEASE_ID = 0005
REVISION_ID = 0000
/* QUALITY DATA ELEMENTS */
DATA_QUALITY_ID = 1
DATA_QUALITY_DESC = "Data calculated based on original SPICE kernels"
/* TIME DATA ELEMENTS */
SPACECRAFT_CLOCK_START_COUNT = "1/0360564473.07310"
SPACECRAFT_CLOCK_STOP_COUNT = "1/0360564731.55251"
START_TIME = 2014-10-05T04:47:58.856Z
STOP_TIME = 2014-10-05T04:50:47.877Z
/* ORBITAL DATA ELEMENTS */
ASCENDING_NODE_LONGITUDE = 317.28
MAXIMUM_RESOLUTION = 0.0325
FOOTPRINT_POINT_LATITUDE = (27.1426,27.0974,27.0478,27.0212, 26.9825,26.9807,26.9228,26.4928,25.955, 25.5245,25.2016,24.9864,24.771,24.5556, 24.3403,24.1248,23.8017,23.5862,23.2631 ,23.0477,22.8322,22.509,22.2936,22.078, 21.7549,21.5395,21.3241,21.1087,20.8932 ,20.5702,20.3548,20.1366,19.9155, 19.5839,19.2524,18.9208,18.5895,18.3672 ,18.1405,17.9139,17.574,17.3474,17.1209 ,16.8945,16.5482,16.3162,16.0841, 15.9681,15.9516,15.9902,16.0136,16.0357 ,16.0569,16.0926,16.0938,16.0948, 16.4435,16.7924,17.1369,17.3638,17.5908 ,17.8178,18.1584,18.3855,18.6116,18.833 ,19.1651,19.4973,19.8297,20.162,20.3836 ,20.5998,20.8156,21.0315,21.3553, 21.5712,21.7872,22.1111,22.3271,22.5431 ,22.759,22.975,23.1909,23.5148,23.7308, 24.0547,24.2705,24.4865,24.7024,25.0262 ,25.2421,25.4579,25.6737,25.8894,26.213 ,26.4287,26.6443,26.9676,27.0754, 27.1426)
FOOTPRINT_POINT_LONGITUDE = (204.207,203.742,203.259,203.011, 202.661,202.645,202.577,202.588,202.6, 202.61,202.616,202.621,202.625,202.629, 202.633,202.636,202.642,202.645,202.65, 202.653,202.656,202.66,202.663,202.665, 202.668,202.671,202.672,202.674,202.676 ,202.678,202.68,202.681,202.682,202.684 ,202.685,202.686,202.687,202.687, 202.687,202.687,202.687,202.687,202.686 ,202.686,202.685,202.684,202.683, 202.682,202.682,203.103,203.367,203.626 ,203.881,204.332,204.347,204.353, 204.349,204.345,204.341,204.338,204.336 ,204.333,204.329,204.326,204.323,204.32 ,204.316,204.311,204.307,204.302, 204.299,204.296,204.293,204.29,204.285, 204.281,204.278,204.273,204.27,204.266, 204.263,204.259,204.256,204.25,204.246, 204.241,204.237,204.233,204.229,204.223 ,204.219,204.215,204.211,204.207,204.2, 204.196,204.191,204.185,204.182, 204.207)
ORBIT_NUMBER = 13659
ORBITAL_ECCENTRICITY = 0.574
ORBITAL_INCLINATION = 86.91
ORBITAL_SEMIMAJOR_AXIS = 8819.75
PERIAPSIS_ALTITUDE = 366.52
PERIAPSIS_ARGUMENT_ANGLE = 143.86
PERIAPSIS_TIME = 2014-10-05T04:46:13.000Z
SPACECRAFT_ORIENTATION = (0.0,-1.0,0.0)
^MEX_ORIENTATION_DESC = "MEX_ORIENTATION_DESC.TXT"
SPACECRAFT_POINTING_MODE = ACROSSTRACK
^MEX_POINTING_DESC = "MEX_POINTING_DESC.TXT"
RIGHT_ASCENSION = -1e+32
DECLINATION = -1e+32
OFFSET_ANGLE = -1.6
SPACECRAFT_SOLAR_DISTANCE = 2.114e+08
TARGET_NAME = MARS
/* CAMERA DATA ELEMENTS */
DETECTOR_TEMPERATURE = 17.9627
FOCAL_PLANE_TEMPERATURE = 8.5833
INST_CMPRS_NAME = "DISCRETE COSINE TRANSFORMATION (DCT)"
INST_CMPRS_RATIO = 7.01157
INST_CMPRS_QUALITY = 0
INST_CMPRS_QUANTZ_TBL_ID = 0
INSTRUMENT_TEMPERATURE = 11.4379
LENS_TEMPERATURE = 8.9911
MACROPIXEL_SIZE = 2
MISSING_FRAMES = 0
PIXEL_SUBSAMPLING_FLAG = N
SIGNAL_CHAIN_ID = 1
/* RADIOMETRIC DATA ELEMENTS */
BANDWIDTH = 180.0
CENTER_FILTER_WAVELENGTH = 677.0
RADIANCE_OFFSET = 4.57344
RADIANCE_SCALING_FACTOR = 0.00967285
REFLECTANCE_SCALING_FACTOR = 0.00022553
MEX:REFLECTANCE_OFFSET = 0.106633
/* IMAGE OBJECT DEFINITIONS */
OBJECT = IMAGE
  INTERCHANGE_FORMAT = BINARY
  LINES = 26076
  LINE_SAMPLES = 3953
  SAMPLE_TYPE = UNSIGNED_INTEGER
  SAMPLE_BITS = 8
  BANDS = 1
  BAND_STORAGE_TYPE = BAND_SEQUENTIAL
  MAXIMUM = 255
  MEAN = 129.435
  MINIMUM = 1
  STANDARD_DEVIATION = 42.067
END_OBJECT = IMAGE
/* MAP OBJECT DEFINITIONS */
OBJECT = IMAGE_MAP_PROJECTION
  ^DATA_SET_MAP_PROJECTION_CATALOG= "DSMAP.CAT"
  A_AXIS_RADIUS = 3396.0
  B_AXIS_RADIUS = 3396.0
  C_AXIS_RADIUS = 3396.0
  CENTER_LATITUDE = 0.0
  CENTER_LONGITUDE = 204.0
  COORDINATE_SYSTEM_NAME = PLANETOGRAPHIC
  COORDINATE_SYSTEM_TYPE = "BODY-FIXED ROTATING"
  EASTERNMOST_LONGITUDE = 204.353
  FIRST_STANDARD_PARALLEL = "N/A"
  LINE_FIRST_PIXEL = 1
  LINE_LAST_PIXEL = 26076
  LINE_PROJECTION_OFFSET = 64116.75
  MAP_PROJECTION_ROTATION = 0.0
  MAP_PROJECTION_TYPE = SINUSOIDAL
  MAP_RESOLUTION = 2370.85521546667
  MAP_SCALE = 0.025
  MAXIMUM_LATITUDE = 27.1426
  MINIMUM_LATITUDE = 15.9516
  POSITIVE_LONGITUDE_DIRECTION = EAST
  REFERENCE_LATITUDE = "N/A"
  REFERENCE_LONGITUDE = "N/A"
  SAMPLE_FIRST_PIXEL = 1
  SAMPLE_LAST_PIXEL = 3953
  SAMPLE_PROJECTION_OFFSET = 3054.25
  SECOND_STANDARD_PARALLEL = "N/A"
  WESTERNMOST_LONGITUDE = 202.577
END_OBJECT = IMAGE_MAP_PROJECTION
END
