PDS_VERSION_ID = PDS3
/* FILE DATA ELEMENTS */
RECORD_TYPE = UNDEFINED
/* POINTERS TO DATA OBJECTS */
^IMAGE = ("HD645_0000_P14.TIF")
/* IDENTIFICATION DATA ELEMENTS */
DATA_SET_ID = "MEX-M-HRSC-4-REFDR-MAPPROJECT-EXT4-V4.0"
DATA_SET_NAME = "MARS EXPRESS HRSC MAP PROJECTED REFDR EXTENSION4 V4.0"
DETECTOR_ID = MEX_HRSC_P1
EVENT_TYPE = "MARS-REGIONAL-MAPPING-Vo-Mw"
INSTRUMENT_HOST_ID = MEX
INSTRUMENT_HOST_NAME = "MARS EXPRESS"
INSTRUMENT_ID = HRSC
INSTRUMENT_NAME = "HIGH RESOLUTION STEREO CAMERA"
MISSION_NAME = "MARS EXPRESS"
MISSION_PHASE_NAME = ME_Phase_31
PROCESSING_LEVEL_ID = 4
PRODUCT_CREATION_TIME = 2023-02-01T02:09:17.000Z
PRODUCT_ID = "HD645_0000_P14.TIF"
RELEASE_ID = 0005
REVISION_ID = 0000
/* QUALITY DATA ELEMENTS */
DATA_QUALITY_ID = 1
DATA_QUALITY_DESC = "Data calculated based on original SPICE kernels"
/* TIME DATA ELEMENTS */
SPACECRAFT_CLOCK_START_COUNT = "1/0360212270.09062"
SPACECRAFT_CLOCK_STOP_COUNT = "1/0360212484.14824"
START_TIME = 2014-10-01T02:58:09.258Z
STOP_TIME = 2014-10-01T02:59:58.207Z
/* ORBITAL DATA ELEMENTS */
ASCENDING_NODE_LONGITUDE = 317.54
MAXIMUM_RESOLUTION = 0.0365
FOOTPRINT_POINT_LATITUDE = (12.642,12.653,12.6604,12.6674,12.6738, 12.6798,12.6852,12.6856,12.6644,12.2759 ,12.0152,11.7546,11.4291,11.0984, 10.8322,10.4997,10.234,10.0992,9.96331, 9.82758,9.62403,9.48832,9.28497,9.14938 ,9.01172,8.87315,8.73465,8.59627, 8.38888,8.25063,8.11262,7.9714,7.83007, 7.68884,7.4773,7.33622,7.19568,6.98107, 6.8374,6.69437,6.55051,6.40707,6.26339, 6.11812,5.898,5.82482,5.78854,5.78519, 5.78157,5.77637,5.77252,5.76834,5.76153 ,5.75622,5.75115,5.74256,5.73575, 5.73543,5.73583,5.88235,6.02894,6.17502 ,6.31879,6.46276,6.60627,6.75032, 6.96631,7.10961,7.25075,7.39186,7.53313 ,7.6745,7.81597,7.95749,8.16734,8.3058, 8.51366,8.65226,8.79095,8.92974,9.13632 ,9.27205,9.40774,9.54366,9.74745, 9.88337,10.0194,10.155,10.4209,10.6869, 10.9532,11.1532,11.2866,11.6123,11.8079 ,12.1341,12.3299,12.5253,12.589,12.642)
FOOTPRINT_POINT_LONGITUDE = (198.128,197.786,197.539,197.294,197.05 ,196.807,196.566,196.55,196.543,196.534 ,196.528,196.521,196.514,196.506, 196.499,196.49,196.484,196.48,196.477, 196.473,196.468,196.464,196.458,196.455 ,196.451,196.447,196.443,196.439, 196.433,196.429,196.425,196.421,196.417 ,196.413,196.407,196.402,196.398, 196.392,196.387,196.383,196.378,196.374 ,196.369,196.365,196.358,196.355, 196.354,196.491,196.628,196.818,196.956 ,197.112,197.337,197.512,197.669, 197.932,198.127,198.144,198.15,198.15, 198.15,198.149,198.149,198.149,198.149, 198.148,198.148,198.148,198.147,198.147 ,198.147,198.147,198.146,198.146, 198.146,198.145,198.145,198.145,198.145 ,198.145,198.144,198.144,198.144, 198.144,198.144,198.144,198.144,198.144 ,198.144,198.144,198.145,198.145, 198.145,198.145,198.145,198.145,198.145 ,198.145,198.145,198.128)
ORBIT_NUMBER = 13645
ORBITAL_ECCENTRICITY = 0.574
ORBITAL_INCLINATION = 86.91
ORBITAL_SEMIMAJOR_AXIS = 8822.15
PERIAPSIS_ALTITUDE = 365.02
PERIAPSIS_ARGUMENT_ANGLE = 146.28
PERIAPSIS_TIME = 2014-10-01T02:53:05.000Z
SPACECRAFT_ORIENTATION = (0.0,-1.0,0.0)
^MEX_ORIENTATION_DESC = "MEX_ORIENTATION_DESC.TXT"
SPACECRAFT_POINTING_MODE = ACROSSTRACK
^MEX_POINTING_DESC = "MEX_POINTING_DESC.TXT"
RIGHT_ASCENSION = -1e+32
DECLINATION = -1e+32
OFFSET_ANGLE = 0.539
SPACECRAFT_SOLAR_DISTANCE = 2.11953e+08
TARGET_NAME = MARS
/* CAMERA DATA ELEMENTS */
DETECTOR_TEMPERATURE = 17.9627
FOCAL_PLANE_TEMPERATURE = 8.9911
INST_CMPRS_NAME = "DISCRETE COSINE TRANSFORMATION (DCT)"
INST_CMPRS_RATIO = 5.50032
INST_CMPRS_QUALITY = 0
INST_CMPRS_QUANTZ_TBL_ID = 0
INSTRUMENT_TEMPERATURE = 11.8457
LENS_TEMPERATURE = 8.9911
MACROPIXEL_SIZE = 2
MISSING_FRAMES = 0
PIXEL_SUBSAMPLING_FLAG = N
SIGNAL_CHAIN_ID = 3
/* RADIOMETRIC DATA ELEMENTS */
BANDWIDTH = 174.0
CENTER_FILTER_WAVELENGTH = 675.0
RADIANCE_OFFSET = 3.47238
RADIANCE_SCALING_FACTOR = 0.0108726
REFLECTANCE_SCALING_FACTOR = 0.000262723
MEX:REFLECTANCE_OFFSET = 0.0839055
/* IMAGE OBJECT DEFINITIONS */
OBJECT = IMAGE
  INTERCHANGE_FORMAT = BINARY
  LINES = 16354
  LINE_SAMPLES = 4418
  SAMPLE_TYPE = UNSIGNED_INTEGER
  SAMPLE_BITS = 8
  BANDS = 1
  BAND_STORAGE_TYPE = BAND_SEQUENTIAL
  MAXIMUM = 255
  MEAN = 110.027
  MINIMUM = 1
  STANDARD_DEVIATION = 24.7047
END_OBJECT = IMAGE
/* MAP OBJECT DEFINITIONS */
OBJECT = IMAGE_MAP_PROJECTION
  ^DATA_SET_MAP_PROJECTION_CATALOG= "DSMAP.CAT"
  A_AXIS_RADIUS = 3396.0
  B_AXIS_RADIUS = 3396.0
  C_AXIS_RADIUS = 3396.0
  CENTER_LATITUDE = 0.0
  CENTER_LONGITUDE = 197.0
  COORDINATE_SYSTEM_NAME = PLANETOGRAPHIC
  COORDINATE_SYSTEM_TYPE = "BODY-FIXED ROTATING"
  EASTERNMOST_LONGITUDE = 198.15
  FIRST_STANDARD_PARALLEL = "N/A"
  LINE_FIRST_PIXEL = 1
  LINE_LAST_PIXEL = 16354
  LINE_PROJECTION_OFFSET = 30020.25
  MAP_PROJECTION_ROTATION = 0.0
  MAP_PROJECTION_TYPE = SINUSOIDAL
  MAP_RESOLUTION = 2370.85521546667
  MAP_SCALE = 0.025
  MAXIMUM_LATITUDE = 12.6856
  MINIMUM_LATITUDE = 5.73543
  POSITIVE_LONGITUDE_DIRECTION = EAST
  REFERENCE_LATITUDE = "N/A"
  REFERENCE_LONGITUDE = "N/A"
  SAMPLE_FIRST_PIXEL = 1
  SAMPLE_LAST_PIXEL = 4418
  SAMPLE_PROJECTION_OFFSET = 1624.25
  SECOND_STANDARD_PARALLEL = "N/A"
  WESTERNMOST_LONGITUDE = 196.354
END_OBJECT = IMAGE_MAP_PROJECTION
END
