PDS_VERSION_ID = PDS3
/* FILE DATA ELEMENTS */
RECORD_TYPE = UNDEFINED
/* POINTERS TO DATA OBJECTS */
^IMAGE = ("HD640_0000_ND4.TIF")
/* IDENTIFICATION DATA ELEMENTS */
DATA_SET_ID = "MEX-M-HRSC-4-REFDR-MAPPROJECT-EXT4-V4.0"
DATA_SET_NAME = "MARS EXPRESS HRSC MAP PROJECTED REFDR EXTENSION4 V4.0"
DETECTOR_ID = MEX_HRSC_NADIR
EVENT_TYPE = "MARS-LOCAL-STEREO-Fl-Tc-Ts"
INSTRUMENT_HOST_ID = MEX
INSTRUMENT_HOST_NAME = "MARS EXPRESS"
INSTRUMENT_ID = HRSC
INSTRUMENT_NAME = "HIGH RESOLUTION STEREO CAMERA"
MISSION_NAME = "MARS EXPRESS"
MISSION_PHASE_NAME = ME_Phase_31
PROCESSING_LEVEL_ID = 4
PRODUCT_CREATION_TIME = 2023-02-01T02:09:17.000Z
PRODUCT_ID = "HD640_0000_ND4.TIF"
RELEASE_ID = 0005
REVISION_ID = 0000
/* QUALITY DATA ELEMENTS */
DATA_QUALITY_ID = 1
DATA_QUALITY_DESC = "Data calculated based on original SPICE kernels"
/* TIME DATA ELEMENTS */
SPACECRAFT_CLOCK_START_COUNT = "1/0360086440.08266"
SPACECRAFT_CLOCK_STOP_COUNT = "1/0360086630.00280"
START_TIME = 2014-09-29T16:01:28.344Z
STOP_TIME = 2014-09-29T16:02:56.319Z
/* ORBITAL DATA ELEMENTS */
ASCENDING_NODE_LONGITUDE = 317.64
MAXIMUM_RESOLUTION = 0.0188
FOOTPRINT_POINT_LATITUDE = (10.1389,10.1421,10.1438,10.1455, 10.1471,10.1487,10.1502,10.1517,10.1531 ,10.1545,10.1567,10.1579,10.1581, 10.1582,9.90678,9.70365,9.50076,9.29808 ,9.09563,8.78642,8.57993,8.37367, 8.16764,7.90565,7.69559,7.48579,7.27624 ,7.17009,7.0632,6.95638,6.84962,6.74293 ,6.63632,6.52977,6.42329,6.31563, 6.20702,6.09848,5.99002,5.88162,5.7733, 5.66506,5.50168,5.39136,5.28112,5.17095 ,5.06084,4.95096,4.89598,4.8793,4.87718 ,4.8754,4.87345,4.87097,4.86895,4.8661, 4.86423,4.86184,4.85861,4.85582,4.85321 ,4.85292,4.85308,4.9632,5.07342,5.1837, 5.29407,5.4045,5.56947,5.67777,5.78616, 5.89465,6.00321,6.11186,6.22057,6.3831, 6.48972,6.59639,6.70314,6.80996,6.91685 ,7.02381,7.13084,7.23746,7.44727, 7.65733,7.86764,7.97289,8.13029,8.33657 ,8.54308,8.74983,9.05977,9.26249, 9.46542,9.66857,9.87194,10.0742,10.124, 10.1389)
FOOTPRINT_POINT_LONGITUDE = (349.49,349.255,349.121,348.988,348.855 ,348.723,348.591,348.459,348.328, 348.197,347.969,347.839,347.823,347.814 ,347.807,347.801,347.795,347.79,347.784 ,347.775,347.769,347.762,347.756, 347.748,347.742,347.736,347.729,347.726 ,347.722,347.719,347.716,347.712, 347.709,347.705,347.702,347.698,347.695 ,347.691,347.687,347.684,347.68,347.676 ,347.671,347.667,347.663,347.66,347.656 ,347.651,347.65,347.649,347.812,347.94, 348.086,348.269,348.415,348.617,348.746 ,348.913,349.138,349.324,349.492, 349.511,349.52,349.519,349.52,349.52, 349.52,349.52,349.518,349.515,349.514, 349.513,349.512,349.512,349.512,349.511 ,349.51,349.509,349.509,349.509,349.509 ,349.508,349.508,349.508,349.508, 349.507,349.507,349.506,349.506,349.505 ,349.504,349.504,349.503,349.503, 349.502,349.502,349.502,349.501,349.501 ,349.49)
ORBIT_NUMBER = 13640
ORBITAL_ECCENTRICITY = 0.575
ORBITAL_INCLINATION = 86.9
ORBITAL_SEMIMAJOR_AXIS = 8824.57
PERIAPSIS_ALTITUDE = 364.55
PERIAPSIS_ARGUMENT_ANGLE = 147.13
PERIAPSIS_TIME = 2014-09-29T15:55:30.000Z
SPACECRAFT_ORIENTATION = (0.0,-1.0,0.0)
^MEX_ORIENTATION_DESC = "MEX_ORIENTATION_DESC.TXT"
SPACECRAFT_POINTING_MODE = ACROSSTRACK
^MEX_POINTING_DESC = "MEX_POINTING_DESC.TXT"
RIGHT_ASCENSION = -1e+32
DECLINATION = -1e+32
OFFSET_ANGLE = 0.6
SPACECRAFT_SOLAR_DISTANCE = 2.12156e+08
TARGET_NAME = MARS
/* CAMERA DATA ELEMENTS */
DETECTOR_TEMPERATURE = 18.5744
FOCAL_PLANE_TEMPERATURE = 9.3989
INST_CMPRS_NAME = "DISCRETE COSINE TRANSFORMATION (DCT)"
INST_CMPRS_RATIO = 6.79078
INST_CMPRS_QUALITY = 0
INST_CMPRS_QUANTZ_TBL_ID = 0
INSTRUMENT_TEMPERATURE = 12.0496
LENS_TEMPERATURE = 9.6028
MACROPIXEL_SIZE = 1
MISSING_FRAMES = 0
PIXEL_SUBSAMPLING_FLAG = N
SIGNAL_CHAIN_ID = 0
/* RADIOMETRIC DATA ELEMENTS */
BANDWIDTH = 177.0
CENTER_FILTER_WAVELENGTH = 677.5
RADIANCE_OFFSET = 2.44728
RADIANCE_SCALING_FACTOR = 0.0104369
REFLECTANCE_SCALING_FACTOR = 0.000249555
MEX:REFLECTANCE_OFFSET = 0.0585164
/* IMAGE OBJECT DEFINITIONS */
OBJECT = IMAGE
  INTERCHANGE_FORMAT = BINARY
  LINES = 12580
  LINE_SAMPLES = 4420
  SAMPLE_TYPE = UNSIGNED_INTEGER
  SAMPLE_BITS = 8
  BANDS = 1
  BAND_STORAGE_TYPE = BAND_SEQUENTIAL
  MAXIMUM = 255
  MEAN = 103.317
  MINIMUM = 1
  STANDARD_DEVIATION = 23.873
END_OBJECT = IMAGE
/* MAP OBJECT DEFINITIONS */
OBJECT = IMAGE_MAP_PROJECTION
  ^DATA_SET_MAP_PROJECTION_CATALOG= "DSMAP.CAT"
  A_AXIS_RADIUS = 3396.0
  B_AXIS_RADIUS = 3396.0
  C_AXIS_RADIUS = 3396.0
  CENTER_LATITUDE = 0.0
  CENTER_LONGITUDE = 349.0
  COORDINATE_SYSTEM_NAME = PLANETOGRAPHIC
  COORDINATE_SYSTEM_TYPE = "BODY-FIXED ROTATING"
  EASTERNMOST_LONGITUDE = 349.52
  FIRST_STANDARD_PARALLEL = "N/A"
  LINE_FIRST_PIXEL = 1
  LINE_LAST_PIXEL = 12580
  LINE_PROJECTION_OFFSET = 24084.0
  MAP_PROJECTION_ROTATION = 0.0
  MAP_PROJECTION_TYPE = SINUSOIDAL
  MAP_RESOLUTION = 2370.85521546667
  MAP_SCALE = 0.025
  MAXIMUM_LATITUDE = 10.1582
  MINIMUM_LATITUDE = 4.85292
  POSITIVE_LONGITUDE_DIRECTION = EAST
  REFERENCE_LATITUDE = "N/A"
  REFERENCE_LONGITUDE = "N/A"
  SAMPLE_FIRST_PIXEL = 1
  SAMPLE_LAST_PIXEL = 4420
  SAMPLE_PROJECTION_OFFSET = 3190.0
  SECOND_STANDARD_PARALLEL = "N/A"
  WESTERNMOST_LONGITUDE = 347.649
END_OBJECT = IMAGE_MAP_PROJECTION
END
