PDS_VERSION_ID = PDS3
/* FILE DATA ELEMENTS */
RECORD_TYPE = UNDEFINED
/* POINTERS TO DATA OBJECTS */
^IMAGE = ("HD636_0000_GR4.TIF")
/* IDENTIFICATION DATA ELEMENTS */
DATA_SET_ID = "MEX-M-HRSC-4-REFDR-MAPPROJECT-EXT4-V4.0"
DATA_SET_NAME = "MARS EXPRESS HRSC MAP PROJECTED REFDR EXTENSION4 V4.0"
DETECTOR_ID = MEX_HRSC_GREEN
EVENT_TYPE = "MARS-REGIONAL-MAPPING-Im-Fl"
INSTRUMENT_HOST_ID = MEX
INSTRUMENT_HOST_NAME = "MARS EXPRESS"
INSTRUMENT_ID = HRSC
INSTRUMENT_NAME = "HIGH RESOLUTION STEREO CAMERA"
MISSION_NAME = "MARS EXPRESS"
MISSION_PHASE_NAME = ME_Phase_31
PROCESSING_LEVEL_ID = 4
PRODUCT_CREATION_TIME = 2023-02-01T02:09:17.000Z
PRODUCT_ID = "HD636_0000_GR4.TIF"
RELEASE_ID = 0005
REVISION_ID = 0000
/* QUALITY DATA ELEMENTS */
DATA_QUALITY_ID = 1
DATA_QUALITY_DESC = "Data calculated based on original SPICE kernels"
/* TIME DATA ELEMENTS */
SPACECRAFT_CLOCK_START_COUNT = "1/0359985630.09035"
SPACECRAFT_CLOCK_STOP_COUNT = "1/0359985844.25167"
START_TIME = 2014-09-28T12:01:05.689Z
STOP_TIME = 2014-09-28T12:03:13.430Z
/* ORBITAL DATA ELEMENTS */
ASCENDING_NODE_LONGITUDE = 317.72
MAXIMUM_RESOLUTION = 0.1282
FOOTPRINT_POINT_LATITUDE = (17.9655,17.9668,17.9682,17.9694, 17.9704,17.971,17.9715,17.9717,17.9717, 17.9677,17.5104,17.2063,16.9785,16.6753 ,16.3713,16.1437,15.8368,15.6811, 15.5255,15.37,15.2145,15.0591,14.8262, 14.516,14.358,14.1992,14.0404,13.8818, 13.7232,13.5647,13.4063,13.1687,13.0072 ,12.8454,12.6025,12.4404,12.2786,12.117 ,11.9557,11.7089,11.5435,11.3783, 11.2134,11.0485,10.884,10.6344,10.4665, 10.2989,10.1306,10.0463,9.96217,9.96063 ,9.959,9.95658,9.95433,9.95109,9.94868, 9.94536,9.94516,9.94723,10.1159,10.2846 ,10.4533,10.6224,10.8724,11.0373, 11.2014,11.4486,11.6137,11.8621,12.1053 ,12.2674,12.4293,12.5911,12.7532, 12.9153,13.1583,13.3168,13.5549,13.7136 ,13.8718,14.0308,14.1906,14.3498, 14.5082,14.6636,14.8194,15.0529,15.2088 ,15.5194,15.6753,15.9857,16.2134, 16.5932,16.8974,17.1256,17.4301,17.811, 17.8873,17.9655)
FOOTPRINT_POINT_LONGITUDE = (37.8211,37.6581,37.4547,37.2375, 37.0205,36.8306,36.6136,36.3961,36.3825 ,36.3717,36.3664,36.3634,36.3612, 36.3589,36.3544,36.3513,36.3465,36.344, 36.3414,36.339,36.3363,36.3337,36.3296, 36.3243,36.3219,36.3192,36.3166,36.314, 36.3112,36.3084,36.3057,36.3012,36.2983 ,36.2959,36.2916,36.288,36.2849,36.2818 ,36.279,36.2734,36.2697,36.2663,36.2631 ,36.2599,36.257,36.2516,36.2492,36.247, 36.2432,36.2411,36.239,36.4478,36.6285, 36.8843,37.0949,37.3812,37.5621,37.8183 ,37.8334,37.8435,37.8426,37.8419, 37.8413,37.8404,37.8393,37.8393,37.8411 ,37.8418,37.8422,37.8417,37.8403, 37.8395,37.8392,37.8395,37.8391,37.839, 37.8383,37.8379,37.8369,37.8365,37.8373 ,37.8369,37.8348,37.834,37.8333,37.8324 ,37.8309,37.8294,37.8282,37.8285, 37.8277,37.8278,37.8274,37.8266,37.8261 ,37.8258,37.8254,37.8252,37.825, 37.8211)
ORBIT_NUMBER = 13636
ORBITAL_ECCENTRICITY = 0.575
ORBITAL_INCLINATION = 86.89
ORBITAL_SEMIMAJOR_AXIS = 8832.32
PERIAPSIS_ALTITUDE = 363.98
PERIAPSIS_ARGUMENT_ANGLE = 147.86
PERIAPSIS_TIME = 2014-09-28T11:57:31.000Z
SPACECRAFT_ORIENTATION = (0.0,-1.0,0.0)
^MEX_ORIENTATION_DESC = "MEX_ORIENTATION_DESC.TXT"
SPACECRAFT_POINTING_MODE = NADIR
^MEX_POINTING_DESC = "MEX_POINTING_DESC.TXT"
RIGHT_ASCENSION = -1e+32
DECLINATION = -1e+32
OFFSET_ANGLE = -1e+32
SPACECRAFT_SOLAR_DISTANCE = 2.12321e+08
TARGET_NAME = MARS
/* CAMERA DATA ELEMENTS */
DETECTOR_TEMPERATURE = 19.1861
FOCAL_PLANE_TEMPERATURE = 9.8067
INST_CMPRS_NAME = "DISCRETE COSINE TRANSFORMATION (DCT)"
INST_CMPRS_RATIO = 7.52676
INST_CMPRS_QUALITY = 0
INST_CMPRS_QUANTZ_TBL_ID = 0
INSTRUMENT_TEMPERATURE = 12.6613
LENS_TEMPERATURE = 10.6223
MACROPIXEL_SIZE = 8
MISSING_FRAMES = 0
PIXEL_SUBSAMPLING_FLAG = N
SIGNAL_CHAIN_ID = 2
/* RADIOMETRIC DATA ELEMENTS */
BANDWIDTH = 88.0
CENTER_FILTER_WAVELENGTH = 538.0
RADIANCE_OFFSET = 1.0445
RADIANCE_SCALING_FACTOR = 0.00298171
REFLECTANCE_SCALING_FACTOR = 0.000115729
MEX:REFLECTANCE_OFFSET = 0.0405401
/* IMAGE OBJECT DEFINITIONS */
OBJECT = IMAGE
  INTERCHANGE_FORMAT = BINARY
  LINES = 4760
  LINE_SAMPLES = 959
  SAMPLE_TYPE = UNSIGNED_INTEGER
  SAMPLE_BITS = 8
  BANDS = 1
  BAND_STORAGE_TYPE = BAND_SEQUENTIAL
  MAXIMUM = 255
  MEAN = 112.841
  MINIMUM = 1
  STANDARD_DEVIATION = 28.0971
END_OBJECT = IMAGE
/* MAP OBJECT DEFINITIONS */
OBJECT = IMAGE_MAP_PROJECTION
  ^DATA_SET_MAP_PROJECTION_CATALOG= "DSMAP.CAT"
  A_AXIS_RADIUS = 3396.0
  B_AXIS_RADIUS = 3396.0
  C_AXIS_RADIUS = 3396.0
  CENTER_LATITUDE = 0.0
  CENTER_LONGITUDE = 37.0
  COORDINATE_SYSTEM_NAME = PLANETOGRAPHIC
  COORDINATE_SYSTEM_TYPE = "BODY-FIXED ROTATING"
  EASTERNMOST_LONGITUDE = 37.8435
  FIRST_STANDARD_PARALLEL = "N/A"
  LINE_FIRST_PIXEL = 1
  LINE_LAST_PIXEL = 4760
  LINE_PROJECTION_OFFSET = 10662.6875
  MAP_PROJECTION_ROTATION = 0.0
  MAP_PROJECTION_TYPE = SINUSOIDAL
  MAP_RESOLUTION = 592.713803866667
  MAP_SCALE = 0.1
  MAXIMUM_LATITUDE = 17.9717
  MINIMUM_LATITUDE = 9.94516
  POSITIVE_LONGITUDE_DIRECTION = EAST
  REFERENCE_LATITUDE = "N/A"
  REFERENCE_LONGITUDE = "N/A"
  SAMPLE_FIRST_PIXEL = 1
  SAMPLE_LAST_PIXEL = 959
  SAMPLE_PROJECTION_OFFSET = 460.4375
  SECOND_STANDARD_PARALLEL = "N/A"
  WESTERNMOST_LONGITUDE = 36.239
END_OBJECT = IMAGE_MAP_PROJECTION
END
