PDS_VERSION_ID = PDS3
/* FILE DATA ELEMENTS */
RECORD_TYPE = UNDEFINED
/* POINTERS TO DATA OBJECTS */
^IMAGE = ("HD632_0000_S14.TIF")
/* IDENTIFICATION DATA ELEMENTS */
DATA_SET_ID = "MEX-M-HRSC-4-REFDR-MAPPROJECT-EXT4-V4.0"
DATA_SET_NAME = "MARS EXPRESS HRSC MAP PROJECTED REFDR EXTENSION4 V4.0"
DETECTOR_ID = MEX_HRSC_S1
EVENT_TYPE = "MARS-LOCAL-STEREO-Mw-Tc-Ts"
INSTRUMENT_HOST_ID = MEX
INSTRUMENT_HOST_NAME = "MARS EXPRESS"
INSTRUMENT_ID = HRSC
INSTRUMENT_NAME = "HIGH RESOLUTION STEREO CAMERA"
MISSION_NAME = "MARS EXPRESS"
MISSION_PHASE_NAME = ME_Phase_31
PROCESSING_LEVEL_ID = 4
PRODUCT_CREATION_TIME = 2023-02-01T02:09:17.000Z
PRODUCT_ID = "HD632_0000_S14.TIF"
RELEASE_ID = 0005
REVISION_ID = 0000
/* QUALITY DATA ELEMENTS */
DATA_QUALITY_ID = 1
DATA_QUALITY_DESC = "Data calculated based on original SPICE kernels"
/* TIME DATA ELEMENTS */
SPACECRAFT_CLOCK_START_COUNT = "1/0359885106.09040"
SPACECRAFT_CLOCK_STOP_COUNT = "1/0359885291.42586"
START_TIME = 2014-09-27T08:05:11.838Z
STOP_TIME = 2014-09-27T08:06:26.106Z
/* ORBITAL DATA ELEMENTS */
ASCENDING_NODE_LONGITUDE = 317.79
MAXIMUM_RESOLUTION = 0.0196
FOOTPRINT_POINT_LATITUDE = (7.01088,7.02143,7.02827,7.035,7.04154, 7.04792,7.05412,7.06017,7.06605,7.07178 ,7.07734,7.08279,7.08808,7.08873, 7.06435,6.92892,6.79072,6.60591,6.37503 ,6.19044,6.00594,5.82154,5.63315, 5.49181,5.35051,5.16207,4.97381,4.78573 ,4.64176,4.49771,4.40157,4.30554, 4.16215,4.06625,3.96976,3.874,3.72871, 3.63076,3.53423,3.3888,3.29154,3.19541, 3.0509,2.95139,2.85318,2.75376,2.60535, 2.45674,2.35965,2.30975,2.30784,2.30271 ,2.2971,2.29252,2.28635,2.27948,2.27367 ,2.26703,2.25667,2.24968,2.24551,2.2454 ,2.24192,2.24096,2.23986,2.42703, 2.57408,2.67227,2.77172,2.86763,2.9662, 3.06545,3.16086,3.2565,3.35383,3.45247, 3.60253,3.74302,3.83777,3.93344,4.02941 ,4.17365,4.26983,4.36595,4.51039,4.6067 ,4.79691,4.93821,5.12676,5.36249, 5.55119,5.64563,5.83244,6.06316,6.29413 ,6.47888,6.66381,6.93849,6.98371, 7.01088)
FOOTPRINT_POINT_LONGITUDE = (87.5584,87.3606,87.2293,87.0986, 86.9683,86.8385,86.7091,86.5804,86.4521 ,86.3242,86.1967,86.0696,85.9428,85.927 ,85.9184,85.9146,85.9108,85.9056,85.899 ,85.8938,85.8884,85.8831,85.8776, 85.8734,85.8692,85.8636,85.8579,85.8522 ,85.8478,85.8433,85.8404,85.8374, 85.8329,85.8299,85.8269,85.8239,85.8193 ,85.8162,85.8131,85.8085,85.8054, 85.8023,85.7977,85.7944,85.7912,85.7879 ,85.7831,85.7782,85.775,85.7734,85.7733 ,85.9123,86.052,86.2444,86.3848,86.4907 ,86.6142,86.7735,86.9872,87.1302, 87.2372,87.3952,87.5371,87.5551,87.5645 ,87.5706,87.5718,87.5725,87.5725, 87.5733,87.5728,87.5718,87.573,87.5741, 87.5743,87.5738,87.5719,87.5749,87.5754 ,87.5755,87.5754,87.5751,87.575,87.5749 ,87.5746,87.5745,87.5742,87.5741, 87.5738,87.5736,87.5734,87.5733,87.5731 ,87.573,87.5729,87.5728,87.5728,87.5727 ,87.5727,87.5584)
ORBIT_NUMBER = 13632
ORBITAL_ECCENTRICITY = 0.575
ORBITAL_INCLINATION = 86.91
ORBITAL_SEMIMAJOR_AXIS = 8834.85
PERIAPSIS_ALTITUDE = 362.73
PERIAPSIS_ARGUMENT_ANGLE = 148.52
PERIAPSIS_TIME = 2014-09-27T07:59:29.000Z
SPACECRAFT_ORIENTATION = (0.0,-1.0,0.0)
^MEX_ORIENTATION_DESC = "MEX_ORIENTATION_DESC.TXT"
SPACECRAFT_POINTING_MODE = ACROSSTRACK
^MEX_POINTING_DESC = "MEX_POINTING_DESC.TXT"
RIGHT_ASCENSION = -1e+32
DECLINATION = -1e+32
OFFSET_ANGLE = 0.7
SPACECRAFT_SOLAR_DISTANCE = 2.12488e+08
TARGET_NAME = MARS
/* CAMERA DATA ELEMENTS */
DETECTOR_TEMPERATURE = 17.7588
FOCAL_PLANE_TEMPERATURE = 8.3794
INST_CMPRS_NAME = "DISCRETE COSINE TRANSFORMATION (DCT)"
INST_CMPRS_RATIO = 8.75869
INST_CMPRS_QUALITY = 0
INST_CMPRS_QUANTZ_TBL_ID = 0
INSTRUMENT_TEMPERATURE = 11.4379
LENS_TEMPERATURE = 8.7872
MACROPIXEL_SIZE = 1
MISSING_FRAMES = 0
PIXEL_SUBSAMPLING_FLAG = N
SIGNAL_CHAIN_ID = 2
/* RADIOMETRIC DATA ELEMENTS */
BANDWIDTH = 180.0
CENTER_FILTER_WAVELENGTH = 677.0
RADIANCE_OFFSET = 3.01478
RADIANCE_SCALING_FACTOR = 0.00654264
REFLECTANCE_SCALING_FACTOR = 0.000154121
MEX:REFLECTANCE_OFFSET = 0.0710174
/* IMAGE OBJECT DEFINITIONS */
OBJECT = IMAGE
  INTERCHANGE_FORMAT = BINARY
  LINES = 11363
  LINE_SAMPLES = 4522
  SAMPLE_TYPE = UNSIGNED_INTEGER
  SAMPLE_BITS = 8
  BANDS = 1
  BAND_STORAGE_TYPE = BAND_SEQUENTIAL
  MAXIMUM = 255
  MEAN = 145.647
  MINIMUM = 1
  STANDARD_DEVIATION = 29.4876
END_OBJECT = IMAGE
/* MAP OBJECT DEFINITIONS */
OBJECT = IMAGE_MAP_PROJECTION
  ^DATA_SET_MAP_PROJECTION_CATALOG= "DSMAP.CAT"
  A_AXIS_RADIUS = 3396.0
  B_AXIS_RADIUS = 3396.0
  C_AXIS_RADIUS = 3396.0
  CENTER_LATITUDE = 0.0
  CENTER_LONGITUDE = 87.0
  COORDINATE_SYSTEM_NAME = PLANETOGRAPHIC
  COORDINATE_SYSTEM_TYPE = "BODY-FIXED ROTATING"
  EASTERNMOST_LONGITUDE = 87.57550000000001
  FIRST_STANDARD_PARALLEL = "N/A"
  LINE_FIRST_PIXEL = 1
  LINE_LAST_PIXEL = 11363
  LINE_PROJECTION_OFFSET = 16745.0
  MAP_PROJECTION_ROTATION = 0.0
  MAP_PROJECTION_TYPE = SINUSOIDAL
  MAP_RESOLUTION = 2370.85521546667
  MAP_SCALE = 0.025
  MAXIMUM_LATITUDE = 7.08873
  MINIMUM_LATITUDE = 2.23986
  POSITIVE_LONGITUDE_DIRECTION = EAST
  REFERENCE_LATITUDE = "N/A"
  REFERENCE_LONGITUDE = "N/A"
  SAMPLE_FIRST_PIXEL = 1
  SAMPLE_LAST_PIXEL = 4522
  SAMPLE_PROJECTION_OFFSET = 3056.0
  SECOND_STANDARD_PARALLEL = "N/A"
  WESTERNMOST_LONGITUDE = 85.77330000000001
END_OBJECT = IMAGE_MAP_PROJECTION
END
