PDS_VERSION_ID = PDS3
/* FILE DATA ELEMENTS */
RECORD_TYPE = UNDEFINED
/* POINTERS TO DATA OBJECTS */
^IMAGE = ("HD629_0000_RE4.TIF")
/* IDENTIFICATION DATA ELEMENTS */
DATA_SET_ID = "MEX-M-HRSC-4-REFDR-MAPPROJECT-EXT4-V4.0"
DATA_SET_NAME = "MARS EXPRESS HRSC MAP PROJECTED REFDR EXTENSION4 V4.0"
DETECTOR_ID = MEX_HRSC_RED
EVENT_TYPE = "MARS-REGIONAL-MAPPING-Im-Fl-La"
INSTRUMENT_HOST_ID = MEX
INSTRUMENT_HOST_NAME = "MARS EXPRESS"
INSTRUMENT_ID = HRSC
INSTRUMENT_NAME = "HIGH RESOLUTION STEREO CAMERA"
MISSION_NAME = "MARS EXPRESS"
MISSION_PHASE_NAME = ME_Phase_31
PROCESSING_LEVEL_ID = 4
PRODUCT_CREATION_TIME = 2023-02-01T02:09:17.000Z
PRODUCT_ID = "HD629_0000_RE4.TIF"
RELEASE_ID = 0005
REVISION_ID = 0000
/* QUALITY DATA ELEMENTS */
DATA_QUALITY_ID = 1
DATA_QUALITY_DESC = "Data calculated based on original SPICE kernels"
/* TIME DATA ELEMENTS */
SPACECRAFT_CLOCK_START_COUNT = "1/0359809422.09056"
SPACECRAFT_CLOCK_STOP_COUNT = "1/0359809687.29370"
START_TIME = 2014-09-26T11:04:55.312Z
STOP_TIME = 2014-09-26T11:08:02.004Z
/* ORBITAL DATA ELEMENTS */
ASCENDING_NODE_LONGITUDE = 317.85
MAXIMUM_RESOLUTION = 0.0685
FOOTPRINT_POINT_LATITUDE = (17.8519,17.863,17.8742,17.8854,17.8969 ,17.9085,17.9277,17.9284,17.9447, 17.3282,16.9178,16.5099,16.0946,15.675, 15.1536,14.943,14.7304,14.5178,14.3052, 14.095,13.8842,13.5616,13.3459,13.1309, 12.9155,12.7011,12.4818,12.153,11.8246, 11.6049,11.3812,11.16,10.8268,10.4922, 10.2668,10.0411,9.81582,9.58889,9.35947 ,9.12973,8.90157,8.67043,8.43806, 8.20403,7.97258,7.73684,7.50141,7.14868 ,7.02956,6.97669,6.95264,6.94003, 6.91763,6.89247,6.87449,6.87363,6.8745, 7.23026,7.46732,7.703,8.05479,8.28766, 8.52133,8.75496,8.98468,9.21454,9.44458 ,9.6732,9.89829,10.1245,10.4634,10.6859 ,10.9123,11.1384,11.3612,11.5813,11.797 ,12.0151,12.2374,12.4558,12.6743, 12.9962,13.3187,13.5344,13.7514,13.962, 14.1753,14.3915,14.6067,14.923,15.2329, 15.4433,15.8619,16.0717,16.3855,16.7952 ,17.1026,17.7173,17.8199,17.8519)
FOOTPRINT_POINT_LONGITUDE = (32.4434,32.2211,31.9965,31.769,31.539, 31.3062,30.9208,30.9058,30.8858,30.8839 ,30.8828,30.8798,30.8758,30.8749, 30.8717,30.8693,30.8673,30.8654,30.8637 ,30.86,30.857,30.8524,30.8494,30.8461, 30.8433,30.8398,30.8361,30.8309,30.8258 ,30.8229,30.8195,30.8143,30.8079, 30.8005,30.7952,30.7904,30.7855,30.7805 ,30.7751,30.7703,30.7644,30.7593, 30.7531,30.7485,30.7421,30.7362,30.7294 ,30.7194,30.7162,30.7146,31.1352, 31.3772,31.7383,32.2109,32.5274,32.544, 32.5495,32.5459,32.5435,32.5412,32.5377 ,32.5354,32.5331,32.5307,32.5284, 32.5261,32.5239,32.5217,32.5195,32.5174 ,32.5142,32.5122,32.5096,32.507,32.5049 ,32.5031,32.5014,32.4994,32.4969, 32.4949,32.4928,32.4899,32.4869,32.4849 ,32.4827,32.4808,32.4785,32.4758, 32.4732,32.4706,32.4681,32.4657,32.4613 ,32.459,32.4558,32.4515,32.4483,32.4422 ,32.4412,32.4434)
ORBIT_NUMBER = 13629
ORBITAL_ECCENTRICITY = 0.575
ORBITAL_INCLINATION = 86.89
ORBITAL_SEMIMAJOR_AXIS = 8833.67
PERIAPSIS_ALTITUDE = 363.25
PERIAPSIS_ARGUMENT_ANGLE = 149.06
PERIAPSIS_TIME = 2014-09-26T11:01:01.000Z
SPACECRAFT_ORIENTATION = (0.0,-1.0,0.0)
^MEX_ORIENTATION_DESC = "MEX_ORIENTATION_DESC.TXT"
SPACECRAFT_POINTING_MODE = ACROSSTRACK
^MEX_POINTING_DESC = "MEX_POINTING_DESC.TXT"
RIGHT_ASCENSION = -1e+32
DECLINATION = -1e+32
OFFSET_ANGLE = -1.1
SPACECRAFT_SOLAR_DISTANCE = 2.12615e+08
TARGET_NAME = MARS
/* CAMERA DATA ELEMENTS */
DETECTOR_TEMPERATURE = 19.1861
FOCAL_PLANE_TEMPERATURE = 9.3989
INST_CMPRS_NAME = "DISCRETE COSINE TRANSFORMATION (DCT)"
INST_CMPRS_RATIO = 7.94549
INST_CMPRS_QUALITY = 0
INST_CMPRS_QUANTZ_TBL_ID = 0
INSTRUMENT_TEMPERATURE = 12.2535
LENS_TEMPERATURE = 9.8067
MACROPIXEL_SIZE = 4
MISSING_FRAMES = 0
PIXEL_SUBSAMPLING_FLAG = N
SIGNAL_CHAIN_ID = 2
/* RADIOMETRIC DATA ELEMENTS */
BANDWIDTH = 48.0
CENTER_FILTER_WAVELENGTH = 748.0
RADIANCE_OFFSET = 0.812499
RADIANCE_SCALING_FACTOR = 0.00387092
REFLECTANCE_SCALING_FACTOR = 0.000399325
MEX:REFLECTANCE_OFFSET = 0.0838175
/* IMAGE OBJECT DEFINITIONS */
OBJECT = IMAGE
  INTERCHANGE_FORMAT = BINARY
  LINES = 13022
  LINE_SAMPLES = 2040
  SAMPLE_TYPE = UNSIGNED_INTEGER
  SAMPLE_BITS = 8
  BANDS = 1
  BAND_STORAGE_TYPE = BAND_SEQUENTIAL
  MAXIMUM = 255
  MEAN = 98.9384
  MINIMUM = 1
  STANDARD_DEVIATION = 26.0073
END_OBJECT = IMAGE
/* MAP OBJECT DEFINITIONS */
OBJECT = IMAGE_MAP_PROJECTION
  ^DATA_SET_MAP_PROJECTION_CATALOG= "DSMAP.CAT"
  A_AXIS_RADIUS = 3396.0
  B_AXIS_RADIUS = 3396.0
  C_AXIS_RADIUS = 3396.0
  CENTER_LATITUDE = 0.0
  CENTER_LONGITUDE = 32.0
  COORDINATE_SYSTEM_NAME = PLANETOGRAPHIC
  COORDINATE_SYSTEM_TYPE = "BODY-FIXED ROTATING"
  EASTERNMOST_LONGITUDE = 32.5495
  FIRST_STANDARD_PARALLEL = "N/A"
  LINE_FIRST_PIXEL = 1
  LINE_LAST_PIXEL = 13022
  LINE_PROJECTION_OFFSET = 21220.125
  MAP_PROJECTION_ROTATION = 0.0
  MAP_PROJECTION_TYPE = SINUSOIDAL
  MAP_RESOLUTION = 1185.42760773333
  MAP_SCALE = 0.05
  MAXIMUM_LATITUDE = 17.9447
  MINIMUM_LATITUDE = 6.87363
  POSITIVE_LONGITUDE_DIRECTION = EAST
  REFERENCE_LATITUDE = "N/A"
  REFERENCE_LONGITUDE = "N/A"
  SAMPLE_FIRST_PIXEL = 1
  SAMPLE_LAST_PIXEL = 2040
  SAMPLE_PROJECTION_OFFSET = 1445.375
  SECOND_STANDARD_PARALLEL = "N/A"
  WESTERNMOST_LONGITUDE = 30.7146
END_OBJECT = IMAGE_MAP_PROJECTION
END
