PDS_VERSION_ID = PDS3
/* FILE DATA ELEMENTS */
RECORD_TYPE = UNDEFINED
/* POINTERS TO DATA OBJECTS */
^IMAGE = ("HD629_0000_ND4.TIF")
/* IDENTIFICATION DATA ELEMENTS */
DATA_SET_ID = "MEX-M-HRSC-4-REFDR-MAPPROJECT-EXT4-V4.0"
DATA_SET_NAME = "MARS EXPRESS HRSC MAP PROJECTED REFDR EXTENSION4 V4.0"
DETECTOR_ID = MEX_HRSC_NADIR
EVENT_TYPE = "MARS-REGIONAL-MAPPING-Im-Fl-La"
INSTRUMENT_HOST_ID = MEX
INSTRUMENT_HOST_NAME = "MARS EXPRESS"
INSTRUMENT_ID = HRSC
INSTRUMENT_NAME = "HIGH RESOLUTION STEREO CAMERA"
MISSION_NAME = "MARS EXPRESS"
MISSION_PHASE_NAME = ME_Phase_31
PROCESSING_LEVEL_ID = 4
PRODUCT_CREATION_TIME = 2023-02-01T02:09:17.000Z
PRODUCT_ID = "HD629_0000_ND4.TIF"
RELEASE_ID = 0005
REVISION_ID = 0000
/* QUALITY DATA ELEMENTS */
DATA_QUALITY_ID = 1
DATA_QUALITY_DESC = "Data calculated based on original SPICE kernels"
/* TIME DATA ELEMENTS */
SPACECRAFT_CLOCK_START_COUNT = "1/0359809422.09056"
SPACECRAFT_CLOCK_STOP_COUNT = "1/0359809687.29370"
START_TIME = 2014-09-26T11:04:23.586Z
STOP_TIME = 2014-09-26T11:07:20.583Z
/* ORBITAL DATA ELEMENTS */
ASCENDING_NODE_LONGITUDE = 317.85
MAXIMUM_RESOLUTION = 0.0159 <m/pixel>
FOOTPRINT_POINT_LATITUDE = (17.9004,17.9008,17.9009,17.9008, 17.9003,17.8996,17.8983,17.8982,17.8981 ,17.5883,17.1756,16.7635,16.3519, 15.9409,15.6257,15.4151,15.2046,14.7841 ,14.3642,14.0418,13.8268,13.6121, 13.3975,13.1831,12.9689,12.75,12.5307, 12.3116,12.0926,11.8739,11.6553,11.4315 ,11.208,10.9846,10.7616,10.5387,10.3124 ,10.0846,9.85697,9.62962,9.40252, 9.05572,8.82386,8.59226,8.36095,8.00779 ,7.7718,7.53611,7.30072,7.06031,6.94021 ,6.93383,6.92938,6.92722,6.92392, 6.91973,6.91667,6.91647,6.91667,7.15742 ,7.51387,7.75,7.98645,8.3404,8.57216, 8.80421,9.03652,9.38409,9.61163,9.83938 ,10.0674,10.2957,10.5225,10.7457, 10.9693,11.1931,11.4171,11.7507,11.9697 ,12.189,12.4084,12.628,12.9572,13.1718, 13.3866,13.6015,13.8167,14.1397,14.3552 ,14.7759,15.1969,15.4078,15.6188, 15.9346,16.3464,16.7587,17.1715,17.7917 ,17.8952,17.9004)
FOOTPRINT_POINT_LONGITUDE = (32.4241,32.1965,31.9661,31.7326, 31.4963,31.2569,30.9527,30.9373,30.9143 ,30.9142,30.9136,30.9122,30.9105, 30.9067,30.9075,30.9073,30.906,30.9027, 30.9002,30.8958,30.8932,30.8906,30.8885 ,30.8855,30.8833,30.8804,30.8774, 30.8745,30.8718,30.8695,30.8665,30.8638 ,30.8599,30.8575,30.8519,30.8474, 30.8428,30.8386,30.8344,30.8301,30.8254 ,30.8188,30.8139,30.8092,30.804,30.7969 ,30.7915,30.7859,30.7797,30.7743, 30.7713,30.7711,31.278,31.5028,31.8271, 32.2138,32.4795,32.496,32.5041,32.5025, 32.4999,32.4984,32.4967,32.4942,32.4925 ,32.4907,32.489,32.4866,32.4849,32.4834 ,32.4819,32.4803,32.4789,32.4773,32.475 ,32.4731,32.4716,32.47,32.4685,32.4665, 32.4651,32.4635,32.4612,32.4598,32.4582 ,32.4567,32.455,32.4525,32.4503,32.4458 ,32.4444,32.4422,32.4403,32.4377, 32.4341,32.4305,32.427,32.4221,32.4212, 32.4241)
ORBIT_NUMBER = 13629
ORBITAL_ECCENTRICITY = 0.575
ORBITAL_INCLINATION = 86.89
ORBITAL_SEMIMAJOR_AXIS = 8833.67
PERIAPSIS_ALTITUDE = 363.25
PERIAPSIS_ARGUMENT_ANGLE = 149.06
PERIAPSIS_TIME = 2014-09-26T11:01:01.000Z
SPACECRAFT_ORIENTATION = (0.0,-1.0,0.0)
^MEX_ORIENTATION_DESC = "MEX_ORIENTATION_DESC.TXT"
SPACECRAFT_POINTING_MODE = ACROSSTRACK
^MEX_POINTING_DESC = "MEX_POINTING_DESC.TXT"
RIGHT_ASCENSION = -1e+32
DECLINATION = -1e+32
OFFSET_ANGLE = -1.1
SPACECRAFT_SOLAR_DISTANCE = 2.12615e+08
TARGET_NAME = MARS
/* CAMERA DATA ELEMENTS */
DETECTOR_TEMPERATURE = 18.5744 <degC>
FOCAL_PLANE_TEMPERATURE = 9.3989 <degC>
INST_CMPRS_NAME = "DISCRETE COSINE TRANSFORMATION (DCT)"
INST_CMPRS_RATIO = 5.65027
INST_CMPRS_QUALITY = 0
INST_CMPRS_QUANTZ_TBL_ID = 0
INSTRUMENT_TEMPERATURE = 12.2535 <degC>
LENS_TEMPERATURE = 9.8067 <degC>
MACROPIXEL_SIZE = 1
MISSING_FRAMES = 0
PIXEL_SUBSAMPLING_FLAG = N
SIGNAL_CHAIN_ID = 0
/* RADIOMETRIC DATA ELEMENTS */
BANDWIDTH = 177.0 <nm>
CENTER_FILTER_WAVELENGTH = 677.5 <nm>
RADIANCE_OFFSET = 2.61956 <W*m**-2*sr**-1>
RADIANCE_SCALING_FACTOR = 0.0140333 <W*m**-2*sr**-1>
REFLECTANCE_SCALING_FACTOR = 0.000337001
MEX:REFLECTANCE_OFFSET = 0.0629068
/* IMAGE OBJECT DEFINITIONS */
OBJECT = IMAGE
  INTERCHANGE_FORMAT = BINARY
  LINES = 52087
  LINE_SAMPLES = 8157
  SAMPLE_TYPE = UNSIGNED_INTEGER
  SAMPLE_BITS = 8
  BANDS = 1
  BAND_STORAGE_TYPE = BAND_SEQUENTIAL
  MAXIMUM = 255
  MEAN = 100.267
  MINIMUM = 1
  STANDARD_DEVIATION = 26.2372
END_OBJECT = IMAGE
/* MAP OBJECT DEFINITIONS */
OBJECT = IMAGE_MAP_PROJECTION
  ^DATA_SET_MAP_PROJECTION_CATALOG= "DSMAP.CAT"
  A_AXIS_RADIUS = 3396.0 <km>
  B_AXIS_RADIUS = 3396.0 <km>
  C_AXIS_RADIUS = 3396.0 <km>
  CENTER_LATITUDE = 0.0
  CENTER_LONGITUDE = 32.0
  COORDINATE_SYSTEM_NAME = PLANETOGRAPHIC
  COORDINATE_SYSTEM_TYPE = "BODY-FIXED ROTATING"
  EASTERNMOST_LONGITUDE = 32.5041
  FIRST_STANDARD_PARALLEL = "N/A"
  LINE_FIRST_PIXEL = 1
  LINE_LAST_PIXEL = 52087
  LINE_PROJECTION_OFFSET = 84882.0
  MAP_PROJECTION_ROTATION = 0.0
  MAP_PROJECTION_TYPE = SINUSOIDAL
  MAP_RESOLUTION = 4741.71043093333 <pixel/degree>
  MAP_SCALE = 0.0125 <km/pixel>
  MAXIMUM_LATITUDE = 17.9009
  MINIMUM_LATITUDE = 6.91647
  POSITIVE_LONGITUDE_DIRECTION = EAST
  REFERENCE_LATITUDE = "N/A"
  REFERENCE_LONGITUDE = "N/A"
  SAMPLE_FIRST_PIXEL = 1
  SAMPLE_LAST_PIXEL = 8157
  SAMPLE_PROJECTION_OFFSET = 5783.0
  SECOND_STANDARD_PARALLEL = "N/A"
  WESTERNMOST_LONGITUDE = 30.7711
END_OBJECT = IMAGE_MAP_PROJECTION
END
