PDS_VERSION_ID = PDS3
/* FILE DATA ELEMENTS */
RECORD_TYPE = UNDEFINED
/* POINTERS TO DATA OBJECTS */
^IMAGE = ("HD621_0000_S24.TIF")
/* IDENTIFICATION DATA ELEMENTS */
DATA_SET_ID = "MEX-M-HRSC-4-REFDR-MAPPROJECT-EXT4-V4.0"
DATA_SET_NAME = "MARS EXPRESS HRSC MAP PROJECTED REFDR EXTENSION4 V4.0"
DETECTOR_ID = MEX_HRSC_S2
EVENT_TYPE = "MARS-REGIONAL-MAPPING-Te-Fl-Mw"
INSTRUMENT_HOST_ID = MEX
INSTRUMENT_HOST_NAME = "MARS EXPRESS"
INSTRUMENT_ID = HRSC
INSTRUMENT_NAME = "HIGH RESOLUTION STEREO CAMERA"
MISSION_NAME = "MARS EXPRESS"
MISSION_PHASE_NAME = ME_Phase_31
PROCESSING_LEVEL_ID = 4
PRODUCT_CREATION_TIME = 2023-02-01T02:09:17.000Z
PRODUCT_ID = "HD621_0000_S24.TIF"
RELEASE_ID = 0005
REVISION_ID = 0000
/* QUALITY DATA ELEMENTS */
DATA_QUALITY_ID = 1
DATA_QUALITY_DESC = "Data calculated based on original SPICE kernels"
/* TIME DATA ELEMENTS */
SPACECRAFT_CLOCK_START_COUNT = "1/0359608011.08451"
SPACECRAFT_CLOCK_STOP_COUNT = "1/0359608321.30800"
START_TIME = 2014-09-24T03:08:06.862Z
STOP_TIME = 2014-09-24T03:12:05.130Z
/* ORBITAL DATA ELEMENTS */
ASCENDING_NODE_LONGITUDE = 318.0
MAXIMUM_RESOLUTION = 0.0335
FOOTPRINT_POINT_LATITUDE = (20.1213,20.141,20.1613,20.1861,20.1868 ,20.2273,19.8243,19.4217,19.1538, 18.8864,18.6195,18.3528,18.0866,17.5552 ,17.0257,16.498,16.0941,15.8247,15.5561 ,15.2879,15.0198,14.7454,14.3345, 14.0613,13.7887,13.3723,13.0939,12.8162 ,12.5389,12.2561,11.9735,11.6905, 11.4076,11.1182,10.6882,10.4004,10.108, 9.81664,9.52614,9.23304,8.93779,8.64317 ,8.19497,7.89594,7.59579,7.29031, 6.98267,6.68798,6.36964,6.21675,6.19112 ,6.15611,6.12841,6.11269,6.0996,6.09881 ,6.09908,6.40845,6.71504,7.17523, 7.63164,7.93192,8.23336,8.67978,8.97587 ,9.41867,9.70666,9.99871,10.2935, 10.7257,11.0137,11.4436,11.7261,12.0073 ,12.2911,12.5732,12.9908,13.2696, 13.6879,13.9613,14.2351,14.5091,14.7839 ,15.0561,15.3249,15.5941,15.8639,16.134 ,16.4039,16.9323,17.3306,17.8612, 18.2599,18.5268,18.7946,19.1969,19.6002 ,20.0039,20.1388,20.1213)
FOOTPRINT_POINT_LONGITUDE = (130.716,130.269,129.813,129.26,129.245 ,129.212,129.212,129.212,129.211, 129.211,129.21,129.209,129.208,129.206, 129.203,129.199,129.196,129.193,129.191 ,129.188,129.185,129.182,129.177, 129.173,129.169,129.163,129.159,129.155 ,129.151,129.146,129.141,129.136, 129.132,129.127,129.118,129.113,129.108 ,129.101,129.094,129.087,129.08,129.072 ,129.061,129.053,129.045,129.037, 129.031,129.016,129.012,129.007,129.006 ,129.654,130.202,130.534,130.812, 130.829,130.835,130.832,130.829,130.825 ,130.821,130.818,130.815,130.811, 130.808,130.804,130.802,130.799,130.797 ,130.793,130.791,130.787,130.785, 130.782,130.78,130.777,130.774,130.772, 130.768,130.766,130.764,130.761,130.759 ,130.757,130.755,130.753,130.75,130.748 ,130.746,130.741,130.738,130.734,130.73 ,130.728,130.726,130.722,130.719, 130.715,130.714,130.716)
ORBIT_NUMBER = 13621
ORBITAL_ECCENTRICITY = 0.575
ORBITAL_INCLINATION = 86.89
ORBITAL_SEMIMAJOR_AXIS = 8835.01
PERIAPSIS_ALTITUDE = 362.31
PERIAPSIS_ARGUMENT_ANGLE = 150.46
PERIAPSIS_TIME = 2014-09-24T03:05:06.000Z
SPACECRAFT_ORIENTATION = (0.0,-1.0,0.0)
^MEX_ORIENTATION_DESC = "MEX_ORIENTATION_DESC.TXT"
SPACECRAFT_POINTING_MODE = ACROSSTRACK
^MEX_POINTING_DESC = "MEX_POINTING_DESC.TXT"
RIGHT_ASCENSION = -1e+32
DECLINATION = -1e+32
OFFSET_ANGLE = -0.8
SPACECRAFT_SOLAR_DISTANCE = 2.12957e+08
TARGET_NAME = MARS
/* CAMERA DATA ELEMENTS */
DETECTOR_TEMPERATURE = 18.9822
FOCAL_PLANE_TEMPERATURE = 8.7872
INST_CMPRS_NAME = "DISCRETE COSINE TRANSFORMATION (DCT)"
INST_CMPRS_RATIO = 10.7428
INST_CMPRS_QUALITY = 0
INST_CMPRS_QUANTZ_TBL_ID = 0
INSTRUMENT_TEMPERATURE = 11.8457
LENS_TEMPERATURE = 7.9716
MACROPIXEL_SIZE = 2
MISSING_FRAMES = 0
PIXEL_SUBSAMPLING_FLAG = N
SIGNAL_CHAIN_ID = 1
/* RADIOMETRIC DATA ELEMENTS */
BANDWIDTH = 178.0
CENTER_FILTER_WAVELENGTH = 679.0
RADIANCE_OFFSET = 2.93617
RADIANCE_SCALING_FACTOR = 0.0091549
REFLECTANCE_SCALING_FACTOR = 0.00021987
MEX:REFLECTANCE_OFFSET = 0.0705172
/* IMAGE OBJECT DEFINITIONS */
OBJECT = IMAGE
  INTERCHANGE_FORMAT = BINARY
  LINES = 33370
  LINE_SAMPLES = 4005
  SAMPLE_TYPE = UNSIGNED_INTEGER
  SAMPLE_BITS = 8
  BANDS = 1
  BAND_STORAGE_TYPE = BAND_SEQUENTIAL
  MAXIMUM = 255
  MEAN = 97.5311
  MINIMUM = 1
  STANDARD_DEVIATION = 32.8732
END_OBJECT = IMAGE
/* MAP OBJECT DEFINITIONS */
OBJECT = IMAGE_MAP_PROJECTION
  ^DATA_SET_MAP_PROJECTION_CATALOG= "DSMAP.CAT"
  A_AXIS_RADIUS = 3396.0
  B_AXIS_RADIUS = 3396.0
  C_AXIS_RADIUS = 3396.0
  CENTER_LATITUDE = 0.0
  CENTER_LONGITUDE = 130.0
  COORDINATE_SYSTEM_NAME = PLANETOGRAPHIC
  COORDINATE_SYSTEM_TYPE = "BODY-FIXED ROTATING"
  EASTERNMOST_LONGITUDE = 130.835
  FIRST_STANDARD_PARALLEL = "N/A"
  LINE_FIRST_PIXEL = 1
  LINE_LAST_PIXEL = 33370
  LINE_PROJECTION_OFFSET = 47834.25
  MAP_PROJECTION_ROTATION = 0.0
  MAP_PROJECTION_TYPE = SINUSOIDAL
  MAP_RESOLUTION = 2370.85521546667
  MAP_SCALE = 0.025
  MAXIMUM_LATITUDE = 20.2273
  MINIMUM_LATITUDE = 6.09881
  POSITIVE_LONGITUDE_DIRECTION = EAST
  REFERENCE_LATITUDE = "N/A"
  REFERENCE_LONGITUDE = "N/A"
  SAMPLE_FIRST_PIXEL = 1
  SAMPLE_LAST_PIXEL = 4005
  SAMPLE_PROJECTION_OFFSET = 2173.25
  SECOND_STANDARD_PARALLEL = "N/A"
  WESTERNMOST_LONGITUDE = 129.006
END_OBJECT = IMAGE_MAP_PROJECTION
END
