PDS_VERSION_ID = PDS3
/* FILE DATA ELEMENTS */
RECORD_TYPE = UNDEFINED
/* POINTERS TO DATA OBJECTS */
^IMAGE = ("HD621_0000_BL4.TIF")
/* IDENTIFICATION DATA ELEMENTS */
DATA_SET_ID = "MEX-M-HRSC-4-REFDR-MAPPROJECT-EXT4-V4.0"
DATA_SET_NAME = "MARS EXPRESS HRSC MAP PROJECTED REFDR EXTENSION4 V4.0"
DETECTOR_ID = MEX_HRSC_BLUE
EVENT_TYPE = "MARS-REGIONAL-MAPPING-Te-Fl-Mw"
INSTRUMENT_HOST_ID = MEX
INSTRUMENT_HOST_NAME = "MARS EXPRESS"
INSTRUMENT_ID = HRSC
INSTRUMENT_NAME = "HIGH RESOLUTION STEREO CAMERA"
MISSION_NAME = "MARS EXPRESS"
MISSION_PHASE_NAME = ME_Phase_31
PROCESSING_LEVEL_ID = 4
PRODUCT_CREATION_TIME = 2023-02-01T02:09:17.000Z
PRODUCT_ID = "HD621_0000_BL4.TIF"
RELEASE_ID = 0005
REVISION_ID = 0000
/* QUALITY DATA ELEMENTS */
DATA_QUALITY_ID = 1
DATA_QUALITY_DESC = "Data calculated based on original SPICE kernels"
/* TIME DATA ELEMENTS */
SPACECRAFT_CLOCK_START_COUNT = "1/0359608011.08451"
SPACECRAFT_CLOCK_STOP_COUNT = "1/0359608321.30800"
START_TIME = 2014-09-24T03:07:36.792Z
STOP_TIME = 2014-09-24T03:11:23.780Z
/* ORBITAL DATA ELEMENTS */
ASCENDING_NODE_LONGITUDE = 318.0
MAXIMUM_RESOLUTION = 0.1229
FOOTPRINT_POINT_LATITUDE = (20.1646,20.1679,20.1705,20.1724, 20.1724,20.1776,19.9048,19.6321,19.3596 ,19.0874,18.8153,18.5435,18.2719, 18.0004,17.7292,17.4583,17.1876,16.6468 ,16.1072,15.5686,15.0311,14.4946,14.085 ,13.8105,13.5362,13.2622,12.9885, 12.5701,12.2901,12.0105,11.7311,11.3064 ,11.0206,10.7355,10.3081,10.0168, 9.72592,9.43551,8.99707,8.70087,8.40482 ,8.10948,7.80806,7.50653,7.20538, 6.90163,6.59573,6.28798,6.13511,6.12161 ,6.11312,6.10182,6.09183,6.09153, 6.09362,6.40026,6.70695,7.1661,7.46761, 7.76963,8.07186,8.36781,8.6642,8.96104, 9.40066,9.69109,9.98227,10.4172,10.7026 ,10.9884,11.2743,11.5599,11.8395, 12.1192,12.3996,12.6805,12.9593,13.2335 ,13.5079,13.7827,14.0577,14.4681, 15.0054,15.5438,16.0832,16.6237,16.8944 ,17.1652,17.4368,17.7077,17.9792, 18.2509,18.5229,18.7952,19.0677,19.3404 ,19.6133,20.023,20.1597,20.1646)
FOOTPRINT_POINT_LONGITUDE = (130.699,130.283,129.86,129.307,129.293 ,129.259,129.259,129.259,129.26,129.26, 129.26,129.26,129.259,129.259,129.258, 129.257,129.256,129.254,129.251,129.247 ,129.243,129.238,129.234,129.231, 129.228,129.224,129.221,129.216,129.212 ,129.208,129.204,129.198,129.194, 129.189,129.183,129.178,129.173,129.167 ,129.157,129.15,129.145,129.138,129.131 ,129.124,129.118,129.11,129.099,129.096 ,129.092,129.091,129.575,130.211, 130.759,130.774,130.785,130.783,130.781 ,130.778,130.776,130.774,130.772,130.77 ,130.768,130.767,130.764,130.762,130.76 ,130.758,130.756,130.754,130.753, 130.751,130.749,130.748,130.746,130.744 ,130.743,130.741,130.739,130.738, 130.736,130.734,130.73,130.727,130.724, 130.72,130.719,130.717,130.715,130.713, 130.711,130.71,130.708,130.706,130.704, 130.702,130.7,130.697,130.696,130.699)
ORBIT_NUMBER = 13621
ORBITAL_ECCENTRICITY = 0.575
ORBITAL_INCLINATION = 86.89
ORBITAL_SEMIMAJOR_AXIS = 8835.01
PERIAPSIS_ALTITUDE = 362.31
PERIAPSIS_ARGUMENT_ANGLE = 150.46
PERIAPSIS_TIME = 2014-09-24T03:05:06.000Z
SPACECRAFT_ORIENTATION = (0.0,-1.0,0.0)
^MEX_ORIENTATION_DESC = "MEX_ORIENTATION_DESC.TXT"
SPACECRAFT_POINTING_MODE = ACROSSTRACK
^MEX_POINTING_DESC = "MEX_POINTING_DESC.TXT"
RIGHT_ASCENSION = -1e+32
DECLINATION = -1e+32
OFFSET_ANGLE = -0.8
SPACECRAFT_SOLAR_DISTANCE = 2.12957e+08
TARGET_NAME = MARS
/* CAMERA DATA ELEMENTS */
DETECTOR_TEMPERATURE = 18.7783
FOCAL_PLANE_TEMPERATURE = 8.7872
INST_CMPRS_NAME = "DISCRETE COSINE TRANSFORMATION (DCT)"
INST_CMPRS_RATIO = 10.9622
INST_CMPRS_QUALITY = 0
INST_CMPRS_QUANTZ_TBL_ID = 0
INSTRUMENT_TEMPERATURE = 11.8457
LENS_TEMPERATURE = 7.9716
MACROPIXEL_SIZE = 8
MISSING_FRAMES = 0
PIXEL_SUBSAMPLING_FLAG = N
SIGNAL_CHAIN_ID = 2
/* RADIOMETRIC DATA ELEMENTS */
BANDWIDTH = 76.0
CENTER_FILTER_WAVELENGTH = 444.0
RADIANCE_OFFSET = 0.477661
RADIANCE_SCALING_FACTOR = 0.000962607
REFLECTANCE_SCALING_FACTOR = 4.48527e-05
MEX:REFLECTANCE_OFFSET = 0.0222566
/* IMAGE OBJECT DEFINITIONS */
OBJECT = IMAGE
  INTERCHANGE_FORMAT = BINARY
  LINES = 8343
  LINE_SAMPLES = 1002
  SAMPLE_TYPE = UNSIGNED_INTEGER
  SAMPLE_BITS = 8
  BANDS = 1
  BAND_STORAGE_TYPE = BAND_SEQUENTIAL
  MAXIMUM = 255
  MEAN = 117.191
  MINIMUM = 1
  STANDARD_DEVIATION = 41.8651
END_OBJECT = IMAGE
/* MAP OBJECT DEFINITIONS */
OBJECT = IMAGE_MAP_PROJECTION
  ^DATA_SET_MAP_PROJECTION_CATALOG= "DSMAP.CAT"
  A_AXIS_RADIUS = 3396.0
  B_AXIS_RADIUS = 3396.0
  C_AXIS_RADIUS = 3396.0
  CENTER_LATITUDE = 0.0
  CENTER_LONGITUDE = 130.0
  COORDINATE_SYSTEM_NAME = PLANETOGRAPHIC
  COORDINATE_SYSTEM_TYPE = "BODY-FIXED ROTATING"
  EASTERNMOST_LONGITUDE = 130.785
  FIRST_STANDARD_PARALLEL = "N/A"
  LINE_FIRST_PIXEL = 1
  LINE_LAST_PIXEL = 8343
  LINE_PROJECTION_OFFSET = 11958.1875
  MAP_PROJECTION_ROTATION = 0.0
  MAP_PROJECTION_TYPE = SINUSOIDAL
  MAP_RESOLUTION = 592.713803866667
  MAP_SCALE = 0.1
  MAXIMUM_LATITUDE = 20.1776
  MINIMUM_LATITUDE = 6.09153
  POSITIVE_LONGITUDE_DIRECTION = EAST
  REFERENCE_LATITUDE = "N/A"
  REFERENCE_LONGITUDE = "N/A"
  SAMPLE_FIRST_PIXEL = 1
  SAMPLE_LAST_PIXEL = 1002
  SAMPLE_PROJECTION_OFFSET = 542.9375
  SECOND_STANDARD_PARALLEL = "N/A"
  WESTERNMOST_LONGITUDE = 129.091
END_OBJECT = IMAGE_MAP_PROJECTION
END
