PDS_VERSION_ID = PDS3
/* FILE DATA ELEMENTS */
RECORD_TYPE = UNDEFINED
/* POINTERS TO DATA OBJECTS */
^IMAGE = ("HD600_0000_S14.TIF")
/* IDENTIFICATION DATA ELEMENTS */
DATA_SET_ID = "MEX-M-HRSC-4-REFDR-MAPPROJECT-EXT4-V4.0"
DATA_SET_NAME = "MARS EXPRESS HRSC MAP PROJECTED REFDR EXTENSION4 V4.0"
DETECTOR_ID = MEX_HRSC_S1
EVENT_TYPE = "MARS-REGIONAL-MAPPING-Im-Fl-Lc"
INSTRUMENT_HOST_ID = MEX
INSTRUMENT_HOST_NAME = "MARS EXPRESS"
INSTRUMENT_ID = HRSC
INSTRUMENT_NAME = "HIGH RESOLUTION STEREO CAMERA"
MISSION_NAME = "MARS EXPRESS"
MISSION_PHASE_NAME = ME_Phase_31
PROCESSING_LEVEL_ID = 4
PRODUCT_CREATION_TIME = 2023-02-01T02:09:17.000Z
PRODUCT_ID = "HD600_0000_S14.TIF"
RELEASE_ID = 0005
REVISION_ID = 0000
/* QUALITY DATA ELEMENTS */
DATA_QUALITY_ID = 1
DATA_QUALITY_DESC = "Data calculated based on original SPICE kernels"
/* TIME DATA ELEMENTS */
SPACECRAFT_CLOCK_START_COUNT = "1/0359079656.08287"
SPACECRAFT_CLOCK_STOP_COUNT = "1/0359080072.39284"
START_TIME = 2014-09-18T00:21:01.835Z
STOP_TIME = 2014-09-18T00:25:22.731Z
/* ORBITAL DATA ELEMENTS */
ASCENDING_NODE_LONGITUDE = 318.4
MAXIMUM_RESOLUTION = 0.0376
FOOTPRINT_POINT_LATITUDE = (3.20183,3.20967,3.21562,3.21873, 3.21881,3.22226,2.51211,1.94367,1.36467 ,0.929463,0.191891,-0.25463,-0.556555, -0.85849,-1.15994,-1.46548,-1.77248, -2.08034,-2.3934,-2.70719,-3.022, -3.5013,-3.82092,-4.14418,-4.4707, -4.96189,-5.29399,-5.62683,-5.96418, -6.30157,-6.81275,-7.15638,-7.50364, -7.85205,-8.38204,-8.73578,-9.09586, -9.6389,-10.0036,-10.3727,-10.7435, -11.1172,-11.6851,-12.0672,-12.4553, -13.0418,-13.2404,-13.2954,-13.3038, -13.3086,-13.3131,-13.32,-13.3352, -13.3356,-13.3349,-12.7397,-12.3521, -11.7777,-11.3936,-11.0175,-10.6429, -10.273,-9.9048,-9.53671,-9.17517, -8.81376,-8.45458,-8.0992,-7.75974, -7.4112,-7.06428,-6.71222,-6.37218, -6.03617,-5.69901,-5.36535,-5.03316, -4.70421,-4.37822,-3.88932,-3.56883, -3.24722,-2.92967,-2.61538,-2.30033, -1.83421,-1.52736,-1.22005,-0.917376, -0.615789,-0.315897,0.130975,0.428523, 1.01927,1.59869,2.03393,2.60025,3.02582 ,3.16695,3.20183)
FOOTPRINT_POINT_LONGITUDE = (118.756,118.215,117.659,117.222, 117.207,117.204,117.185,117.169,117.153 ,117.141,117.12,117.106,117.097,117.087 ,117.078,117.069,117.059,117.049, 117.039,117.029,117.018,117.001,116.99, 116.979,116.967,116.949,116.937,116.924 ,116.911,116.898,116.879,116.865, 116.851,116.837,116.815,116.801,116.786 ,116.763,116.747,116.731,116.714, 116.698,116.672,116.654,116.636,116.608 ,116.597,116.595,117.301,117.609, 117.918,118.337,118.846,118.868,118.876 ,118.866,118.861,118.854,118.848, 118.844,118.84,118.836,118.832,118.827, 118.824,118.82,118.816,118.812,118.812, 118.809,118.806,118.801,118.799,118.797 ,118.794,118.792,118.789,118.787, 118.785,118.782,118.78,118.778,118.776, 118.774,118.773,118.77,118.769,118.768, 118.767,118.766,118.765,118.764,118.762 ,118.76,118.758,118.757,118.756,118.755 ,118.755,118.756)
ORBIT_NUMBER = 13600
ORBITAL_ECCENTRICITY = 0.576
ORBITAL_INCLINATION = 86.89
ORBITAL_SEMIMAJOR_AXIS = 8841.7
PERIAPSIS_ALTITUDE = 359.64
PERIAPSIS_ARGUMENT_ANGLE = 154.08
PERIAPSIS_TIME = 2014-09-18T00:15:46.000Z
SPACECRAFT_ORIENTATION = (0.0,-1.0,0.0)
^MEX_ORIENTATION_DESC = "MEX_ORIENTATION_DESC.TXT"
SPACECRAFT_POINTING_MODE = NADIR
^MEX_POINTING_DESC = "MEX_POINTING_DESC.TXT"
RIGHT_ASCENSION = -1e+32
DECLINATION = -1e+32
OFFSET_ANGLE = -1e+32
SPACECRAFT_SOLAR_DISTANCE = 2.13889e+08
TARGET_NAME = MARS
/* CAMERA DATA ELEMENTS */
DETECTOR_TEMPERATURE = 18.1666
FOCAL_PLANE_TEMPERATURE = 9.195
INST_CMPRS_NAME = "DISCRETE COSINE TRANSFORMATION (DCT)"
INST_CMPRS_RATIO = 7.90837
INST_CMPRS_QUALITY = 0
INST_CMPRS_QUANTZ_TBL_ID = 0
INSTRUMENT_TEMPERATURE = 12.0496
LENS_TEMPERATURE = 9.6028
MACROPIXEL_SIZE = 2
MISSING_FRAMES = 0
PIXEL_SUBSAMPLING_FLAG = N
SIGNAL_CHAIN_ID = 1
/* RADIOMETRIC DATA ELEMENTS */
BANDWIDTH = 180.0
CENTER_FILTER_WAVELENGTH = 677.0
RADIANCE_OFFSET = 1.80382
RADIANCE_SCALING_FACTOR = 0.00987045
REFLECTANCE_SCALING_FACTOR = 0.000235588
MEX:REFLECTANCE_OFFSET = 0.0430537
/* IMAGE OBJECT DEFINITIONS */
OBJECT = IMAGE
  INTERCHANGE_FORMAT = BINARY
  LINES = 39295
  LINE_SAMPLES = 5740
  SAMPLE_TYPE = UNSIGNED_INTEGER
  SAMPLE_BITS = 8
  BANDS = 1
  BAND_STORAGE_TYPE = BAND_SEQUENTIAL
  MAXIMUM = 255
  MEAN = 102.321
  MINIMUM = 1
  STANDARD_DEVIATION = 33.3416
END_OBJECT = IMAGE
/* MAP OBJECT DEFINITIONS */
OBJECT = IMAGE_MAP_PROJECTION
  ^DATA_SET_MAP_PROJECTION_CATALOG= "DSMAP.CAT"
  A_AXIS_RADIUS = 3396.0
  B_AXIS_RADIUS = 3396.0
  C_AXIS_RADIUS = 3396.0
  CENTER_LATITUDE = 0.0
  CENTER_LONGITUDE = 118.0
  COORDINATE_SYSTEM_NAME = PLANETOGRAPHIC
  COORDINATE_SYSTEM_TYPE = "BODY-FIXED ROTATING"
  EASTERNMOST_LONGITUDE = 118.876
  FIRST_STANDARD_PARALLEL = "N/A"
  LINE_FIRST_PIXEL = 1
  LINE_LAST_PIXEL = 39295
  LINE_PROJECTION_OFFSET = 7668.25
  MAP_PROJECTION_ROTATION = 0.0
  MAP_PROJECTION_TYPE = SINUSOIDAL
  MAP_RESOLUTION = 2370.85521546667
  MAP_SCALE = 0.025
  MAXIMUM_LATITUDE = 3.22226
  MINIMUM_LATITUDE = -13.3356
  POSITIVE_LONGITUDE_DIRECTION = EAST
  REFERENCE_LATITUDE = "N/A"
  REFERENCE_LONGITUDE = "N/A"
  SAMPLE_FIRST_PIXEL = 1
  SAMPLE_LAST_PIXEL = 5740
  SAMPLE_PROJECTION_OFFSET = 3484.75
  SECOND_STANDARD_PARALLEL = "N/A"
  WESTERNMOST_LONGITUDE = 116.595
END_OBJECT = IMAGE_MAP_PROJECTION
END
