PDS_VERSION_ID = PDS3
/* FILE DATA ELEMENTS */
RECORD_TYPE = UNDEFINED
/* POINTERS TO DATA OBJECTS */
^IMAGE = ("HD600_0000_RE4.TIF")
/* IDENTIFICATION DATA ELEMENTS */
DATA_SET_ID = "MEX-M-HRSC-4-REFDR-MAPPROJECT-EXT4-V4.0"
DATA_SET_NAME = "MARS EXPRESS HRSC MAP PROJECTED REFDR EXTENSION4 V4.0"
DETECTOR_ID = MEX_HRSC_RED
EVENT_TYPE = "MARS-REGIONAL-MAPPING-Im-Fl-Lc"
INSTRUMENT_HOST_ID = MEX
INSTRUMENT_HOST_NAME = "MARS EXPRESS"
INSTRUMENT_ID = HRSC
INSTRUMENT_NAME = "HIGH RESOLUTION STEREO CAMERA"
MISSION_NAME = "MARS EXPRESS"
MISSION_PHASE_NAME = ME_Phase_31
PROCESSING_LEVEL_ID = 4
PRODUCT_CREATION_TIME = 2023-02-01T02:09:17.000Z
PRODUCT_ID = "HD600_0000_RE4.TIF"
RELEASE_ID = 0005
REVISION_ID = 0000
/* QUALITY DATA ELEMENTS */
DATA_QUALITY_ID = 1
DATA_QUALITY_DESC = "Data calculated based on original SPICE kernels"
/* TIME DATA ELEMENTS */
SPACECRAFT_CLOCK_START_COUNT = "1/0359079656.08287"
SPACECRAFT_CLOCK_STOP_COUNT = "1/0359080072.39284"
START_TIME = 2014-09-18T00:22:22.783Z
STOP_TIME = 2014-09-18T00:27:39.187Z
/* ORBITAL DATA ELEMENTS */
ASCENDING_NODE_LONGITUDE = 318.4
MAXIMUM_RESOLUTION = 0.0821
FOOTPRINT_POINT_LATITUDE = (3.20779,3.21377,3.21834,3.22463, 3.22956,3.22983,3.22553,2.7999,2.22919, 1.50595,0.920051,0.326484,-0.122562, -0.723901,-1.02953,-1.33659,-1.64699, -1.95464,-2.26912,-2.58135,-2.89733, -3.21397,-3.53431,-3.85499,-4.1811, -4.50372,-4.82966,-5.16195,-5.49252, -5.82752,-6.16326,-6.50241,-6.84429, -7.18886,-7.53483,-7.88335,-8.23429, -8.7662,-9.12209,-9.48178,-9.84529, -10.2109,-10.5793,-11.1388,-11.7013, -12.0802,-12.4617,-13.0398,-13.2336, -13.3034,-13.3187,-13.3285,-13.3374, -13.344,-13.3451,-13.347,-13.3455, -12.9573,-12.5716,-12.1893,-11.8047, -11.4315,-11.0568,-10.6853,-10.1312, -9.76682,-9.40599,-9.04733,-8.69139, -8.34015,-7.98438,-7.45434,-7.1085, -6.76767,-6.4323,-6.09098,-5.75433, -5.25491,-4.75905,-4.43056,-4.1065, -3.78307,-3.4631,-2.98577,-2.66799, -2.35621,-2.04326,-1.7333,-1.26857, -0.962373,-0.65622,-0.352534,0.247688, 0.839924,1.42659,2.00632,2.4396,3.01052 ,3.15323,3.20779)
FOOTPRINT_POINT_LONGITUDE = (118.839,118.245,117.876,117.443, 117.138,117.122,117.119,117.105,117.087 ,117.062,117.042,117.021,117.005, 116.981,116.97,116.959,116.947,116.934, 116.922,116.909,116.895,116.882,116.868 ,116.855,116.841,116.825,116.81,116.796 ,116.78,116.764,116.748,116.731,116.715 ,116.698,116.681,116.663,116.645, 116.617,116.597,116.578,116.558,116.538 ,116.517,116.485,116.452,116.429, 116.405,116.369,116.357,116.352,116.917 ,117.354,117.843,118.537,119.079, 119.104,119.113,119.102,119.091,119.08, 119.072,119.06,119.051,119.042,119.03, 119.021,119.013,119.004,118.996,118.988 ,118.983,118.975,118.969,118.962, 118.953,118.948,118.943,118.934,118.927 ,118.922,118.917,118.912,118.907,118.9, 118.896,118.892,118.887,118.884,118.879 ,118.876,118.873,118.87,118.864,118.857 ,118.852,118.846,118.843,118.838, 118.838,118.839)
ORBIT_NUMBER = 13600
ORBITAL_ECCENTRICITY = 0.576
ORBITAL_INCLINATION = 86.89
ORBITAL_SEMIMAJOR_AXIS = 8841.7
PERIAPSIS_ALTITUDE = 359.64
PERIAPSIS_ARGUMENT_ANGLE = 154.08
PERIAPSIS_TIME = 2014-09-18T00:15:46.000Z
SPACECRAFT_ORIENTATION = (0.0,-1.0,0.0)
^MEX_ORIENTATION_DESC = "MEX_ORIENTATION_DESC.TXT"
SPACECRAFT_POINTING_MODE = NADIR
^MEX_POINTING_DESC = "MEX_POINTING_DESC.TXT"
RIGHT_ASCENSION = -1e+32
DECLINATION = -1e+32
OFFSET_ANGLE = -1e+32
SPACECRAFT_SOLAR_DISTANCE = 2.13889e+08
TARGET_NAME = MARS
/* CAMERA DATA ELEMENTS */
DETECTOR_TEMPERATURE = 19.1861
FOCAL_PLANE_TEMPERATURE = 9.195
INST_CMPRS_NAME = "DISCRETE COSINE TRANSFORMATION (DCT)"
INST_CMPRS_RATIO = 12.105
INST_CMPRS_QUALITY = 0
INST_CMPRS_QUANTZ_TBL_ID = 0
INSTRUMENT_TEMPERATURE = 12.0496
LENS_TEMPERATURE = 9.6028
MACROPIXEL_SIZE = 4
MISSING_FRAMES = 0
PIXEL_SUBSAMPLING_FLAG = N
SIGNAL_CHAIN_ID = 2
/* RADIOMETRIC DATA ELEMENTS */
BANDWIDTH = 48.0
CENTER_FILTER_WAVELENGTH = 748.0
RADIANCE_OFFSET = 0.391933
RADIANCE_SCALING_FACTOR = 0.00269565
REFLECTANCE_SCALING_FACTOR = 0.000281426
MEX:REFLECTANCE_OFFSET = 0.0409179
/* IMAGE OBJECT DEFINITIONS */
OBJECT = IMAGE
  INTERCHANGE_FORMAT = BINARY
  LINES = 19648
  LINE_SAMPLES = 2870
  SAMPLE_TYPE = UNSIGNED_INTEGER
  SAMPLE_BITS = 8
  BANDS = 1
  BAND_STORAGE_TYPE = BAND_SEQUENTIAL
  MAXIMUM = 255
  MEAN = 101.01
  MINIMUM = 1
  STANDARD_DEVIATION = 34.5171
END_OBJECT = IMAGE
/* MAP OBJECT DEFINITIONS */
OBJECT = IMAGE_MAP_PROJECTION
  ^DATA_SET_MAP_PROJECTION_CATALOG= "DSMAP.CAT"
  A_AXIS_RADIUS = 3396.0
  B_AXIS_RADIUS = 3396.0
  C_AXIS_RADIUS = 3396.0
  CENTER_LATITUDE = 0.0
  CENTER_LONGITUDE = 118.0
  COORDINATE_SYSTEM_NAME = PLANETOGRAPHIC
  COORDINATE_SYSTEM_TYPE = "BODY-FIXED ROTATING"
  EASTERNMOST_LONGITUDE = 119.113
  FIRST_STANDARD_PARALLEL = "N/A"
  LINE_FIRST_PIXEL = 1
  LINE_LAST_PIXEL = 19648
  LINE_PROJECTION_OFFSET = 3833.875
  MAP_PROJECTION_ROTATION = 0.0
  MAP_PROJECTION_TYPE = SINUSOIDAL
  MAP_RESOLUTION = 1185.42760773333
  MAP_SCALE = 0.05
  MAXIMUM_LATITUDE = 3.22983
  MINIMUM_LATITUDE = -13.347
  POSITIVE_LONGITUDE_DIRECTION = EAST
  REFERENCE_LATITUDE = "N/A"
  REFERENCE_LONGITUDE = "N/A"
  SAMPLE_FIRST_PIXEL = 1
  SAMPLE_LAST_PIXEL = 2870
  SAMPLE_PROJECTION_OFFSET = 1742.125
  SECOND_STANDARD_PARALLEL = "N/A"
  WESTERNMOST_LONGITUDE = 116.352
END_OBJECT = IMAGE_MAP_PROJECTION
END
