PDS_VERSION_ID = PDS3
/* FILE DATA ELEMENTS */
RECORD_TYPE = UNDEFINED
/* POINTERS TO DATA OBJECTS */
^IMAGE = ("HD593_0000_P24.TIF")
/* IDENTIFICATION DATA ELEMENTS */
DATA_SET_ID = "MEX-M-HRSC-4-REFDR-MAPPROJECT-EXT4-V4.0"
DATA_SET_NAME = "MARS EXPRESS HRSC MAP PROJECTED REFDR EXTENSION4 V4.0"
DETECTOR_ID = MEX_HRSC_P2
EVENT_TYPE = "MARS-REGIONAL-MAPPING-Im-Fl"
INSTRUMENT_HOST_ID = MEX
INSTRUMENT_HOST_NAME = "MARS EXPRESS"
INSTRUMENT_ID = HRSC
INSTRUMENT_NAME = "HIGH RESOLUTION STEREO CAMERA"
MISSION_NAME = "MARS EXPRESS"
MISSION_PHASE_NAME = ME_Phase_31
PROCESSING_LEVEL_ID = 4
PRODUCT_CREATION_TIME = 2023-02-01T02:09:17.000Z
PRODUCT_ID = "HD593_0000_P24.TIF"
RELEASE_ID = 0005
REVISION_ID = 0000
/* QUALITY DATA ELEMENTS */
DATA_QUALITY_ID = 1
DATA_QUALITY_DESC = "Data calculated based on original SPICE kernels"
/* TIME DATA ELEMENTS */
SPACECRAFT_CLOCK_START_COUNT = "1/0358903469.07320"
SPACECRAFT_CLOCK_STOP_COUNT = "1/0358903704.20252"
START_TIME = 2014-09-15T23:25:46.271Z
STOP_TIME = 2014-09-15T23:28:05.587Z
/* ORBITAL DATA ELEMENTS */
ASCENDING_NODE_LONGITUDE = 318.53
MAXIMUM_RESOLUTION = 0.079
FOOTPRINT_POINT_LATITUDE = (2.46663,2.46836,2.47118,2.47415, 2.47643,2.47868,2.48214,2.4844,2.48677, 2.48701,2.48692,2.27184,1.97869,1.68503 ,1.39113,1.0927,0.868278,0.645602, 0.348517,-0.0269273,-0.330729,-0.484277 ,-0.636325,-0.93954,-1.09315,-1.24883, -1.40438,-1.55962,-1.71483,-1.9509, -2.10893,-2.26665,-2.42392,-2.58251, -2.74264,-2.98213,-3.14195,-3.30474, -3.54808,-3.70977,-3.87218,-4.03682, -4.19953,-4.36333,-4.52956,-4.77876, -4.94501,-5.19409,-5.27838,-5.34686, -5.3469,-5.35077,-5.35491,-5.35722, -5.36487,-5.36746,-5.36655,-5.36738, -5.37408,-5.37423,-5.37301,-5.11828, -4.87073,-4.70478,-4.53902,-4.37397, -4.20937,-4.04514,-3.88265,-3.64084, -3.47855,-3.31687,-3.15537,-2.9147, -2.75425,-2.5942,-2.35649,-2.19947, -1.96238,-1.80428,-1.64895,-1.49442, -1.26317,-1.1104,-0.956182,-0.729742, -0.574968,-0.342683,-0.19018,0.112062, 0.338968,0.490127,0.788384,1.08782, 1.45554,1.74803,2.04204,2.33369,2.40563 ,2.46663)
FOOTPRINT_POINT_LONGITUDE = (114.533,114.345,114.064,113.798,113.61 ,113.439,113.189,113.032,112.875,112.86 ,112.855,112.849,112.84,112.831,112.822 ,112.813,112.807,112.799,112.788, 112.774,112.765,112.759,112.753,112.741 ,112.736,112.73,112.725,112.719,112.713 ,112.705,112.699,112.693,112.687, 112.681,112.675,112.666,112.66,112.654, 112.644,112.638,112.631,112.625,112.618 ,112.611,112.605,112.595,112.588, 112.577,112.573,112.57,112.739,112.949, 113.159,113.311,113.673,113.901,114.054 ,114.226,114.587,114.606,114.613,114.61 ,114.606,114.604,114.601,114.6,114.598, 114.596,114.593,114.589,114.588,114.586 ,114.583,114.581,114.58,114.578,114.575 ,114.574,114.571,114.57,114.568,114.566 ,114.563,114.56,114.559,114.555,114.554 ,114.553,114.552,114.55,114.548,114.546 ,114.544,114.543,114.539,114.536, 114.535,114.533,114.532,114.533)
ORBIT_NUMBER = 13593
ORBITAL_ECCENTRICITY = 0.576
ORBITAL_INCLINATION = 86.89
ORBITAL_SEMIMAJOR_AXIS = 8843.43
PERIAPSIS_ALTITUDE = 358.92
PERIAPSIS_ARGUMENT_ANGLE = 155.29
PERIAPSIS_TIME = 2014-09-15T23:19:26.000Z
SPACECRAFT_ORIENTATION = (0.0,-1.0,0.0)
^MEX_ORIENTATION_DESC = "MEX_ORIENTATION_DESC.TXT"
SPACECRAFT_POINTING_MODE = NADIR
^MEX_POINTING_DESC = "MEX_POINTING_DESC.TXT"
RIGHT_ASCENSION = -1e+32
DECLINATION = -1e+32
OFFSET_ANGLE = -1e+32
SPACECRAFT_SOLAR_DISTANCE = 2.1421e+08
TARGET_NAME = MARS
/* CAMERA DATA ELEMENTS */
DETECTOR_TEMPERATURE = 18.7783
FOCAL_PLANE_TEMPERATURE = 8.7872
INST_CMPRS_NAME = "DISCRETE COSINE TRANSFORMATION (DCT)"
INST_CMPRS_RATIO = 8.00797
INST_CMPRS_QUALITY = 0
INST_CMPRS_QUANTZ_TBL_ID = 0
INSTRUMENT_TEMPERATURE = 11.8457
LENS_TEMPERATURE = 9.195
MACROPIXEL_SIZE = 4
MISSING_FRAMES = 0
PIXEL_SUBSAMPLING_FLAG = N
SIGNAL_CHAIN_ID = 3
/* RADIOMETRIC DATA ELEMENTS */
BANDWIDTH = 177.0
CENTER_FILTER_WAVELENGTH = 676.5
RADIANCE_OFFSET = 1.59554
RADIANCE_SCALING_FACTOR = 0.00683236
REFLECTANCE_SCALING_FACTOR = 0.000166229
MEX:REFLECTANCE_OFFSET = 0.0388189
/* IMAGE OBJECT DEFINITIONS */
OBJECT = IMAGE
  INTERCHANGE_FORMAT = BINARY
  LINES = 9317
  LINE_SAMPLES = 2280
  SAMPLE_TYPE = UNSIGNED_INTEGER
  SAMPLE_BITS = 8
  BANDS = 1
  BAND_STORAGE_TYPE = BAND_SEQUENTIAL
  MAXIMUM = 255
  MEAN = 103.939
  MINIMUM = 1
  STANDARD_DEVIATION = 33.2174
END_OBJECT = IMAGE
/* MAP OBJECT DEFINITIONS */
OBJECT = IMAGE_MAP_PROJECTION
  ^DATA_SET_MAP_PROJECTION_CATALOG= "DSMAP.CAT"
  A_AXIS_RADIUS = 3396.0
  B_AXIS_RADIUS = 3396.0
  C_AXIS_RADIUS = 3396.0
  CENTER_LATITUDE = 0.0
  CENTER_LONGITUDE = 114.0
  COORDINATE_SYSTEM_NAME = PLANETOGRAPHIC
  COORDINATE_SYSTEM_TYPE = "BODY-FIXED ROTATING"
  EASTERNMOST_LONGITUDE = 114.613
  FIRST_STANDARD_PARALLEL = "N/A"
  LINE_FIRST_PIXEL = 1
  LINE_LAST_PIXEL = 9317
  LINE_PROJECTION_OFFSET = 2940.375
  MAP_PROJECTION_ROTATION = 0.0
  MAP_PROJECTION_TYPE = SINUSOIDAL
  MAP_RESOLUTION = 1185.42760773333
  MAP_SCALE = 0.05
  MAXIMUM_LATITUDE = 2.48701
  MINIMUM_LATITUDE = -5.37423
  POSITIVE_LONGITUDE_DIRECTION = EAST
  REFERENCE_LATITUDE = "N/A"
  REFERENCE_LONGITUDE = "N/A"
  SAMPLE_FIRST_PIXEL = 1
  SAMPLE_LAST_PIXEL = 2280
  SAMPLE_PROJECTION_OFFSET = 1625.625
  SECOND_STANDARD_PARALLEL = "N/A"
  WESTERNMOST_LONGITUDE = 112.57
END_OBJECT = IMAGE_MAP_PROJECTION
END
