PDS_VERSION_ID = PDS3
/* FILE DATA ELEMENTS */
RECORD_TYPE = UNDEFINED
/* POINTERS TO DATA OBJECTS */
^IMAGE = ("HD593_0000_ND4.TIF")
/* IDENTIFICATION DATA ELEMENTS */
DATA_SET_ID = "MEX-M-HRSC-4-REFDR-MAPPROJECT-EXT4-V4.0"
DATA_SET_NAME = "MARS EXPRESS HRSC MAP PROJECTED REFDR EXTENSION4 V4.0"
DETECTOR_ID = MEX_HRSC_NADIR
EVENT_TYPE = "MARS-REGIONAL-MAPPING-Im-Fl"
INSTRUMENT_HOST_ID = MEX
INSTRUMENT_HOST_NAME = "MARS EXPRESS"
INSTRUMENT_ID = HRSC
INSTRUMENT_NAME = "HIGH RESOLUTION STEREO CAMERA"
MISSION_NAME = "MARS EXPRESS"
MISSION_PHASE_NAME = ME_Phase_31
PROCESSING_LEVEL_ID = 4
PRODUCT_CREATION_TIME = 2023-02-01T02:09:17.000Z
PRODUCT_ID = "HD593_0000_ND4.TIF"
RELEASE_ID = 0005
REVISION_ID = 0000
/* QUALITY DATA ELEMENTS */
DATA_QUALITY_ID = 1
DATA_QUALITY_DESC = "Data calculated based on original SPICE kernels"
/* TIME DATA ELEMENTS */
SPACECRAFT_CLOCK_START_COUNT = "1/0358903469.07320"
SPACECRAFT_CLOCK_STOP_COUNT = "1/0358903704.20252"
START_TIME = 2014-09-15T23:25:16.158Z
STOP_TIME = 2014-09-15T23:27:27.135Z
/* ORBITAL DATA ELEMENTS */
ASCENDING_NODE_LONGITUDE = 318.53
MAXIMUM_RESOLUTION = 0.0184
FOOTPRINT_POINT_LATITUDE = (2.46188,2.46382,2.46821,2.47101, 2.47451,2.47652,2.47832,2.48046,2.48064 ,2.48047,2.18991,1.89559,1.60171, 1.30822,1.00853,0.709225,0.410497, 0.106641,-0.0456543,-0.197869,-0.501955 ,-0.733589,-0.888515,-1.04336,-1.19807, -1.35264,-1.58788,-1.74545,-1.90287, -2.06015,-2.21727,-2.3771,-2.53724, -2.69722,-2.85706,-3.01673,-3.2605, -3.4231,-3.58551,-3.74776,-3.99453, -4.15962,-4.3246,-4.48937,-4.73986, -4.90742,-5.07479,-5.242,-5.32671, -5.35064,-5.3533,-5.35946,-5.36337, -5.36617,-5.36857,-5.37087,-5.37317, -5.37566,-5.37795,-5.37819,-5.37799, -5.12528,-4.95776,-4.79,-4.53882, -4.37388,-4.20878,-4.04349,-3.79609, -3.63367,-3.47109,-3.30835,-3.14545, -2.90406,-2.74406,-2.5839,-2.4236, -2.26316,-2.10589,-1.94846,-1.79089, -1.63316,-1.39725,-1.24257,-1.08776, -0.85514,-0.699991,-0.545269,-0.240849, -0.0884888,0.064005,0.368672,0.667756, 0.96737,1.34113,1.63495,1.9292,2.36947, 2.44155,2.46188)
FOOTPRINT_POINT_LONGITUDE = (114.497,114.339,113.974,113.736, 113.434,113.26,113.101,112.91,112.894, 112.886,112.878,112.87,112.861,112.854, 112.845,112.837,112.826,112.817,112.811 ,112.806,112.797,112.789,112.783, 112.778,112.773,112.768,112.76,112.755, 112.749,112.744,112.739,112.733,112.727 ,112.722,112.716,112.71,112.702,112.696 ,112.691,112.685,112.676,112.669, 112.664,112.658,112.648,112.641,112.634 ,112.628,112.624,112.623,112.794, 113.194,113.46,113.65,113.821,113.993, 114.165,114.355,114.525,114.545,114.554 ,114.553,114.55,114.549,114.546,114.545 ,114.543,114.542,114.538,114.537, 114.536,114.534,114.532,114.531,114.53, 114.529,114.528,114.526,114.525,114.524 ,114.523,114.522,114.519,114.517, 114.515,114.515,114.512,114.511,114.511 ,114.509,114.508,114.507,114.505, 114.505,114.501,114.5,114.499,114.497, 114.497,114.497)
ORBIT_NUMBER = 13593
ORBITAL_ECCENTRICITY = 0.576
ORBITAL_INCLINATION = 86.89
ORBITAL_SEMIMAJOR_AXIS = 8843.43
PERIAPSIS_ALTITUDE = 358.92
PERIAPSIS_ARGUMENT_ANGLE = 155.29
PERIAPSIS_TIME = 2014-09-15T23:19:26.000Z
SPACECRAFT_ORIENTATION = (0.0,-1.0,0.0)
^MEX_ORIENTATION_DESC = "MEX_ORIENTATION_DESC.TXT"
SPACECRAFT_POINTING_MODE = NADIR
^MEX_POINTING_DESC = "MEX_POINTING_DESC.TXT"
RIGHT_ASCENSION = -1e+32
DECLINATION = -1e+32
OFFSET_ANGLE = -1e+32
SPACECRAFT_SOLAR_DISTANCE = 2.1421e+08
TARGET_NAME = MARS
/* CAMERA DATA ELEMENTS */
DETECTOR_TEMPERATURE = 18.5744
FOCAL_PLANE_TEMPERATURE = 8.7872
INST_CMPRS_NAME = "DISCRETE COSINE TRANSFORMATION (DCT)"
INST_CMPRS_RATIO = 6.43223
INST_CMPRS_QUALITY = 0
INST_CMPRS_QUANTZ_TBL_ID = 0
INSTRUMENT_TEMPERATURE = 11.8457
LENS_TEMPERATURE = 9.195
MACROPIXEL_SIZE = 1
MISSING_FRAMES = 0
PIXEL_SUBSAMPLING_FLAG = N
SIGNAL_CHAIN_ID = 0
/* RADIOMETRIC DATA ELEMENTS */
BANDWIDTH = 177.0
CENTER_FILTER_WAVELENGTH = 677.5
RADIANCE_OFFSET = 1.37216
RADIANCE_SCALING_FACTOR = 0.00689443
REFLECTANCE_SCALING_FACTOR = 0.000168059
MEX:REFLECTANCE_OFFSET = 0.0334478
/* IMAGE OBJECT DEFINITIONS */
OBJECT = IMAGE
  INTERCHANGE_FORMAT = BINARY
  LINES = 37265
  LINE_SAMPLES = 9120
  SAMPLE_TYPE = UNSIGNED_INTEGER
  SAMPLE_BITS = 8
  BANDS = 1
  BAND_STORAGE_TYPE = BAND_SEQUENTIAL
  MAXIMUM = 255
  MEAN = 104.527
  MINIMUM = 1
  STANDARD_DEVIATION = 30.4327
END_OBJECT = IMAGE
/* MAP OBJECT DEFINITIONS */
OBJECT = IMAGE_MAP_PROJECTION
  ^DATA_SET_MAP_PROJECTION_CATALOG= "DSMAP.CAT"
  A_AXIS_RADIUS = 3396.0
  B_AXIS_RADIUS = 3396.0
  C_AXIS_RADIUS = 3396.0
  CENTER_LATITUDE = 0.0
  CENTER_LONGITUDE = 114.0
  COORDINATE_SYSTEM_NAME = PLANETOGRAPHIC
  COORDINATE_SYSTEM_TYPE = "BODY-FIXED ROTATING"
  EASTERNMOST_LONGITUDE = 114.554
  FIRST_STANDARD_PARALLEL = "N/A"
  LINE_FIRST_PIXEL = 1
  LINE_LAST_PIXEL = 37265
  LINE_PROJECTION_OFFSET = 11763.0
  MAP_PROJECTION_ROTATION = 0.0
  MAP_PROJECTION_TYPE = SINUSOIDAL
  MAP_RESOLUTION = 4741.71043093333
  MAP_SCALE = 0.0125
  MAXIMUM_LATITUDE = 2.48064
  MINIMUM_LATITUDE = -5.37819
  POSITIVE_LONGITUDE_DIRECTION = EAST
  REFERENCE_LATITUDE = "N/A"
  REFERENCE_LONGITUDE = "N/A"
  SAMPLE_FIRST_PIXEL = 1
  SAMPLE_LAST_PIXEL = 9120
  SAMPLE_PROJECTION_OFFSET = 6504.0
  SECOND_STANDARD_PARALLEL = "N/A"
  WESTERNMOST_LONGITUDE = 112.623
END_OBJECT = IMAGE_MAP_PROJECTION
END
