PDS_VERSION_ID = PDS3
/* FILE DATA ELEMENTS */
RECORD_TYPE = UNDEFINED
/* POINTERS TO DATA OBJECTS */
^IMAGE = ("HD589_0000_RE4.TIF")
/* IDENTIFICATION DATA ELEMENTS */
DATA_SET_ID = "MEX-M-HRSC-4-REFDR-MAPPROJECT-EXT4-V4.0"
DATA_SET_NAME = "MARS EXPRESS HRSC MAP PROJECTED REFDR EXTENSION4 V4.0"
DETECTOR_ID = MEX_HRSC_RED
EVENT_TYPE = "MARS-REGIONAL-MAPPING-Vo-Fl-At"
INSTRUMENT_HOST_ID = MEX
INSTRUMENT_HOST_NAME = "MARS EXPRESS"
INSTRUMENT_ID = HRSC
INSTRUMENT_NAME = "HIGH RESOLUTION STEREO CAMERA"
MISSION_NAME = "MARS EXPRESS"
MISSION_PHASE_NAME = ME_Phase_31
PROCESSING_LEVEL_ID = 4
PRODUCT_CREATION_TIME = 2023-02-01T02:09:17.000Z
PRODUCT_ID = "HD589_0000_RE4.TIF"
RELEASE_ID = 0005
REVISION_ID = 0000
/* QUALITY DATA ELEMENTS */
DATA_QUALITY_ID = 1
DATA_QUALITY_DESC = "Data calculated based on original SPICE kernels"
/* TIME DATA ELEMENTS */
SPACECRAFT_CLOCK_START_COUNT = "1/0358802758.09049"
SPACECRAFT_CLOCK_STOP_COUNT = "1/0358803140.22716"
START_TIME = 2014-09-14T19:27:22.133Z
STOP_TIME = 2014-09-14T19:32:09.575Z
/* ORBITAL DATA ELEMENTS */
ASCENDING_NODE_LONGITUDE = 318.6
MAXIMUM_RESOLUTION = 0.1568
FOOTPRINT_POINT_LATITUDE = (4.40884,4.45441,4.50289,4.56985, 4.57155,4.59094,3.90287,3.20631,2.50337 ,1.9369,1.64905,1.3614,1.07442,0.78254, 0.345561,0.0513883,-0.244576,-0.689162, -0.988685,-1.28736,-1.59125,-1.8946, -2.35316,-2.66038,-2.97053,-3.281, -3.75265,-4.22752,-4.54657,-4.86777, -5.34882,-5.83707,-6.16857,-6.49751, -6.83036,-7.16424,-7.50111,-7.83981, -8.18211,-8.69577,-9.21971,-9.74715, -10.1004,-10.4557,-10.8145,-10.9931, -10.9988,-11.0511,-11.0782,-11.1217, -11.153,-11.1766,-11.2068,-11.2081, -11.2063,-10.8446,-10.4875,-9.95444, -9.60223,-9.25148,-8.90368,-8.55927, -8.21554,-7.87458,-7.53693,-7.19104, -6.6985,-6.36792,-6.03661,-5.71031, -5.38464,-5.06192,-4.74001,-4.42134, -4.10156,-3.78705,-3.47059,-3.15953, -2.84684,-2.53914,-2.07855,-1.77477, -1.47004,-1.17038,-0.869908,-0.423809, -0.127339,0.167735,0.605989,0.898709, 1.18639,1.47453,1.76323,2.33107,2.61605 ,3.1743,3.87212,4.28637,4.42466, 4.40884)
FOOTPRINT_POINT_LONGITUDE = (161.488,160.991,160.475,159.781, 159.764,159.731,159.714,159.697,159.678 ,159.662,159.654,159.646,159.637, 159.628,159.614,159.605,159.595,159.58, 159.569,159.558,159.547,159.537,159.518 ,159.507,159.494,159.482,159.463, 159.444,159.431,159.417,159.393,159.37, 159.357,159.341,159.324,159.307,159.291 ,159.273,159.257,159.228,159.202, 159.174,159.153,159.131,159.11,159.098, 159.098,159.663,159.978,160.48,160.88, 161.182,161.595,161.617,161.632,161.627 ,161.622,161.615,161.61,161.605,161.601 ,161.596,161.592,161.588,161.584, 161.578,161.575,161.571,161.567,161.564 ,161.561,161.557,161.554,161.551, 161.547,161.545,161.541,161.538,161.535 ,161.533,161.529,161.526,161.523, 161.521,161.518,161.515,161.512,161.51, 161.507,161.504,161.502,161.5,161.498, 161.494,161.491,161.488,161.482,161.479 ,161.478,161.488)
ORBIT_NUMBER = 13589
ORBITAL_ECCENTRICITY = 0.575
ORBITAL_INCLINATION = 86.9
ORBITAL_SEMIMAJOR_AXIS = 8836.19
PERIAPSIS_ALTITUDE = 359.45
PERIAPSIS_ARGUMENT_ANGLE = 156.01
PERIAPSIS_TIME = 2014-09-14T19:21:38.000Z
SPACECRAFT_ORIENTATION = (0.0,-1.0,0.0)
^MEX_ORIENTATION_DESC = "MEX_ORIENTATION_DESC.TXT"
SPACECRAFT_POINTING_MODE = ACROSSTRACK
^MEX_POINTING_DESC = "MEX_POINTING_DESC.TXT"
RIGHT_ASCENSION = -1e+32
DECLINATION = -1e+32
OFFSET_ANGLE = -2.0
SPACECRAFT_SOLAR_DISTANCE = 2.14396e+08
TARGET_NAME = MARS
/* CAMERA DATA ELEMENTS */
DETECTOR_TEMPERATURE = 18.9822
FOCAL_PLANE_TEMPERATURE = 8.9911
INST_CMPRS_NAME = "DISCRETE COSINE TRANSFORMATION (DCT)"
INST_CMPRS_RATIO = 10.5884
INST_CMPRS_QUALITY = 0
INST_CMPRS_QUANTZ_TBL_ID = 0
INSTRUMENT_TEMPERATURE = 12.0496
LENS_TEMPERATURE = 9.6028
MACROPIXEL_SIZE = 8
MISSING_FRAMES = 0
PIXEL_SUBSAMPLING_FLAG = N
SIGNAL_CHAIN_ID = 2
/* RADIOMETRIC DATA ELEMENTS */
BANDWIDTH = 48.0
CENTER_FILTER_WAVELENGTH = 748.0
RADIANCE_OFFSET = 0.549871
RADIANCE_SCALING_FACTOR = 0.003014
REFLECTANCE_SCALING_FACTOR = 0.000316155
MEX:REFLECTANCE_OFFSET = 0.0576791
/* IMAGE OBJECT DEFINITIONS */
OBJECT = IMAGE
  INTERCHANGE_FORMAT = BINARY
  LINES = 9279
  LINE_SAMPLES = 1362
  SAMPLE_TYPE = UNSIGNED_INTEGER
  SAMPLE_BITS = 8
  BANDS = 1
  BAND_STORAGE_TYPE = BAND_SEQUENTIAL
  MAXIMUM = 255
  MEAN = 113.316
  MINIMUM = 1
  STANDARD_DEVIATION = 32.2281
END_OBJECT = IMAGE
/* MAP OBJECT DEFINITIONS */
OBJECT = IMAGE_MAP_PROJECTION
  ^DATA_SET_MAP_PROJECTION_CATALOG= "DSMAP.CAT"
  A_AXIS_RADIUS = 3396.0
  B_AXIS_RADIUS = 3396.0
  C_AXIS_RADIUS = 3396.0
  CENTER_LATITUDE = 0.0
  CENTER_LONGITUDE = 161.0
  COORDINATE_SYSTEM_NAME = PLANETOGRAPHIC
  COORDINATE_SYSTEM_TYPE = "BODY-FIXED ROTATING"
  EASTERNMOST_LONGITUDE = 161.632
  FIRST_STANDARD_PARALLEL = "N/A"
  LINE_FIRST_PIXEL = 1
  LINE_LAST_PIXEL = 9279
  LINE_PROJECTION_OFFSET = 2670.9375
  MAP_PROJECTION_ROTATION = 0.0
  MAP_PROJECTION_TYPE = SINUSOIDAL
  MAP_RESOLUTION = 592.713803866667
  MAP_SCALE = 0.1
  MAXIMUM_LATITUDE = 4.59094
  MINIMUM_LATITUDE = -11.2081
  POSITIVE_LONGITUDE_DIRECTION = EAST
  REFERENCE_LATITUDE = "N/A"
  REFERENCE_LONGITUDE = "N/A"
  SAMPLE_FIRST_PIXEL = 1
  SAMPLE_LAST_PIXEL = 1362
  SAMPLE_PROJECTION_OFFSET = 1043.4375
  SECOND_STANDARD_PARALLEL = "N/A"
  WESTERNMOST_LONGITUDE = 159.098
END_OBJECT = IMAGE_MAP_PROJECTION
END
