PDS_VERSION_ID = PDS3
/* FILE DATA ELEMENTS */
RECORD_TYPE = UNDEFINED
/* POINTERS TO DATA OBJECTS */
^IMAGE = ("HD589_0000_ND4.TIF")
/* IDENTIFICATION DATA ELEMENTS */
DATA_SET_ID = "MEX-M-HRSC-4-REFDR-MAPPROJECT-EXT4-V4.0"
DATA_SET_NAME = "MARS EXPRESS HRSC MAP PROJECTED REFDR EXTENSION4 V4.0"
DETECTOR_ID = MEX_HRSC_NADIR
EVENT_TYPE = "MARS-REGIONAL-MAPPING-Vo-Fl-At"
INSTRUMENT_HOST_ID = MEX
INSTRUMENT_HOST_NAME = "MARS EXPRESS"
INSTRUMENT_ID = HRSC
INSTRUMENT_NAME = "HIGH RESOLUTION STEREO CAMERA"
MISSION_NAME = "MARS EXPRESS"
MISSION_PHASE_NAME = ME_Phase_31
PROCESSING_LEVEL_ID = 4
PRODUCT_CREATION_TIME = 2023-02-01T02:09:17.000Z
PRODUCT_ID = "HD589_0000_ND4.TIF"
RELEASE_ID = 0005
REVISION_ID = 0000
/* QUALITY DATA ELEMENTS */
DATA_QUALITY_ID = 1
DATA_QUALITY_DESC = "Data calculated based on original SPICE kernels"
/* TIME DATA ELEMENTS */
SPACECRAFT_CLOCK_START_COUNT = "1/0358802758.09049"
SPACECRAFT_CLOCK_STOP_COUNT = "1/0358803140.22716"
START_TIME = 2014-09-14T19:26:44.530Z
STOP_TIME = 2014-09-14T19:31:08.569Z
/* ORBITAL DATA ELEMENTS */
ASCENDING_NODE_LONGITUDE = 318.6
MAXIMUM_RESOLUTION = 0.0179
FOOTPRINT_POINT_LATITUDE = (4.4899,4.49525,4.50048,4.50621,4.50637 ,4.50685,3.82051,2.98796,2.4296,2.00326 ,1.71877,1.43469,1.00233,0.712864, 0.423844,-0.0163755,-0.310666,-0.604458 ,-0.903895,-1.20305,-1.50172,-1.8058, -2.26149,-2.56841,-2.87728,-3.18556, -3.49888,-3.96879,-4.28668,-4.76356, -5.08634,-5.40882,-5.89865,-6.22571, -6.55762,-6.88923,-7.22535,-7.56153, -7.90174,-8.41511,-8.76048,-9.10852, -9.45812,-9.81138,-10.3451,-10.8845, -11.0658,-11.0928,-11.103,-11.1121, -11.1217,-11.129,-11.1411,-11.1468, -11.1472,-11.147,-10.783,-10.4239, -9.88825,-9.53359,-9.18309,-8.83383, -8.48758,-7.97259,-7.63104,-7.29378, -6.95657,-6.62419,-6.29098,-5.96321, -5.47176,-5.14845,-4.82442,-4.50591, -4.18679,-3.71352,-3.39908,-2.9329, -2.6233,-2.31525,-2.01089,-1.706,-1.254 ,-0.954173,-0.653839,-0.359215, -0.064314,0.377308,0.666933,0.956995, 1.39072,1.67538,1.96044,2.38812,2.94759 ,3.22785,3.50781,4.33232,4.47003, 4.4899)
FOOTPRINT_POINT_LONGITUDE = (161.464,160.961,160.437,159.819, 159.801,159.769,159.755,159.735,159.722 ,159.711,159.704,159.697,159.685, 159.677,159.669,159.656,159.648,159.639 ,159.63,159.62,159.61,159.601,159.585, 159.574,159.564,159.552,159.541,159.526 ,159.513,159.497,159.482,159.468, 159.447,159.436,159.421,159.407,159.392 ,159.377,159.361,159.339,159.323, 159.309,159.292,159.274,159.246,159.218 ,159.207,159.205,159.589,159.945, 160.341,160.663,161.226,161.513,161.535 ,161.546,161.543,161.54,161.536,161.533 ,161.53,161.528,161.525,161.522,161.519 ,161.514,161.514,161.513,161.51,161.508 ,161.505,161.503,161.501,161.499, 161.497,161.495,161.492,161.49,161.488, 161.486,161.485,161.483,161.481,161.479 ,161.478,161.477,161.475,161.473, 161.471,161.47,161.468,161.467,161.465, 161.463,161.461,161.46,161.458,161.454, 161.453,161.464)
ORBIT_NUMBER = 13589
ORBITAL_ECCENTRICITY = 0.575
ORBITAL_INCLINATION = 86.9
ORBITAL_SEMIMAJOR_AXIS = 8836.19
PERIAPSIS_ALTITUDE = 359.45
PERIAPSIS_ARGUMENT_ANGLE = 156.01
PERIAPSIS_TIME = 2014-09-14T19:21:38.000Z
SPACECRAFT_ORIENTATION = (0.0,-1.0,0.0)
^MEX_ORIENTATION_DESC = "MEX_ORIENTATION_DESC.TXT"
SPACECRAFT_POINTING_MODE = ACROSSTRACK
^MEX_POINTING_DESC = "MEX_POINTING_DESC.TXT"
RIGHT_ASCENSION = -1e+32
DECLINATION = -1e+32
OFFSET_ANGLE = -2.0
SPACECRAFT_SOLAR_DISTANCE = 2.14396e+08
TARGET_NAME = MARS
/* CAMERA DATA ELEMENTS */
DETECTOR_TEMPERATURE = 18.5744
FOCAL_PLANE_TEMPERATURE = 8.9911
INST_CMPRS_NAME = "DISCRETE COSINE TRANSFORMATION (DCT)"
INST_CMPRS_RATIO = 6.28962
INST_CMPRS_QUALITY = 0
INST_CMPRS_QUANTZ_TBL_ID = 0
INSTRUMENT_TEMPERATURE = 12.0496
LENS_TEMPERATURE = 9.6028
MACROPIXEL_SIZE = 1
MISSING_FRAMES = 0
PIXEL_SUBSAMPLING_FLAG = N
SIGNAL_CHAIN_ID = 0
/* RADIOMETRIC DATA ELEMENTS */
BANDWIDTH = 177.0
CENTER_FILTER_WAVELENGTH = 677.5
RADIANCE_OFFSET = 1.88672
RADIANCE_SCALING_FACTOR = 0.0110143
REFLECTANCE_SCALING_FACTOR = 0.00026895
MEX:REFLECTANCE_OFFSET = 0.0460706
/* IMAGE OBJECT DEFINITIONS */
OBJECT = IMAGE
  INTERCHANGE_FORMAT = BINARY
  LINES = 74229
  LINE_SAMPLES = 10895
  SAMPLE_TYPE = UNSIGNED_INTEGER
  SAMPLE_BITS = 8
  BANDS = 1
  BAND_STORAGE_TYPE = BAND_SEQUENTIAL
  MAXIMUM = 255
  MEAN = 105.09
  MINIMUM = 1
  STANDARD_DEVIATION = 32.1569
END_OBJECT = IMAGE
/* MAP OBJECT DEFINITIONS */
OBJECT = IMAGE_MAP_PROJECTION
  ^DATA_SET_MAP_PROJECTION_CATALOG= "DSMAP.CAT"
  A_AXIS_RADIUS = 3396.0
  B_AXIS_RADIUS = 3396.0
  C_AXIS_RADIUS = 3396.0
  CENTER_LATITUDE = 0.0
  CENTER_LONGITUDE = 161.0
  COORDINATE_SYSTEM_NAME = PLANETOGRAPHIC
  COORDINATE_SYSTEM_TYPE = "BODY-FIXED ROTATING"
  EASTERNMOST_LONGITUDE = 161.546
  FIRST_STANDARD_PARALLEL = "N/A"
  LINE_FIRST_PIXEL = 1
  LINE_LAST_PIXEL = 74229
  LINE_PROJECTION_OFFSET = 21371.0
  MAP_PROJECTION_ROTATION = 0.0
  MAP_PROJECTION_TYPE = SINUSOIDAL
  MAP_RESOLUTION = 4741.71043093333
  MAP_SCALE = 0.0125
  MAXIMUM_LATITUDE = 4.50685
  MINIMUM_LATITUDE = -11.1472
  POSITIVE_LONGITUDE_DIRECTION = EAST
  REFERENCE_LATITUDE = "N/A"
  REFERENCE_LONGITUDE = "N/A"
  SAMPLE_FIRST_PIXEL = 1
  SAMPLE_LAST_PIXEL = 10895
  SAMPLE_PROJECTION_OFFSET = 8351.0
  SECOND_STANDARD_PARALLEL = "N/A"
  WESTERNMOST_LONGITUDE = 159.205
END_OBJECT = IMAGE_MAP_PROJECTION
END
