PDS_VERSION_ID = PDS3
/* FILE DATA ELEMENTS */
RECORD_TYPE = UNDEFINED
/* POINTERS TO DATA OBJECTS */
^IMAGE = ("HD584_0000_P14.TIF")
/* IDENTIFICATION DATA ELEMENTS */
DATA_SET_ID = "MEX-M-HRSC-4-REFDR-MAPPROJECT-EXT4-V4.0"
DATA_SET_NAME = "MARS EXPRESS HRSC MAP PROJECTED REFDR EXTENSION4 V4.0"
DETECTOR_ID = MEX_HRSC_P1
EVENT_TYPE = "MARS-REGIONAL-MAPPING-Fl"
INSTRUMENT_HOST_ID = MEX
INSTRUMENT_HOST_NAME = "MARS EXPRESS"
INSTRUMENT_ID = HRSC
INSTRUMENT_NAME = "HIGH RESOLUTION STEREO CAMERA"
MISSION_NAME = "MARS EXPRESS"
MISSION_PHASE_NAME = ME_Phase_31
PROCESSING_LEVEL_ID = 4
PRODUCT_CREATION_TIME = 2023-02-01T02:09:17.000Z
PRODUCT_ID = "HD584_0000_P14.TIF"
RELEASE_ID = 0005
REVISION_ID = 0000
/* QUALITY DATA ELEMENTS */
DATA_QUALITY_ID = 1
DATA_QUALITY_DESC = "Data calculated based on original SPICE kernels"
/* TIME DATA ELEMENTS */
SPACECRAFT_CLOCK_START_COUNT = "1/0358676666.09050"
SPACECRAFT_CLOCK_STOP_COUNT = "1/0358676870.57503"
START_TIME = 2014-09-13T08:24:42.776Z
STOP_TIME = 2014-09-13T08:26:54.184Z
/* ORBITAL DATA ELEMENTS */
ASCENDING_NODE_LONGITUDE = 318.7
MAXIMUM_RESOLUTION = 0.0298
FOOTPRINT_POINT_LATITUDE = (19.7225,19.7164,19.7099,19.703,19.6956 ,19.6877,19.676,19.6755,19.6491,19.4118 ,19.0953,18.8577,18.6201,18.2244, 17.9081,17.7494,17.591,17.3531,17.1153, 16.9567,16.7187,16.4808,16.1639,16.005, 15.7668,15.5288,15.3701,15.1319,14.9732 ,14.8145,14.656,14.4859,14.2964,14.107, 13.823,13.6336,13.4441,13.2547,12.9708, 12.7818,12.5926,12.4028,12.2135,12.0247 ,11.7418,11.4583,11.2691,11.1742, 11.1362,11.1456,11.1514,11.156,11.1638, 11.1714,11.1717,11.1723,11.3615,11.5508 ,11.7405,11.9301,12.2144,12.4028, 12.5921,12.7818,13.0662,13.2558,13.4456 ,13.7301,13.92,14.2045,14.3941,14.6657, 14.9042,15.0632,15.3017,15.4606,15.6196 ,15.8579,16.0168,16.1755,16.3342, 16.5725,16.7312,16.8898,17.0485,17.2865 ,17.4452,17.6833,17.8421,18.0007, 18.2386,18.4765,18.6352,18.8732,19.111, 19.2696,19.4281,19.5867,19.666,19.7225)
FOOTPRINT_POINT_LONGITUDE = (313.834,313.63,313.425,313.217,313.007 ,312.795,312.5,312.487,312.453,312.455, 312.458,312.459,312.461,312.463,312.465 ,312.466,312.466,312.467,312.468, 312.468,312.469,312.469,312.47,312.47, 312.47,312.47,312.469,312.469,312.469, 312.469,312.468,312.468,312.467,312.467 ,312.466,312.465,312.464,312.464, 312.462,312.462,312.461,312.459,312.458 ,312.457,312.456,312.454,312.453, 312.452,312.451,312.794,312.998,313.16, 313.467,313.822,313.835,313.84,313.84, 313.84,313.839,313.839,313.839,313.839, 313.838,313.838,313.838,313.838,313.838 ,313.837,313.837,313.837,313.837, 313.837,313.836,313.836,313.836,313.836 ,313.836,313.835,313.835,313.835, 313.835,313.835,313.834,313.834,313.834 ,313.834,313.834,313.833,313.833, 313.833,313.833,313.832,313.832,313.832 ,313.831,313.831,313.831,313.831, 313.831,313.834)
ORBIT_NUMBER = 13584
ORBITAL_ECCENTRICITY = 0.575
ORBITAL_INCLINATION = 86.91
ORBITAL_SEMIMAJOR_AXIS = 8837.76
PERIAPSIS_ALTITUDE = 358.59
PERIAPSIS_ARGUMENT_ANGLE = 156.88
PERIAPSIS_TIME = 2014-09-13T08:24:11.000Z
SPACECRAFT_ORIENTATION = (0.0,-1.0,0.0)
^MEX_ORIENTATION_DESC = "MEX_ORIENTATION_DESC.TXT"
SPACECRAFT_POINTING_MODE = ACROSSTRACK
^MEX_POINTING_DESC = "MEX_POINTING_DESC.TXT"
RIGHT_ASCENSION = -1e+32
DECLINATION = -1e+32
OFFSET_ANGLE = -0.8
SPACECRAFT_SOLAR_DISTANCE = 2.1463e+08
TARGET_NAME = MARS
/* CAMERA DATA ELEMENTS */
DETECTOR_TEMPERATURE = 17.5549
FOCAL_PLANE_TEMPERATURE = 8.5833
INST_CMPRS_NAME = "DISCRETE COSINE TRANSFORMATION (DCT)"
INST_CMPRS_RATIO = 10.9256
INST_CMPRS_QUALITY = 0
INST_CMPRS_QUANTZ_TBL_ID = 0
INSTRUMENT_TEMPERATURE = 11.4379
LENS_TEMPERATURE = 8.7872
MACROPIXEL_SIZE = 2
MISSING_FRAMES = 0
PIXEL_SUBSAMPLING_FLAG = N
SIGNAL_CHAIN_ID = 3
/* RADIOMETRIC DATA ELEMENTS */
BANDWIDTH = 174.0
CENTER_FILTER_WAVELENGTH = 675.0
RADIANCE_OFFSET = 1.66817
RADIANCE_SCALING_FACTOR = 0.00495594
REFLECTANCE_SCALING_FACTOR = 0.000122799
MEX:REFLECTANCE_OFFSET = 0.0413341
/* IMAGE OBJECT DEFINITIONS */
OBJECT = IMAGE
  INTERCHANGE_FORMAT = BINARY
  LINES = 20232
  LINE_SAMPLES = 3285
  SAMPLE_TYPE = UNSIGNED_INTEGER
  SAMPLE_BITS = 8
  BANDS = 1
  BAND_STORAGE_TYPE = BAND_SEQUENTIAL
  MAXIMUM = 255
  MEAN = 106.358
  MINIMUM = 1
  STANDARD_DEVIATION = 35.3319
END_OBJECT = IMAGE
/* MAP OBJECT DEFINITIONS */
OBJECT = IMAGE_MAP_PROJECTION
  ^DATA_SET_MAP_PROJECTION_CATALOG= "DSMAP.CAT"
  A_AXIS_RADIUS = 3396.0
  B_AXIS_RADIUS = 3396.0
  C_AXIS_RADIUS = 3396.0
  CENTER_LATITUDE = 0.0
  CENTER_LONGITUDE = 313.0
  COORDINATE_SYSTEM_NAME = PLANETOGRAPHIC
  COORDINATE_SYSTEM_TYPE = "BODY-FIXED ROTATING"
  EASTERNMOST_LONGITUDE = 313.84
  FIRST_STANDARD_PARALLEL = "N/A"
  LINE_FIRST_PIXEL = 1
  LINE_LAST_PIXEL = 20232
  LINE_PROJECTION_OFFSET = 46663.25
  MAP_PROJECTION_ROTATION = 0.0
  MAP_PROJECTION_TYPE = SINUSOIDAL
  MAP_RESOLUTION = 2370.85521546667
  MAP_SCALE = 0.025
  MAXIMUM_LATITUDE = 19.7225
  MINIMUM_LATITUDE = 11.1362
  POSITIVE_LONGITUDE_DIRECTION = EAST
  REFERENCE_LATITUDE = "N/A"
  REFERENCE_LONGITUDE = "N/A"
  SAMPLE_FIRST_PIXEL = 1
  SAMPLE_LAST_PIXEL = 3285
  SAMPLE_PROJECTION_OFFSET = 1301.25
  SECOND_STANDARD_PARALLEL = "N/A"
  WESTERNMOST_LONGITUDE = 312.451
END_OBJECT = IMAGE_MAP_PROJECTION
END
