PDS_VERSION_ID = PDS3
/* FILE DATA ELEMENTS */
RECORD_TYPE = UNDEFINED
/* POINTERS TO DATA OBJECTS */
^IMAGE = ("HD547_0005_SR4.TIF")
/* IDENTIFICATION DATA ELEMENTS */
DATA_SET_ID = "MEX-M-HRSC-4-REFDR-MAPPROJECT-EXT4-V4.0"
DATA_SET_NAME = "MARS EXPRESS HRSC MAP PROJECTED REFDR EXTENSION4 V4.0"
DETECTOR_ID = MEX_HRSC_SRC
EVENT_TYPE = "MARS-LOCAL-VARIABLE-Lc-Ot-At"
INSTRUMENT_HOST_ID = MEX
INSTRUMENT_HOST_NAME = "MARS EXPRESS"
INSTRUMENT_ID = HRSC
INSTRUMENT_NAME = "HIGH RESOLUTION STEREO CAMERA"
MISSION_NAME = "MARS EXPRESS"
MISSION_PHASE_NAME = ME_Phase_31
PROCESSING_LEVEL_ID = 4
PRODUCT_CREATION_TIME = 2023-02-01T02:09:17.000Z
PRODUCT_ID = "HD547_0005_SR4.TIF"
RELEASE_ID = 0005
REVISION_ID = 0000
/* QUALITY DATA ELEMENTS */
DATA_QUALITY_ID = 1
DATA_QUALITY_DESC = "Data calculated based on original SPICE kernels"
/* TIME DATA ELEMENTS */
SPACECRAFT_CLOCK_START_COUNT = "1/0357745469.07359"
SPACECRAFT_CLOCK_STOP_COUNT = "1/0357745777.14819"
IMAGE_TIME = 2014-09-02T13:47:54.482Z
START_TIME = 2014-09-02T13:47:54.480Z
STOP_TIME = 2014-09-02T13:47:54.485Z
/* ORBITAL DATA ELEMENTS */
ASCENDING_NODE_LONGITUDE = 319.4
MAXIMUM_RESOLUTION = 0.004153
FOOTPRINT_POINT_LATITUDE = (-4.74574,-4.74195,-4.73802,-4.73592, -4.73311,-4.72975,-4.72582,-4.72028, -4.71747,-4.71417,-4.71172,-4.70842, -4.70379,-4.69832,-4.6953,-4.69074, -4.68758,-4.68344,-4.68001,-4.67783, -4.67524,-4.67517,-4.67517,-4.67519, -4.67522,-4.67525,-4.67528,-4.6753, -4.67533,-4.67536,-4.67539,-4.67541, -4.67544,-4.67547,-4.6755,-4.67552, -4.67555,-4.67558,-4.67561,-4.67563, -4.67566,-4.67569,-4.67572,-4.67574, -4.67577,-4.6758,-4.67583,-4.67585, -4.67586,-4.67586,-4.67923,-4.68155, -4.68548,-4.68892,-4.69313,-4.69678, -4.69944,-4.70302,-4.70534,-4.70871, -4.71257,-4.71586,-4.72022,-4.72309, -4.72555,-4.72906,-4.73179,-4.7346, -4.73993,-4.74344,-4.74639,-4.74646, -4.74646,-4.74643,-4.7464,-4.74638, -4.74635,-4.74632,-4.74629,-4.74626, -4.74623,-4.74621,-4.74618,-4.74615, -4.74612,-4.74609,-4.74606,-4.74604, -4.74601,-4.74598,-4.74595,-4.74592, -4.74589,-4.74587,-4.74584,-4.74581, -4.74578,-4.74575,-4.74575,-4.74574)
FOOTPRINT_POINT_LONGITUDE = (137.409,137.409,137.409,137.409, 137.409,137.409,137.409,137.409,137.409 ,137.409,137.409,137.409,137.409, 137.409,137.409,137.409,137.409,137.409 ,137.409,137.409,137.409,137.409, 137.409,137.412,137.415,137.418,137.421 ,137.423,137.426,137.429,137.432, 137.435,137.438,137.44,137.443,137.446, 137.449,137.452,137.454,137.457,137.46, 137.463,137.466,137.468,137.471,137.474 ,137.477,137.48,137.48,137.481,137.481, 137.481,137.481,137.481,137.481,137.481 ,137.481,137.481,137.481,137.481, 137.481,137.48,137.48,137.48,137.48, 137.48,137.48,137.48,137.48,137.48, 137.48,137.48,137.48,137.477,137.474, 137.472,137.469,137.466,137.463,137.46, 137.458,137.455,137.452,137.449,137.446 ,137.443,137.441,137.438,137.435, 137.432,137.429,137.427,137.424,137.421 ,137.418,137.415,137.412,137.41,137.409 ,137.409)
ORBIT_NUMBER = 13547
ORBITAL_ECCENTRICITY = 0.576
ORBITAL_INCLINATION = 86.88
ORBITAL_SEMIMAJOR_AXIS = 8849.38
PERIAPSIS_ALTITUDE = 354.61
PERIAPSIS_ARGUMENT_ANGLE = 163.27
PERIAPSIS_TIME = 2014-09-02T13:42:18.000Z
SPACECRAFT_ORIENTATION = (0.0,-1.0,0.0)
^MEX_ORIENTATION_DESC = "MEX_ORIENTATION_DESC.TXT"
SPACECRAFT_POINTING_MODE = ACROSSTRACK
^MEX_POINTING_DESC = "MEX_POINTING_DESC.TXT"
RIGHT_ASCENSION = -1e+32
DECLINATION = -1e+32
OFFSET_ANGLE = 0.2
SPACECRAFT_SOLAR_DISTANCE = 2.16436e+08
TARGET_NAME = MARS
/* CAMERA DATA ELEMENTS */
BUFFER_MODE_ID = BUFFER_8
EXPOSURE_DURATION = 5.04
INST_CMPRS_NAME = NONE
INST_CMPRS_RATIO = 1.0
INST_CMPRS_QUALITY = -2147483648
INST_CMPRS_QUANTZ_TBL_ID = -2147483648
INSTRUMENT_TEMPERATURE = 9.71768
MISSING_FRAMES = 0
START_BIT = 0
/* RADIOMETRIC DATA ELEMENTS */
BANDWIDTH = 250.0
CENTER_FILTER_WAVELENGTH = 600.0
RADIANCE_OFFSET = -9.99e+31
RADIANCE_SCALING_FACTOR = -9.99e+31
REFLECTANCE_SCALING_FACTOR = -9.99e+31
MEX:REFLECTANCE_OFFSET = -9.99e+31
/* IMAGE OBJECT DEFINITIONS */
OBJECT = IMAGE
  INTERCHANGE_FORMAT = BINARY
  LINES = 886
  LINE_SAMPLES = 896
  SAMPLE_TYPE = UNSIGNED_INTEGER
  SAMPLE_BITS = 8
  BANDS = 1
  BAND_STORAGE_TYPE = BAND_SEQUENTIAL
  MAXIMUM = 250
  MEAN = 127.689
  MINIMUM = 13
  STANDARD_DEVIATION = 21.2378
END_OBJECT = IMAGE
/* MAP OBJECT DEFINITIONS */
OBJECT = IMAGE_MAP_PROJECTION
  ^DATA_SET_MAP_PROJECTION_CATALOG= "DSMAP.CAT"
  A_AXIS_RADIUS = 3396.19
  B_AXIS_RADIUS = 3396.19
  C_AXIS_RADIUS = 3396.19
  CENTER_LATITUDE = 0.0
  CENTER_LONGITUDE = 137.0
  COORDINATE_SYSTEM_NAME = PLANETOGRAPHIC
  COORDINATE_SYSTEM_TYPE = "BODY-FIXED ROTATING"
  EASTERNMOST_LONGITUDE = 137.481
  FIRST_STANDARD_PARALLEL = "N/A"
  LINE_FIRST_PIXEL = 1
  LINE_LAST_PIXEL = 886
  LINE_PROJECTION_OFFSET = -55403.0
  MAP_PROJECTION_ROTATION = 0.0
  MAP_PROJECTION_TYPE = SINUSOIDAL
  MAP_RESOLUTION = 11854.9393024378
  MAP_SCALE = 0.005
  MAXIMUM_LATITUDE = -4.67517
  MINIMUM_LATITUDE = -4.74646
  POSITIVE_LONGITUDE_DIRECTION = EAST
  REFERENCE_LATITUDE = "N/A"
  REFERENCE_LONGITUDE = "N/A"
  SAMPLE_FIRST_PIXEL = 1
  SAMPLE_LAST_PIXEL = 896
  SAMPLE_PROJECTION_OFFSET = -4807.0
  SECOND_STANDARD_PARALLEL = "N/A"
  WESTERNMOST_LONGITUDE = 137.409
END_OBJECT = IMAGE_MAP_PROJECTION
END
