PDS_VERSION_ID = PDS3
/* FILE DATA ELEMENTS */
RECORD_TYPE = UNDEFINED
/* POINTERS TO DATA OBJECTS */
^IMAGE = ("HD547_0000_BL4.TIF")
/* IDENTIFICATION DATA ELEMENTS */
DATA_SET_ID = "MEX-M-HRSC-4-REFDR-MAPPROJECT-EXT4-V4.0"
DATA_SET_NAME = "MARS EXPRESS HRSC MAP PROJECTED REFDR EXTENSION4 V4.0"
DETECTOR_ID = MEX_HRSC_BLUE
EVENT_TYPE = "MARS-LOCAL-VARIABLE-Lc-Ot-At"
INSTRUMENT_HOST_ID = MEX
INSTRUMENT_HOST_NAME = "MARS EXPRESS"
INSTRUMENT_ID = HRSC
INSTRUMENT_NAME = "HIGH RESOLUTION STEREO CAMERA"
MISSION_NAME = "MARS EXPRESS"
MISSION_PHASE_NAME = ME_Phase_31
PROCESSING_LEVEL_ID = 4
PRODUCT_CREATION_TIME = 2023-02-01T02:09:17.000Z
PRODUCT_ID = "HD547_0000_BL4.TIF"
RELEASE_ID = 0005
REVISION_ID = 0000
/* QUALITY DATA ELEMENTS */
DATA_QUALITY_ID = 1
DATA_QUALITY_DESC = "Data calculated based on original SPICE kernels"
/* TIME DATA ELEMENTS */
SPACECRAFT_CLOCK_START_COUNT = "1/0357745469.07359"
SPACECRAFT_CLOCK_STOP_COUNT = "1/0357745777.14819"
START_TIME = 2014-09-02T13:45:14.113Z
STOP_TIME = 2014-09-02T13:48:58.202Z
/* ORBITAL DATA ELEMENTS */
ASCENDING_NODE_LONGITUDE = 319.4
MAXIMUM_RESOLUTION = 0.0614
FOOTPRINT_POINT_LATITUDE = (5.75531,5.75917,5.7618,5.76409,5.76417 ,5.76702,5.50051,5.23418,4.96806, 4.70217,4.43654,4.17115,3.90599,3.64105 ,3.37633,3.11198,2.84783,2.58387, 2.05679,1.53086,1.13702,0.482398, 0.0822792,-0.185788,-0.45426,-0.855356, -1.12729,-1.53608,-1.80863,-2.08132, -2.35765,-2.63654,-2.91501,-3.19328, -3.61741,-3.9004,-4.18434,-4.46941, -4.75869,-5.04647,-5.33556,-5.6285, -5.92386,-6.36598,-6.66504,-6.96499, -7.26462,-7.5684,-7.87354,-8.0259, -8.06485,-8.06938,-8.07456,-8.07731, -8.08015,-8.08025,-8.07914,-7.77416, -7.31681,-7.01743,-6.71859,-6.26848, -5.97322,-5.67817,-5.38624,-4.9518, -4.66121,-4.3738,-3.94957,-3.66537, -3.24146,-2.96317,-2.5456,-2.12861, -1.85645,-1.58237,-1.30873,-1.03549, -0.766993,-0.499748,-0.0974938,0.171237 ,0.438139,0.962164,1.48722,2.01331, 2.54053,2.80448,3.06877,3.33338,3.59818 ,3.86312,4.12843,4.39392,4.65964, 4.92565,5.1919,5.59157,5.72495,5.75531)
FOOTPRINT_POINT_LONGITUDE = (138.212,137.664,137.269,136.899, 136.886,136.879,136.875,136.871,136.866 ,136.862,136.857,136.852,136.848, 136.843,136.838,136.833,136.828,136.823 ,136.812,136.801,136.793,136.779,136.77 ,136.764,136.759,136.749,136.744, 136.732,136.725,136.718,136.711,136.704 ,136.696,136.689,136.679,136.67,136.662 ,136.656,136.647,136.637,136.629, 136.622,136.614,136.602,136.593,136.584 ,136.575,136.566,136.556,136.552,136.55 ,136.98,137.588,137.877,138.247,138.263 ,138.268,138.266,138.262,138.26,138.255 ,138.257,138.257,138.255,138.251,138.25 ,138.25,138.246,138.241,138.239,138.236 ,138.234,138.231,138.229,138.227, 138.228,138.227,138.225,138.223,138.222 ,138.222,138.222,138.221,138.221,138.22 ,138.219,138.218,138.218,138.218, 138.218,138.218,138.218,138.218,138.218 ,138.219,138.219,138.219,138.22,138.22, 138.212)
ORBIT_NUMBER = 13547
ORBITAL_ECCENTRICITY = 0.576
ORBITAL_INCLINATION = 86.88
ORBITAL_SEMIMAJOR_AXIS = 8849.38
PERIAPSIS_ALTITUDE = 354.61
PERIAPSIS_ARGUMENT_ANGLE = 163.27
PERIAPSIS_TIME = 2014-09-02T13:42:18.000Z
SPACECRAFT_ORIENTATION = (0.0,-1.0,0.0)
^MEX_ORIENTATION_DESC = "MEX_ORIENTATION_DESC.TXT"
SPACECRAFT_POINTING_MODE = ACROSSTRACK
^MEX_POINTING_DESC = "MEX_POINTING_DESC.TXT"
RIGHT_ASCENSION = -1e+32
DECLINATION = -1e+32
OFFSET_ANGLE = 0.2
SPACECRAFT_SOLAR_DISTANCE = 2.16436e+08
TARGET_NAME = MARS
/* CAMERA DATA ELEMENTS */
DETECTOR_TEMPERATURE = 18.3705
FOCAL_PLANE_TEMPERATURE = 8.5833
INST_CMPRS_NAME = "DISCRETE COSINE TRANSFORMATION (DCT)"
INST_CMPRS_RATIO = 5.11057
INST_CMPRS_QUALITY = 0
INST_CMPRS_QUANTZ_TBL_ID = 0
INSTRUMENT_TEMPERATURE = 11.234
LENS_TEMPERATURE = 9.195
MACROPIXEL_SIZE = 4
MISSING_FRAMES = 0
PIXEL_SUBSAMPLING_FLAG = N
SIGNAL_CHAIN_ID = 2
/* RADIOMETRIC DATA ELEMENTS */
BANDWIDTH = 76.0
CENTER_FILTER_WAVELENGTH = 444.0
RADIANCE_OFFSET = 0.0549837
RADIANCE_SCALING_FACTOR = 0.000677671
REFLECTANCE_SCALING_FACTOR = 3.26161e-05
MEX:REFLECTANCE_OFFSET = 0.00264635
/* IMAGE OBJECT DEFINITIONS */
OBJECT = IMAGE
  INTERCHANGE_FORMAT = BINARY
  LINES = 16417
  LINE_SAMPLES = 2007
  SAMPLE_TYPE = UNSIGNED_INTEGER
  SAMPLE_BITS = 8
  BANDS = 1
  BAND_STORAGE_TYPE = BAND_SEQUENTIAL
  MAXIMUM = 254
  MEAN = 135.184
  MINIMUM = 3
  STANDARD_DEVIATION = 33.8524
END_OBJECT = IMAGE
/* MAP OBJECT DEFINITIONS */
OBJECT = IMAGE_MAP_PROJECTION
  ^DATA_SET_MAP_PROJECTION_CATALOG= "DSMAP.CAT"
  A_AXIS_RADIUS = 3396.0
  B_AXIS_RADIUS = 3396.0
  C_AXIS_RADIUS = 3396.0
  CENTER_LATITUDE = 0.0
  CENTER_LONGITUDE = 137.0
  COORDINATE_SYSTEM_NAME = PLANETOGRAPHIC
  COORDINATE_SYSTEM_TYPE = "BODY-FIXED ROTATING"
  EASTERNMOST_LONGITUDE = 138.268
  FIRST_STANDARD_PARALLEL = "N/A"
  LINE_FIRST_PIXEL = 1
  LINE_LAST_PIXEL = 16417
  LINE_PROJECTION_OFFSET = 6836.125
  MAP_PROJECTION_ROTATION = 0.0
  MAP_PROJECTION_TYPE = SINUSOIDAL
  MAP_RESOLUTION = 1185.42760773333
  MAP_SCALE = 0.05
  MAXIMUM_LATITUDE = 5.76702
  MINIMUM_LATITUDE = -8.080249999999999
  POSITIVE_LONGITUDE_DIRECTION = EAST
  REFERENCE_LATITUDE = "N/A"
  REFERENCE_LONGITUDE = "N/A"
  SAMPLE_FIRST_PIXEL = 1
  SAMPLE_LAST_PIXEL = 2007
  SAMPLE_PROJECTION_OFFSET = 529.125
  SECOND_STANDARD_PARALLEL = "N/A"
  WESTERNMOST_LONGITUDE = 136.55
END_OBJECT = IMAGE_MAP_PROJECTION
END
