PDS_VERSION_ID = PDS3
/* FILE DATA ELEMENTS */
RECORD_TYPE = UNDEFINED
/* POINTERS TO DATA OBJECTS */
^IMAGE = ("HD535_0000_RE4.TIF")
/* IDENTIFICATION DATA ELEMENTS */
DATA_SET_ID = "MEX-M-HRSC-4-REFDR-MAPPROJECT-EXT4-V4.0"
DATA_SET_NAME = "MARS EXPRESS HRSC MAP PROJECTED REFDR EXTENSION4 V4.0"
DETECTOR_ID = MEX_HRSC_RED
EVENT_TYPE = "MARS-CLOUD-VARIABLE-At"
INSTRUMENT_HOST_ID = MEX
INSTRUMENT_HOST_NAME = "MARS EXPRESS"
INSTRUMENT_ID = HRSC
INSTRUMENT_NAME = "HIGH RESOLUTION STEREO CAMERA"
MISSION_NAME = "MARS EXPRESS"
MISSION_PHASE_NAME = ME_Phase_30
PROCESSING_LEVEL_ID = 4
PRODUCT_CREATION_TIME = 2023-02-01T02:09:17.000Z
PRODUCT_ID = "HD535_0000_RE4.TIF"
RELEASE_ID = 0005
REVISION_ID = 0000
/* QUALITY DATA ELEMENTS */
DATA_QUALITY_ID = 1
DATA_QUALITY_DESC = "Data calculated based on original SPICE kernels"
/* TIME DATA ELEMENTS */
SPACECRAFT_CLOCK_START_COUNT = "1/0357443020.08249"
SPACECRAFT_CLOCK_STOP_COUNT = "1/0357444408.04619"
START_TIME = 2014-08-30T01:44:49.179Z
STOP_TIME = 2014-08-30T02:06:51.552Z
/* ORBITAL DATA ELEMENTS */
ASCENDING_NODE_LONGITUDE = 319.63
MAXIMUM_RESOLUTION = 0.0592
FOOTPRINT_POINT_LATITUDE = (30.6367,30.6284,30.6283,30.6493, 28.7917,27.5512,26.3059,24.4488,23.2076 ,21.9688,20.7311,19.4938,18.2575, 17.0242,15.7936,14.5666,13.3434,12.1243 ,10.9104,9.70122,8.49695,7.29805, 4.31456,1.96365,-0.318326,-2.12101, -3.32758,-4.54096,-5.79168,-7.08174, -8.34583,-10.4065,-11.7972,-13.2226, -14.6948,-16.2089,-17.7692,-19.3836, -21.0499,-22.7767,-24.5677,-26.4266, -28.3602,-30.3764,-32.4718,-34.6523, -36.9264,-39.287,-40.5097,-40.6784, -40.7086,-40.6859,-40.6253,-40.6229, -40.62,-39.4048,-37.0465,-34.7817, -32.6144,-30.5232,-28.5066,-26.5678, -24.7067,-22.912,-21.1826,-19.5111, -17.8956,-16.3323,-14.8135,-13.3444, -11.9039,-9.80042,-8.45486,-7.16486, -5.23913,-4.0327,-2.21764,-0.993019, 1.28828,3.63606,6.00408,9.00709,10.2149 ,11.4269,12.644,13.8656,15.0911,16.3205 ,18.1696,19.4051,20.6452,22.5058, 23.7458,24.9832,26.2325,27.4764,28.7123 ,29.9583,30.5754,30.6367)
FOOTPRINT_POINT_LONGITUDE = (285.159,283.576,283.561,283.548, 283.598,283.628,283.654,283.684,283.701 ,283.714,283.724,283.732,283.738,283.74 ,283.741,283.739,283.734,283.728, 283.719,283.708,283.695,283.681,283.642 ,283.601,283.541,283.509,283.479,283.44 ,283.404,283.367,283.309,283.251, 283.197,283.138,283.075,283.006,282.929 ,282.846,282.754,282.652,282.539, 282.413,282.272,282.115,281.934,281.726 ,281.485,281.2,281.041,281.018,283.188, 285.031,286.768,286.822,286.84,286.677, 286.398,286.169,285.976,285.818,285.689 ,285.581,285.487,285.408,285.34,285.282 ,285.232,285.189,285.152,285.12,285.097 ,285.074,285.057,285.035,285.022,285.0, 284.989,284.998,284.977,284.979,284.981 ,284.993,284.998,285.003,285.009, 285.016,285.024,285.032,285.046,285.055 ,285.067,285.084,285.095,285.105, 285.121,285.134,285.145,285.161,285.167 ,285.159)
ORBIT_NUMBER = 13535
ORBITAL_ECCENTRICITY = 0.577
ORBITAL_INCLINATION = 86.89
ORBITAL_SEMIMAJOR_AXIS = 8854.98
PERIAPSIS_ALTITUDE = 352.8
PERIAPSIS_ARGUMENT_ANGLE = 165.36
PERIAPSIS_TIME = 2014-08-30T01:48:28.000Z
SPACECRAFT_ORIENTATION = (0.0,-1.0,0.0)
^MEX_ORIENTATION_DESC = "MEX_ORIENTATION_DESC.TXT"
SPACECRAFT_POINTING_MODE = NADIR
^MEX_POINTING_DESC = "MEX_POINTING_DESC.TXT"
RIGHT_ASCENSION = -1e+32
DECLINATION = -1e+32
OFFSET_ANGLE = -1e+32
SPACECRAFT_SOLAR_DISTANCE = 2.17045e+08
TARGET_NAME = MARS
/* CAMERA DATA ELEMENTS */
DETECTOR_TEMPERATURE = 19.1861
FOCAL_PLANE_TEMPERATURE = 8.7872
INST_CMPRS_NAME = "DISCRETE COSINE TRANSFORMATION (DCT)"
INST_CMPRS_RATIO = 43.2144
INST_CMPRS_QUALITY = 0
INST_CMPRS_QUANTZ_TBL_ID = 0
INSTRUMENT_TEMPERATURE = 11.8457
LENS_TEMPERATURE = 9.3989
MACROPIXEL_SIZE = 4
MISSING_FRAMES = 0
PIXEL_SUBSAMPLING_FLAG = N
SIGNAL_CHAIN_ID = 2
/* RADIOMETRIC DATA ELEMENTS */
BANDWIDTH = 48.0
CENTER_FILTER_WAVELENGTH = 748.0
RADIANCE_OFFSET = 0.0
RADIANCE_SCALING_FACTOR = 0.000986086
REFLECTANCE_SCALING_FACTOR = 0.000106009
MEX:REFLECTANCE_OFFSET = 0.0
/* IMAGE OBJECT DEFINITIONS */
OBJECT = IMAGE
  INTERCHANGE_FORMAT = BINARY
  LINES = 84606
  LINE_SAMPLES = 4506
  SAMPLE_TYPE = UNSIGNED_INTEGER
  SAMPLE_BITS = 8
  BANDS = 1
  BAND_STORAGE_TYPE = BAND_SEQUENTIAL
  MAXIMUM = 255
  MEAN = 102.527
  MINIMUM = 1
  STANDARD_DEVIATION = 35.7899
END_OBJECT = IMAGE
/* MAP OBJECT DEFINITIONS */
OBJECT = IMAGE_MAP_PROJECTION
  ^DATA_SET_MAP_PROJECTION_CATALOG= "DSMAP.CAT"
  A_AXIS_RADIUS = 3396.0
  B_AXIS_RADIUS = 3396.0
  C_AXIS_RADIUS = 3396.0
  CENTER_LATITUDE = 0.0
  CENTER_LONGITUDE = 284.0
  COORDINATE_SYSTEM_NAME = PLANETOGRAPHIC
  COORDINATE_SYSTEM_TYPE = "BODY-FIXED ROTATING"
  EASTERNMOST_LONGITUDE = 286.84
  FIRST_STANDARD_PARALLEL = "N/A"
  LINE_FIRST_PIXEL = 1
  LINE_LAST_PIXEL = 84606
  LINE_PROJECTION_OFFSET = 36347.0
  MAP_PROJECTION_ROTATION = 0.0
  MAP_PROJECTION_TYPE = SINUSOIDAL
  MAP_RESOLUTION = 1185.42760773333
  MAP_SCALE = 0.05
  MAXIMUM_LATITUDE = 30.6493
  MINIMUM_LATITUDE = -40.7086
  POSITIVE_LONGITUDE_DIRECTION = EAST
  REFERENCE_LATITUDE = "N/A"
  REFERENCE_LONGITUDE = "N/A"
  SAMPLE_FIRST_PIXEL = 1
  SAMPLE_LAST_PIXEL = 4506
  SAMPLE_PROJECTION_OFFSET = 2269.0
  SECOND_STANDARD_PARALLEL = "N/A"
  WESTERNMOST_LONGITUDE = 281.018
END_OBJECT = IMAGE_MAP_PROJECTION
END
