PDS_VERSION_ID = PDS3
/* FILE DATA ELEMENTS */
RECORD_TYPE = UNDEFINED
/* POINTERS TO DATA OBJECTS */
^IMAGE = ("HD503_0000_GR4.TIF")
/* IDENTIFICATION DATA ELEMENTS */
DATA_SET_ID = "MEX-M-HRSC-4-REFDR-MAPPROJECT-EXT4-V4.0"
DATA_SET_NAME = "MARS EXPRESS HRSC MAP PROJECTED REFDR EXTENSION4 V4.0"
DETECTOR_ID = MEX_HRSC_GREEN
EVENT_TYPE = "MARS-CLOUD-VARIABLE-Gl-Eo-At"
INSTRUMENT_HOST_ID = MEX
INSTRUMENT_HOST_NAME = "MARS EXPRESS"
INSTRUMENT_ID = HRSC
INSTRUMENT_NAME = "HIGH RESOLUTION STEREO CAMERA"
MISSION_NAME = "MARS EXPRESS"
MISSION_PHASE_NAME = ME_Phase_30
PROCESSING_LEVEL_ID = 4
PRODUCT_CREATION_TIME = 2023-02-01T02:09:17.000Z
PRODUCT_ID = "HD503_0000_GR4.TIF"
RELEASE_ID = 0005
REVISION_ID = 0000
/* QUALITY DATA ELEMENTS */
DATA_QUALITY_ID = 1
DATA_QUALITY_DESC = "Data calculated based on original SPICE kernels"
/* TIME DATA ELEMENTS */
SPACECRAFT_CLOCK_START_COUNT = "1/0356635318.09042"
SPACECRAFT_CLOCK_STOP_COUNT = "1/0356636547.47299"
START_TIME = 2014-08-20T17:22:03.780Z
STOP_TIME = 2014-08-20T17:37:32.810Z
/* ORBITAL DATA ELEMENTS */
ASCENDING_NODE_LONGITUDE = 320.25
MAXIMUM_RESOLUTION = 0.1651
FOOTPRINT_POINT_LATITUDE = (69.2915,69.4095,69.4924,69.5653,69.628 ,69.6806,69.7555,69.7904,69.7725,69.712 ,69.612,69.4728,69.2947,69.1911,69.078, 68.9554,68.8233,68.6077,68.5697,68.5691 ,69.1831,69.807,70.4408,71.0844,71.7376 ,72.4002,73.0718,73.752,74.44,75.1423, 75.843,76.5478,77.2546,77.9605,78.6618, 79.3537,80.0364,80.6867,81.3003,81.862, 82.1176,82.3527,82.5643,82.7493,82.9043 ,83.0262,83.1119,83.1583,83.1528, 83.1282,83.1254,83.7466,84.5695,85.5152 ,86.0455,86.5015,87.0092,87.5542, 87.9438,88.3228,88.5761,88.5722,88.5493 ,88.5417,89.0031,89.3159,89.2716, 88.9214,88.4674,87.9826,87.4881,86.9913 ,86.4953,86.0019,85.512,85.0253,84.5432 ,84.0646,83.5901,83.1199,82.644,81.7245 ,80.8215,79.9347,79.0636,78.2079, 77.3671,76.5408,75.5192,74.7241,73.9421 ,73.1728,72.4159,71.671,70.9376,70.2155 ,69.5043,69.3282,69.2915)
FOOTPRINT_POINT_LONGITUDE = (137.501,139.164,140.5,141.842,143.188, 144.538,147.249,149.968,153.703,156.403 ,159.085,161.742,164.367,165.667, 166.958,168.24,169.51,171.392,171.703, 172.023,172.405,172.833,173.313,173.852 ,174.458,175.14,175.908,176.779,177.768 ,178.904,180.192,181.667,183.364,185.33 ,187.616,190.284,193.453,197.152, 201.519,206.663,209.559,212.682,216.038 ,219.624,223.431,227.438,231.617, 235.931,242.535,244.751,244.961,246.09, 248.01,251.12,253.566,256.31,260.467, 267.188,274.799,287.585,306.26,340.809, 343.472,344.436,358.701,29.9966,74.6958 ,100.91,112.895,119.216,123.03,125.563, 127.378,128.725,129.75,130.602,131.269, 131.852,132.348,132.771,133.151,133.769 ,134.265,134.675,135.022,135.321, 135.582,135.815,136.074,136.259,136.429 ,136.587,136.734,136.873,137.004, 137.127,137.246,137.275,137.501)
ORBIT_NUMBER = 13503
ORBITAL_ECCENTRICITY = 0.577
ORBITAL_INCLINATION = 86.9
ORBITAL_SEMIMAJOR_AXIS = 8849.71
PERIAPSIS_ALTITUDE = 350.25
PERIAPSIS_ARGUMENT_ANGLE = 170.9
PERIAPSIS_TIME = 2014-08-20T18:05:01.000Z
SPACECRAFT_ORIENTATION = (0.0,-1.0,0.0)
^MEX_ORIENTATION_DESC = "MEX_ORIENTATION_DESC.TXT"
SPACECRAFT_POINTING_MODE = NADIR
^MEX_POINTING_DESC = "MEX_POINTING_DESC.TXT"
RIGHT_ASCENSION = -1e+32
DECLINATION = -1e+32
OFFSET_ANGLE = -1e+32
SPACECRAFT_SOLAR_DISTANCE = 2.18721e+08
TARGET_NAME = MARS
/* CAMERA DATA ELEMENTS */
DETECTOR_TEMPERATURE = 18.5744
FOCAL_PLANE_TEMPERATURE = 8.9911
INST_CMPRS_NAME = "DISCRETE COSINE TRANSFORMATION (DCT)"
INST_CMPRS_RATIO = 17.1989
INST_CMPRS_QUALITY = 0
INST_CMPRS_QUANTZ_TBL_ID = 0
INSTRUMENT_TEMPERATURE = 11.6418
LENS_TEMPERATURE = 9.3989
MACROPIXEL_SIZE = 2
PIXEL_SUBSAMPLING_FLAG = N
SIGNAL_CHAIN_ID = 2
/* RADIOMETRIC DATA ELEMENTS */
BANDWIDTH = 88.0
CENTER_FILTER_WAVELENGTH = 538.0
RADIANCE_OFFSET = 0.0319148
RADIANCE_SCALING_FACTOR = 0.00444304
REFLECTANCE_SCALING_FACTOR = 0.000183009
MEX:REFLECTANCE_OFFSET = 0.00131457
/* IMAGE OBJECT DEFINITIONS */
OBJECT = IMAGE
  INTERCHANGE_FORMAT = BINARY
  LINES = 5777
  LINE_SAMPLES = 5037
  SAMPLE_TYPE = UNSIGNED_INTEGER
  SAMPLE_BITS = 8
  BANDS = 1
  BAND_STORAGE_TYPE = BAND_SEQUENTIAL
  MAXIMUM = 255
  MEAN = 104.255
  MINIMUM = 11
  STANDARD_DEVIATION = 51.7084
END_OBJECT = IMAGE
/* MAP OBJECT DEFINITIONS */
OBJECT = IMAGE_MAP_PROJECTION
  ^DATA_SET_MAP_PROJECTION_CATALOG= "DSMAP.CAT"
  A_AXIS_RADIUS = 3396.0
  B_AXIS_RADIUS = 3396.0
  C_AXIS_RADIUS = 3396.0
  CENTER_LATITUDE = 0.0
  CENTER_LONGITUDE = 161.0
  COORDINATE_SYSTEM_NAME = PLANETOGRAPHIC
  COORDINATE_SYSTEM_TYPE = "BODY-FIXED ROTATING"
  EASTERNMOST_LONGITUDE = 360.0
  FIRST_STANDARD_PARALLEL = "N/A"
  LINE_FIRST_PIXEL = 1
  LINE_LAST_PIXEL = 5777
  LINE_PROJECTION_OFFSET = 26081.0
  MAP_PROJECTION_ROTATION = 0.0
  MAP_PROJECTION_TYPE = SINUSOIDAL
  MAP_RESOLUTION = 296.356901933333
  MAP_SCALE = 0.2
  MAXIMUM_LATITUDE = 90.0
  MINIMUM_LATITUDE = 68.56910000000001
  POSITIVE_LONGITUDE_DIRECTION = EAST
  REFERENCE_LATITUDE = "N/A"
  REFERENCE_LONGITUDE = "N/A"
  SAMPLE_FIRST_PIXEL = 1
  SAMPLE_LAST_PIXEL = 5037
  SAMPLE_PROJECTION_OFFSET = 2210.0
  SECOND_STANDARD_PARALLEL = "N/A"
  WESTERNMOST_LONGITUDE = 0.0
END_OBJECT = IMAGE_MAP_PROJECTION
END
