PDS_VERSION_ID = PDS3
/* FILE DATA ELEMENTS */
RECORD_TYPE = UNDEFINED
/* POINTERS TO DATA OBJECTS */
^IMAGE = ("HD492_0000_GR4.TIF")
/* IDENTIFICATION DATA ELEMENTS */
DATA_SET_ID = "MEX-M-HRSC-4-REFDR-MAPPROJECT-EXT4-V4.0"
DATA_SET_NAME = "MARS EXPRESS HRSC MAP PROJECTED REFDR EXTENSION4 V4.0"
DETECTOR_ID = MEX_HRSC_GREEN
EVENT_TYPE = "MARS-CLOUD-VARIABLE-Gl-At"
INSTRUMENT_HOST_ID = MEX
INSTRUMENT_HOST_NAME = "MARS EXPRESS"
INSTRUMENT_ID = HRSC
INSTRUMENT_NAME = "HIGH RESOLUTION STEREO CAMERA"
MISSION_NAME = "MARS EXPRESS"
MISSION_PHASE_NAME = ME_Phase_30
PROCESSING_LEVEL_ID = 4
PRODUCT_CREATION_TIME = 2023-02-01T01:09:44.000Z
PRODUCT_ID = "HD492_0000_GR4.TIF"
RELEASE_ID = 0004
REVISION_ID = 0000
/* QUALITY DATA ELEMENTS */
DATA_QUALITY_ID = 1
DATA_QUALITY_DESC = "Data calculated based on original SPICE kernels"
/* TIME DATA ELEMENTS */
SPACECRAFT_CLOCK_START_COUNT = "1/0356358667.08457"
SPACECRAFT_CLOCK_STOP_COUNT = "1/0356359871.37827"
START_TIME = 2014-08-17T12:31:12.741Z
STOP_TIME = 2014-08-17T12:47:38.948Z
/* ORBITAL DATA ELEMENTS */
ASCENDING_NODE_LONGITUDE = 320.46
MAXIMUM_RESOLUTION = 0.13
FOOTPRINT_POINT_LATITUDE = (75.3142,75.5184,75.6094,75.6515, 75.6452,75.6168,75.5323,75.4011,75.2242 ,75.0028,74.7386,74.4326,74.0867, 73.8023,73.7528,73.7364,74.4396,75.1501 ,75.8663,76.5863,77.308,78.0277,78.741, 79.442,80.1226,80.7721,81.3775,81.9194, 82.3767,82.7227,82.9279,82.9713,82.9705 ,82.9264,82.8361,82.6964,82.5131, 82.2874,82.0214,81.7172,81.377,81.0015, 80.3908,79.9606,79.516,79.0604,78.5956, 78.123,77.6448,77.1621,76.9197,76.8275, 77.2255,77.6794,77.8942,78.0859,78.1775 ,78.1953,78.1956,78.1971,78.7748, 79.3577,79.9464,80.5406,81.1403,81.7456 ,82.3564,82.9725,83.5941,84.5236,85.133 ,85.7331,86.3227,86.9015,87.4652, 88.0191,88.5245,88.9509,89.1779,89.0616 ,88.6982,88.2401,87.7485,87.2446,86.737 ,85.7233,84.7214,83.7347,82.7652, 81.8133,80.879,79.962,79.0619,78.1781, 77.3102,76.4577,75.6202,75.4131, 75.3142)
FOOTPRINT_POINT_LONGITUDE = (180.437,185.091,188.516,191.962, 195.407,197.555,200.959,204.308,207.593 ,210.797,213.91,216.927,219.839,221.949 ,222.294,222.699,223.741,224.931, 226.297,227.871,229.685,231.795,234.262 ,237.157,240.57,244.603,249.363,254.972 ,261.501,268.959,277.232,281.583,286.02 ,290.478,294.907,299.337,303.54,307.564 ,311.381,314.974,318.333,321.453, 325.647,328.11,330.341,332.364,334.198, 335.865,337.383,338.77,339.418,339.657, 343.558,349.432,353.292,358.36,3.00649, 5.77373,6.05125,6.15177,6.37014,6.61813 ,6.88981,7.20094,7.55654,7.9659,8.44471 ,9.01127,9.69209,10.9859,12.087,13.4832 ,15.3122,17.7765,21.3154,26.8842, 36.1803,53.6894,85.9564,122.128,143.75, 154.968,161.356,165.409,168.154,171.687 ,173.834,175.31,176.375,177.187,177.828 ,178.349,178.785,179.16,179.486,179.775 ,180.033,180.094,180.437)
ORBIT_NUMBER = 13492
ORBITAL_ECCENTRICITY = 0.577
ORBITAL_INCLINATION = 86.88
ORBITAL_SEMIMAJOR_AXIS = 8854.19
PERIAPSIS_ALTITUDE = 349.5
PERIAPSIS_ARGUMENT_ANGLE = 172.78
PERIAPSIS_TIME = 2014-08-17T13:10:40.000Z
SPACECRAFT_ORIENTATION = (0.0,-1.0,0.0)
^MEX_ORIENTATION_DESC = "MEX_ORIENTATION_DESC.TXT"
SPACECRAFT_POINTING_MODE = NADIR
^MEX_POINTING_DESC = "MEX_POINTING_DESC.TXT"
RIGHT_ASCENSION = -1e+32
DECLINATION = -1e+32
OFFSET_ANGLE = -1e+32
SPACECRAFT_SOLAR_DISTANCE = 2.19311e+08
TARGET_NAME = MARS
/* CAMERA DATA ELEMENTS */
DETECTOR_TEMPERATURE = 18.1666
FOCAL_PLANE_TEMPERATURE = 8.1755
INST_CMPRS_NAME = "DISCRETE COSINE TRANSFORMATION (DCT)"
INST_CMPRS_RATIO = 17.247
INST_CMPRS_QUALITY = 0
INST_CMPRS_QUANTZ_TBL_ID = 0
INSTRUMENT_TEMPERATURE = 11.234
LENS_TEMPERATURE = 8.7872
MACROPIXEL_SIZE = 2
MISSING_FRAMES = 1
PIXEL_SUBSAMPLING_FLAG = N
SIGNAL_CHAIN_ID = 2
/* RADIOMETRIC DATA ELEMENTS */
BANDWIDTH = 88.0
CENTER_FILTER_WAVELENGTH = 538.0
RADIANCE_OFFSET = 0.0458775
RADIANCE_SCALING_FACTOR = 0.00443782
REFLECTANCE_SCALING_FACTOR = 0.000183782
MEX:REFLECTANCE_OFFSET = 0.00189991
/* IMAGE OBJECT DEFINITIONS */
OBJECT = IMAGE
  INTERCHANGE_FORMAT = BINARY
  LINES = 15871
  LINE_SAMPLES = 6816
  SAMPLE_TYPE = UNSIGNED_INTEGER
  SAMPLE_BITS = 8
  BANDS = 1
  BAND_STORAGE_TYPE = BAND_SEQUENTIAL
  MAXIMUM = 244
  MEAN = 87.2738
  MINIMUM = 2
  STANDARD_DEVIATION = 46.8668
END_OBJECT = IMAGE
/* MAP OBJECT DEFINITIONS */
OBJECT = IMAGE_MAP_PROJECTION
  ^DATA_SET_MAP_PROJECTION_CATALOG= "DSMAP.CAT"
  A_AXIS_RADIUS = 3396.0
  B_AXIS_RADIUS = 3396.0
  C_AXIS_RADIUS = 3396.0
  CENTER_LATITUDE = 90.0
  CENTER_LONGITUDE = 0.0
  COORDINATE_SYSTEM_NAME = PLANETOGRAPHIC
  COORDINATE_SYSTEM_TYPE = "BODY-FIXED ROTATING"
  EASTERNMOST_LONGITUDE = 360.0
  FIRST_STANDARD_PARALLEL = "N/A"
  LINE_FIRST_PIXEL = 1
  LINE_LAST_PIXEL = 15871
  LINE_PROJECTION_OFFSET = 8555.0
  MAP_PROJECTION_ROTATION = 0.0
  MAP_PROJECTION_TYPE = STEREOGRAPHIC
  MAP_RESOLUTION = 592.713803866667
  MAP_SCALE = 0.1
  MAXIMUM_LATITUDE = 90.0
  MINIMUM_LATITUDE = 73.7364
  POSITIVE_LONGITUDE_DIRECTION = EAST
  REFERENCE_LATITUDE = "N/A"
  REFERENCE_LONGITUDE = "N/A"
  SAMPLE_FIRST_PIXEL = 1
  SAMPLE_LAST_PIXEL = 6816
  SAMPLE_PROJECTION_OFFSET = 6192.0
  SECOND_STANDARD_PARALLEL = "N/A"
  WESTERNMOST_LONGITUDE = 0.0
END_OBJECT = IMAGE_MAP_PROJECTION
END
