PDS_VERSION_ID = PDS3
/* FILE DATA ELEMENTS */
RECORD_TYPE = UNDEFINED
/* POINTERS TO DATA OBJECTS */
^IMAGE = ("HD492_0000_BL4.TIF")
/* IDENTIFICATION DATA ELEMENTS */
DATA_SET_ID = "MEX-M-HRSC-4-REFDR-MAPPROJECT-EXT4-V4.0"
DATA_SET_NAME = "MARS EXPRESS HRSC MAP PROJECTED REFDR EXTENSION4 V4.0"
DETECTOR_ID = MEX_HRSC_BLUE
EVENT_TYPE = "MARS-CLOUD-VARIABLE-Gl-At"
INSTRUMENT_HOST_ID = MEX
INSTRUMENT_HOST_NAME = "MARS EXPRESS"
INSTRUMENT_ID = HRSC
INSTRUMENT_NAME = "HIGH RESOLUTION STEREO CAMERA"
MISSION_NAME = "MARS EXPRESS"
MISSION_PHASE_NAME = ME_Phase_30
PROCESSING_LEVEL_ID = 4
PRODUCT_CREATION_TIME = 2023-02-01T01:09:44.000Z
PRODUCT_ID = "HD492_0000_BL4.TIF"
RELEASE_ID = 0004
REVISION_ID = 0000
/* QUALITY DATA ELEMENTS */
DATA_QUALITY_ID = 1
DATA_QUALITY_DESC = "Data calculated based on original SPICE kernels"
/* TIME DATA ELEMENTS */
SPACECRAFT_CLOCK_START_COUNT = "1/0356358667.08457"
SPACECRAFT_CLOCK_STOP_COUNT = "1/0356359871.37827"
START_TIME = 2014-08-17T12:35:34.052Z
STOP_TIME = 2014-08-17T12:49:04.870Z
/* ORBITAL DATA ELEMENTS */
ASCENDING_NODE_LONGITUDE = 320.46
MAXIMUM_RESOLUTION = 0.1197
FOOTPRINT_POINT_LATITUDE = (75.6774,75.7749,75.8194,75.8241, 75.7894,75.7157,75.6038,75.4545,75.269, 75.0483,74.7936,74.5058,73.9716,73.9272 ,73.844,74.6413,75.4432,76.2471,77.0492 ,77.8509,78.6417,79.4195,80.1737, 80.8937,81.5661,82.1708,82.6812,82.8939 ,83.0707,83.2082,83.3048,83.355,83.3578 ,83.3118,83.2174,83.0738,82.7753, 82.5292,82.2518,81.9469,81.6179,81.2688 ,80.9025,80.5221,80.1299,79.7281, 78.9021,78.0557,77.1967,76.9808,76.9626 ,77.3063,77.5662,77.7953,78.0178, 78.1343,78.1769,78.178,78.1798,79.1896, 80.2182,80.7394,81.2658,81.7967,82.3327 ,82.8735,83.4192,83.9703,84.5253, 85.0852,85.6501,86.2194,86.7927,87.37, 88.2273,88.778,89.2808,89.5558,89.281, 88.7914,88.2645,87.7294,87.1938,86.6585 ,86.1287,85.5992,85.076,84.5561,83.5295 ,82.5185,81.5233,80.5435,79.5789, 78.6291,77.6946,76.7741,75.868,75.6434, 75.6774)
FOOTPRINT_POINT_LONGITUDE = (183.048,186.459,189.505,192.553, 195.588,198.595,201.561,204.471,207.315 ,210.086,212.777,215.386,219.427, 219.728,219.971,221.122,222.445,223.978 ,225.762,227.841,230.291,233.187, 236.631,240.743,245.659,251.521,258.439 ,262.31,266.44,270.805,275.374,280.085, 284.88,289.69,294.451,299.084,305.57, 309.518,313.173,316.536,319.605,322.404 ,324.952,327.263,329.38,331.306,334.677 ,337.504,339.898,340.438,340.483, 344.158,347.55,351.3,356.409,0.916249, 4.73109,4.98669,5.07897,5.32004,5.61305 ,5.78316,5.97446,6.18996,6.4362,6.71986 ,7.05088,7.44342,7.90212,8.46068, 9.16883,10.0863,11.3271,13.1358,17.9628 ,24.7957,41.6516,93.8136,145.395, 162.001,168.764,172.342,174.552,176.027 ,177.135,177.935,178.599,179.131, 179.961,180.575,181.054,181.444,181.771 ,182.052,182.305,182.531,182.74,182.789 ,183.048)
ORBIT_NUMBER = 13492
ORBITAL_ECCENTRICITY = 0.577
ORBITAL_INCLINATION = 86.88
ORBITAL_SEMIMAJOR_AXIS = 8854.19
PERIAPSIS_ALTITUDE = 349.5
PERIAPSIS_ARGUMENT_ANGLE = 172.78
PERIAPSIS_TIME = 2014-08-17T13:10:40.000Z
SPACECRAFT_ORIENTATION = (0.0,-1.0,0.0)
^MEX_ORIENTATION_DESC = "MEX_ORIENTATION_DESC.TXT"
SPACECRAFT_POINTING_MODE = NADIR
^MEX_POINTING_DESC = "MEX_POINTING_DESC.TXT"
RIGHT_ASCENSION = -1e+32
DECLINATION = -1e+32
OFFSET_ANGLE = -1e+32
SPACECRAFT_SOLAR_DISTANCE = 2.19311e+08
TARGET_NAME = MARS
/* CAMERA DATA ELEMENTS */
DETECTOR_TEMPERATURE = 18.1666
FOCAL_PLANE_TEMPERATURE = 8.1755
INST_CMPRS_NAME = "DISCRETE COSINE TRANSFORMATION (DCT)"
INST_CMPRS_RATIO = 28.8997
INST_CMPRS_QUALITY = 0
INST_CMPRS_QUANTZ_TBL_ID = 0
INSTRUMENT_TEMPERATURE = 11.234
LENS_TEMPERATURE = 8.7872
MACROPIXEL_SIZE = 2
MISSING_FRAMES = 0
PIXEL_SUBSAMPLING_FLAG = N
SIGNAL_CHAIN_ID = 2
/* RADIOMETRIC DATA ELEMENTS */
BANDWIDTH = 76.0
CENTER_FILTER_WAVELENGTH = 444.0
RADIANCE_OFFSET = 0.0120609
RADIANCE_SCALING_FACTOR = 0.00264867
REFLECTANCE_SCALING_FACTOR = 0.000130896
MEX:REFLECTANCE_OFFSET = 0.000596045
/* IMAGE OBJECT DEFINITIONS */
OBJECT = IMAGE
  INTERCHANGE_FORMAT = BINARY
  LINES = 15871
  LINE_SAMPLES = 6816
  SAMPLE_TYPE = UNSIGNED_INTEGER
  SAMPLE_BITS = 8
  BANDS = 1
  BAND_STORAGE_TYPE = BAND_SEQUENTIAL
  MAXIMUM = 255
  MEAN = 97.7419
  MINIMUM = 1
  STANDARD_DEVIATION = 46.1287
END_OBJECT = IMAGE
/* MAP OBJECT DEFINITIONS */
OBJECT = IMAGE_MAP_PROJECTION
  ^DATA_SET_MAP_PROJECTION_CATALOG= "DSMAP.CAT"
  A_AXIS_RADIUS = 3396.0
  B_AXIS_RADIUS = 3396.0
  C_AXIS_RADIUS = 3396.0
  CENTER_LATITUDE = 90.0
  CENTER_LONGITUDE = 0.0
  COORDINATE_SYSTEM_NAME = PLANETOGRAPHIC
  COORDINATE_SYSTEM_TYPE = "BODY-FIXED ROTATING"
  EASTERNMOST_LONGITUDE = 360.0
  FIRST_STANDARD_PARALLEL = "N/A"
  LINE_FIRST_PIXEL = 1
  LINE_LAST_PIXEL = 15871
  LINE_PROJECTION_OFFSET = 8555.0
  MAP_PROJECTION_ROTATION = 0.0
  MAP_PROJECTION_TYPE = STEREOGRAPHIC
  MAP_RESOLUTION = 592.713803866667
  MAP_SCALE = 0.1
  MAXIMUM_LATITUDE = 90.0
  MINIMUM_LATITUDE = 73.84399999999999
  POSITIVE_LONGITUDE_DIRECTION = EAST
  REFERENCE_LATITUDE = "N/A"
  REFERENCE_LONGITUDE = "N/A"
  SAMPLE_FIRST_PIXEL = 1
  SAMPLE_LAST_PIXEL = 6816
  SAMPLE_PROJECTION_OFFSET = 6192.0
  SECOND_STANDARD_PARALLEL = "N/A"
  WESTERNMOST_LONGITUDE = 0.0
END_OBJECT = IMAGE_MAP_PROJECTION
END
