PDS_VERSION_ID = PDS3
/* FILE DATA ELEMENTS */
RECORD_TYPE = UNDEFINED
/* POINTERS TO DATA OBJECTS */
^IMAGE = ("HD475_0000_P14.TIF")
/* IDENTIFICATION DATA ELEMENTS */
DATA_SET_ID = "MEX-M-HRSC-4-REFDR-MAPPROJECT-EXT4-V4.0"
DATA_SET_NAME = "MARS EXPRESS HRSC MAP PROJECTED REFDR EXTENSION4 V4.0"
DETECTOR_ID = MEX_HRSC_P1
EVENT_TYPE = "MARS-TERMINATOR-CALIBRATION-Tc"
INSTRUMENT_HOST_ID = MEX
INSTRUMENT_HOST_NAME = "MARS EXPRESS"
INSTRUMENT_ID = HRSC
INSTRUMENT_NAME = "HIGH RESOLUTION STEREO CAMERA"
MISSION_NAME = "MARS EXPRESS"
MISSION_PHASE_NAME = ME_Phase_30
PROCESSING_LEVEL_ID = 4
PRODUCT_CREATION_TIME = 2023-02-01T01:09:44.000Z
PRODUCT_ID = "HD475_0000_P14.TIF"
RELEASE_ID = 0004
REVISION_ID = 0000
/* QUALITY DATA ELEMENTS */
DATA_QUALITY_ID = 1
DATA_QUALITY_DESC = "Data calculated based on original SPICE kernels"
/* TIME DATA ELEMENTS */
SPACECRAFT_CLOCK_START_COUNT = "1/0355925210.09065"
SPACECRAFT_CLOCK_STOP_COUNT = "1/0355925669.00818"
START_TIME = 2014-08-12T12:07:35.704Z
STOP_TIME = 2014-08-12T12:11:06.737Z
/* ORBITAL DATA ELEMENTS */
ASCENDING_NODE_LONGITUDE = 320.78
MAXIMUM_RESOLUTION = 2.8859
FOOTPRINT_POINT_LATITUDE = (-42.4359,-42.4917,-42.7666,-39.435, -36.3085,-32.4549,-32.6148,-29.4243, -29.1019,-25.5852,-26.5505,-23.8685, -21.695,-19.8251,-17.7381,-14.2619, -11.3942,-7.4285,-4.77983,-1.70514, 1.92519,7.1898,9.98866,14.7254,18.3919, 23.982,26.7529,29.3004,33.2861,37.9428, 43.5609,48.4409,51.4131,57.3269,61.3296 ,66.3943,69.062,72.0617,75.537,79.7364, 83.1528,83.3597,79.9044,77.693,76.8236, 76.9954,76.0713,76.2721,72.4318,68.5177 ,63.6116,60.9412,56.5937,54.9958, 52.2095,50.4607,47.0343,43.8872,44.1576 ,44.0099,43.3295,42.432,41.4373,40.4571 ,37.7466,35.5475,33.3514,31.032,28.8637 ,26.7065,23.2819,18.1673,13.2405, 10.9981,8.13183,5.40235,0.760686, -2.95513,-6.68631,-9.14671,-12.3632, -17.2141,-20.9763,-26.8538,-30.8453, -33.5463,-37.7224,-40.4667,-44.2615, -47.1205,-52.2201,-49.1422,-48.1557, -50.6181,-46.5002,-47.0289,-46.2028, -43.6677,-44.2837,-42.4359)
FOOTPRINT_POINT_LONGITUDE = (195.774,195.958,195.03,197.216,199.448 ,201.834,205.967,205.274,208.894, 207.602,210.41,206.299,203.379,201.1, 198.738,195.199,192.563,189.274,187.238 ,185.036,182.612,179.362,177.741, 175.136,173.215,170.413,169.065,167.843 ,165.951,163.727,161.019,158.553, 156.962,153.47,150.718,146.453,143.63, 139.664,133.261,119.495,86.0086,53.6929 ,43.1307,56.7532,43.5958,57.249,43.84, 57.0745,53.1357,57.7666,58.1287,59.5548 ,59.8068,64.1839,64.3489,67.6285, 68.4639,72.4883,79.5884,84.226,90.9616, 96.0455,100.175,103.478,110.523,114.947 ,118.664,122.05,124.838,127.328,130.825 ,135.272,138.902,140.385,142.161, 143.744,146.234,148.073,149.8,150.891, 152.274,154.25,155.714,157.924,159.401, 160.396,161.934,162.972,164.424,165.554 ,168.958,168.673,174.966,176.607, 177.244,182.216,187.437,189.694,192.805 ,195.774)
ORBIT_NUMBER = 13475
ORBITAL_ECCENTRICITY = 0.577
ORBITAL_INCLINATION = 86.89
ORBITAL_SEMIMAJOR_AXIS = 8856.59
PERIAPSIS_ALTITUDE = 347.34
PERIAPSIS_ARGUMENT_ANGLE = 175.75
PERIAPSIS_TIME = 2014-08-12T14:18:56.000Z
SPACECRAFT_ORIENTATION = (0.0,-1.0,0.0)
^MEX_ORIENTATION_DESC = "MEX_ORIENTATION_DESC.TXT"
SPACECRAFT_POINTING_MODE = INERT
^MEX_POINTING_DESC = "MEX_POINTING_DESC.TXT"
RIGHT_ASCENSION = 185.52
DECLINATION = 4.679
OFFSET_ANGLE = -1e+32
SPACECRAFT_SOLAR_DISTANCE = 2.20236e+08
TARGET_NAME = MARS
/* CAMERA DATA ELEMENTS */
DETECTOR_TEMPERATURE = 17.351
FOCAL_PLANE_TEMPERATURE = 8.7872
INST_CMPRS_NAME = "DISCRETE COSINE TRANSFORMATION (DCT)"
INST_CMPRS_RATIO = 18.1197
INST_CMPRS_QUALITY = 0
INST_CMPRS_QUANTZ_TBL_ID = 0
INSTRUMENT_TEMPERATURE = 11.234
LENS_TEMPERATURE = 9.8067
MACROPIXEL_SIZE = 8
MISSING_FRAMES = 0
PIXEL_SUBSAMPLING_FLAG = N
SIGNAL_CHAIN_ID = 2
/* RADIOMETRIC DATA ELEMENTS */
BANDWIDTH = 174.0
CENTER_FILTER_WAVELENGTH = 675.0
RADIANCE_OFFSET = 0.0
RADIANCE_SCALING_FACTOR = 0.0438356
REFLECTANCE_SCALING_FACTOR = 0.00114382
MEX:REFLECTANCE_OFFSET = 0.0
/* IMAGE OBJECT DEFINITIONS */
OBJECT = IMAGE
  INTERCHANGE_FORMAT = BINARY
  LINES = 2540
  LINE_SAMPLES = 2161
  SAMPLE_TYPE = UNSIGNED_INTEGER
  SAMPLE_BITS = 8
  BANDS = 1
  BAND_STORAGE_TYPE = BAND_SEQUENTIAL
  MAXIMUM = 255
  MEAN = 82.3921
  MINIMUM = 1
  STANDARD_DEVIATION = 80.6084
END_OBJECT = IMAGE
/* MAP OBJECT DEFINITIONS */
OBJECT = IMAGE_MAP_PROJECTION
  ^DATA_SET_MAP_PROJECTION_CATALOG= "DSMAP.CAT"
  A_AXIS_RADIUS = 3396.0
  B_AXIS_RADIUS = 3396.0
  C_AXIS_RADIUS = 3396.0
  CENTER_LATITUDE = 0.0
  CENTER_LONGITUDE = 154.0
  COORDINATE_SYSTEM_NAME = PLANETOGRAPHIC
  COORDINATE_SYSTEM_TYPE = "BODY-FIXED ROTATING"
  EASTERNMOST_LONGITUDE = 210.41
  FIRST_STANDARD_PARALLEL = "N/A"
  LINE_FIRST_PIXEL = 1
  LINE_LAST_PIXEL = 2540
  LINE_PROJECTION_OFFSET = 1591.0625
  MAP_PROJECTION_ROTATION = 0.0
  MAP_PROJECTION_TYPE = SINUSOIDAL
  MAP_RESOLUTION = 18.5223063708333
  MAP_SCALE = 3.2
  MAXIMUM_LATITUDE = 83.3597
  MINIMUM_LATITUDE = -52.2201
  POSITIVE_LONGITUDE_DIRECTION = EAST
  REFERENCE_LATITUDE = "N/A"
  REFERENCE_LONGITUDE = "N/A"
  SAMPLE_FIRST_PIXEL = 1
  SAMPLE_LAST_PIXEL = 2161
  SAMPLE_PROJECTION_OFFSET = 1186.8125
  SECOND_STANDARD_PARALLEL = "N/A"
  WESTERNMOST_LONGITUDE = 43.1307
END_OBJECT = IMAGE_MAP_PROJECTION
END
