PDS_VERSION_ID = PDS3
/* FILE DATA ELEMENTS */
RECORD_TYPE = UNDEFINED
/* POINTERS TO DATA OBJECTS */
^IMAGE = ("HD442_0000_BL4.TIF")
/* IDENTIFICATION DATA ELEMENTS */
DATA_SET_ID = "MEX-M-HRSC-4-REFDR-MAPPROJECT-EXT4-V4.0"
DATA_SET_NAME = "MARS EXPRESS HRSC MAP PROJECTED REFDR EXTENSION4 V4.0"
DETECTOR_ID = MEX_HRSC_BLUE
EVENT_TYPE = "MARS-CLOUD-VARIABLE-Gl-At"
INSTRUMENT_HOST_ID = MEX
INSTRUMENT_HOST_NAME = "MARS EXPRESS"
INSTRUMENT_ID = HRSC
INSTRUMENT_NAME = "HIGH RESOLUTION STEREO CAMERA"
MISSION_NAME = "MARS EXPRESS"
MISSION_PHASE_NAME = ME_Phase_30
PROCESSING_LEVEL_ID = 4
PRODUCT_CREATION_TIME = 2023-02-01T01:09:44.000Z
PRODUCT_ID = "HD442_0000_BL4.TIF"
RELEASE_ID = 0004
REVISION_ID = 0000
/* QUALITY DATA ELEMENTS */
DATA_QUALITY_ID = 1
DATA_QUALITY_DESC = "Data calculated based on original SPICE kernels"
/* TIME DATA ELEMENTS */
SPACECRAFT_CLOCK_START_COUNT = "1/0355099594.09045"
SPACECRAFT_CLOCK_STOP_COUNT = "1/0355101152.48786"
START_TIME = 2014-08-02T22:53:22.383Z
STOP_TIME = 2014-08-02T23:09:38.462Z
/* ORBITAL DATA ELEMENTS */
ASCENDING_NODE_LONGITUDE = 321.41
MAXIMUM_RESOLUTION = 0.1518
FOOTPRINT_POINT_LATITUDE = (74.4025,74.5732,74.6885,74.7481, 74.7523,74.7012,74.5958,74.4371,74.2268 ,73.9665,73.658,73.3029,72.9032,72.5758 ,72.5189,72.4233,73.1795,73.9408, 74.7063,75.4737,76.241,77.0081,77.764, 78.5087,79.2347,79.9332,80.5928,81.1972 ,81.7275,82.16,82.4694,82.6316,82.6508, 82.6264,82.5575,82.444,82.2866,82.0864, 81.8454,81.5653,81.2492,80.8992,80.5173 ,80.1067,79.6695,79.2075,78.7225, 78.2161,77.4195,77.1448,77.0388,77.2944 ,77.7202,77.9514,78.2221,78.3389, 78.4291,78.492,78.5335,78.5275,78.525, 78.5256,79.5246,80.1814,80.8306,81.4724 ,82.1066,82.7335,83.3523,83.9634, 84.5657,85.1586,85.7408,86.3102,86.8635 ,87.3938,87.8891,88.3242,88.6464, 88.7716,88.65,88.3416,87.931,86.9868, 85.9886,84.9793,83.9742,82.9798,81.9975 ,81.0288,80.0736,79.1337,78.2075, 77.2951,76.3965,75.511,74.6385,74.4224, 74.4025)
FOOTPRINT_POINT_LONGITUDE = (253.316,256.725,260.176,263.651, 267.131,270.591,274.013,277.374,280.655 ,283.846,286.935,289.917,292.781, 294.847,295.185,295.437,296.395,297.49, 298.745,300.188,301.852,303.775,306.02, 308.639,311.71,315.32,319.571,324.568, 330.401,337.118,344.675,352.903,357.175 ,1.48845,5.79045,10.0305,14.1607, 18.1402,21.9377,25.5273,28.906,32.0595, 34.9809,37.6941,40.2106,42.5331,44.6764 ,46.6532,49.3325,50.1552,50.4605, 52.7992,57.4661,60.6315,65.424,68.2079, 71.0418,73.916,78.1138,81.0384,81.3634, 81.4815,82.1315,82.6248,83.1765,83.7984 ,84.5054,85.3248,86.2779,87.4126, 88.7758,90.4517,92.5577,95.2804,98.9436 ,104.048,111.53,123.114,141.178,165.94, 190.547,208.346,219.759,232.207,238.522 ,242.272,244.756,246.537,247.88,248.937 ,249.794,250.517,251.132,251.667, 252.141,252.565,252.949,253.04,253.316)
ORBIT_NUMBER = 13442
ORBITAL_ECCENTRICITY = 0.578
ORBITAL_INCLINATION = 86.9
ORBITAL_SEMIMAJOR_AXIS = 8861.06
PERIAPSIS_ALTITUDE = 343.8
PERIAPSIS_ARGUMENT_ANGLE = 181.43
PERIAPSIS_TIME = 2014-08-02T23:35:14.000Z
SPACECRAFT_ORIENTATION = (0.0,-1.0,0.0)
^MEX_ORIENTATION_DESC = "MEX_ORIENTATION_DESC.TXT"
SPACECRAFT_POINTING_MODE = NADIR
^MEX_POINTING_DESC = "MEX_POINTING_DESC.TXT"
RIGHT_ASCENSION = -1e+32
DECLINATION = -1e+32
OFFSET_ANGLE = -1e+32
SPACECRAFT_SOLAR_DISTANCE = 2.22067e+08
TARGET_NAME = MARS
/* CAMERA DATA ELEMENTS */
DETECTOR_TEMPERATURE = 18.5744
FOCAL_PLANE_TEMPERATURE = 8.9911
INST_CMPRS_NAME = "DISCRETE COSINE TRANSFORMATION (DCT)"
INST_CMPRS_RATIO = 28.7903
INST_CMPRS_QUALITY = 0
INST_CMPRS_QUANTZ_TBL_ID = 0
INSTRUMENT_TEMPERATURE = 11.6418
LENS_TEMPERATURE = 9.3989
MACROPIXEL_SIZE = 2
MISSING_FRAMES = 0
PIXEL_SUBSAMPLING_FLAG = N
SIGNAL_CHAIN_ID = 2
/* RADIOMETRIC DATA ELEMENTS */
BANDWIDTH = 76.0
CENTER_FILTER_WAVELENGTH = 444.0
RADIANCE_OFFSET = 0.0643936
RADIANCE_SCALING_FACTOR = 0.00303029
REFLECTANCE_SCALING_FACTOR = 0.000153544
MEX:REFLECTANCE_OFFSET = 0.00326282
/* IMAGE OBJECT DEFINITIONS */
OBJECT = IMAGE
  INTERCHANGE_FORMAT = BINARY
  LINES = 3816
  LINE_SAMPLES = 8117
  SAMPLE_TYPE = UNSIGNED_INTEGER
  SAMPLE_BITS = 8
  BANDS = 1
  BAND_STORAGE_TYPE = BAND_SEQUENTIAL
  MAXIMUM = 255
  MEAN = 126.679
  MINIMUM = 1
  STANDARD_DEVIATION = 51.7544
END_OBJECT = IMAGE
/* MAP OBJECT DEFINITIONS */
OBJECT = IMAGE_MAP_PROJECTION
  ^DATA_SET_MAP_PROJECTION_CATALOG= "DSMAP.CAT"
  A_AXIS_RADIUS = 3396.0
  B_AXIS_RADIUS = 3396.0
  C_AXIS_RADIUS = 3396.0
  CENTER_LATITUDE = 90.0
  CENTER_LONGITUDE = 0.0
  COORDINATE_SYSTEM_NAME = PLANETOGRAPHIC
  COORDINATE_SYSTEM_TYPE = "BODY-FIXED ROTATING"
  EASTERNMOST_LONGITUDE = 360.0
  FIRST_STANDARD_PARALLEL = "N/A"
  LINE_FIRST_PIXEL = 1
  LINE_LAST_PIXEL = 3816
  LINE_PROJECTION_OFFSET = 1359.0
  MAP_PROJECTION_ROTATION = 0.0
  MAP_PROJECTION_TYPE = STEREOGRAPHIC
  MAP_RESOLUTION = 296.356901933333
  MAP_SCALE = 0.2
  MAXIMUM_LATITUDE = 90.0
  MINIMUM_LATITUDE = 72.4233
  POSITIVE_LONGITUDE_DIRECTION = EAST
  REFERENCE_LATITUDE = "N/A"
  REFERENCE_LONGITUDE = "N/A"
  SAMPLE_FIRST_PIXEL = 1
  SAMPLE_LAST_PIXEL = 8117
  SAMPLE_PROJECTION_OFFSET = 4741.0
  SECOND_STANDARD_PARALLEL = "N/A"
  WESTERNMOST_LONGITUDE = 0.0
END_OBJECT = IMAGE_MAP_PROJECTION
END
