PDS_VERSION_ID = PDS3
/* FILE DATA ELEMENTS */
RECORD_TYPE = UNDEFINED
/* POINTERS TO DATA OBJECTS */
^IMAGE = ("HD441_0000_RE4.TIF")
/* IDENTIFICATION DATA ELEMENTS */
DATA_SET_ID = "MEX-M-HRSC-4-REFDR-MAPPROJECT-EXT4-V4.0"
DATA_SET_NAME = "MARS EXPRESS HRSC MAP PROJECTED REFDR EXTENSION4 V4.0"
DETECTOR_ID = MEX_HRSC_RED
EVENT_TYPE = "MARS-CLOUD-VARIABLE-Gl-At"
INSTRUMENT_HOST_ID = MEX
INSTRUMENT_HOST_NAME = "MARS EXPRESS"
INSTRUMENT_ID = HRSC
INSTRUMENT_NAME = "HIGH RESOLUTION STEREO CAMERA"
MISSION_NAME = "MARS EXPRESS"
MISSION_PHASE_NAME = ME_Phase_30
PROCESSING_LEVEL_ID = 4
PRODUCT_CREATION_TIME = 2023-02-01T01:09:44.000Z
PRODUCT_ID = "HD441_0000_RE4.TIF"
RELEASE_ID = 0004
REVISION_ID = 0000
/* QUALITY DATA ELEMENTS */
DATA_QUALITY_ID = 1
DATA_QUALITY_DESC = "Data calculated based on original SPICE kernels"
/* TIME DATA ELEMENTS */
SPACECRAFT_CLOCK_START_COUNT = "1/0355074420.08280"
SPACECRAFT_CLOCK_STOP_COUNT = "1/0355075929.21055"
START_TIME = 2014-08-02T16:01:33.765Z
STOP_TIME = 2014-08-02T16:12:13.065Z
/* ORBITAL DATA ELEMENTS */
ASCENDING_NODE_LONGITUDE = 321.43
MAXIMUM_RESOLUTION = 0.1458
FOOTPRINT_POINT_LATITUDE = (74.9724,75.1055,75.1308,75.1131, 75.0529,74.9509,74.808,74.6253,74.4039, 74.1454,73.8505,73.5206,73.1089,73.0606 ,72.8309,73.6209,74.4112,75.2004, 75.9868,76.7685,77.5432,78.3073,79.0563 ,79.786,80.486,81.3127,81.9098,82.4378, 82.6701,82.8776,83.0558,83.204,83.3631, 83.423,83.4457,83.4062,83.278,83.1452, 82.9759,82.7718,82.5354,82.269,81.9748, 81.6555,81.3132,80.9497,80.5674,80.1678 ,79.5432,79.3311,79.2674,79.6088, 79.8167,80.1801,80.4837,80.6554,80.7883 ,80.8219,80.8295,80.8278,80.829,81.3654 ,81.9065,82.7164,83.2519,83.7842, 84.3133,84.8388,85.61,86.1245,86.6297, 87.3727,88.0882,88.5315,88.9142,89.1544 ,89.1287,88.8567,88.4665,88.0297, 87.5697,87.1043,86.6327,86.1578,85.6834 ,84.9634,83.8002,82.8703,81.9465, 81.0288,80.1171,79.4343,78.3113,77.6459 ,76.7663,75.8944,75.0301,74.8156, 74.9724)
FOOTPRINT_POINT_LONGITUDE = (357.179,1.93392,4.87078,7.79706, 10.7037,13.5729,16.3906,19.143,21.8234, 24.4216,26.9357,29.3593,31.9761,32.2594 ,32.2386,33.2169,34.3246,35.5832, 37.0182,38.6614,40.5523,42.7379,45.2759 ,48.2412,51.7092,56.9332,61.9099,67.721 ,70.9635,74.4335,78.1059,81.9869, 88.1302,92.3672,96.7008,103.248,109.635 ,113.737,117.719,121.515,125.1,128.464, 131.609,134.531,137.24,139.748,142.063, 144.2,147.086,147.962,148.216,151.663, 154.073,159.146,164.888,169.491,175.344 ,178.325,182.834,183.211,183.347,183.7, 184.101,184.804,185.356,185.995,186.745 ,187.64,189.292,190.788,192.684,196.828 ,204.095,212.669,227.783,254.556, 288.606,312.999,326.524,334.293,339.185 ,342.503,344.895,346.698,348.107, 349.713,351.625,352.71,353.556,354.237, 354.801,355.163,355.691,355.972,356.312 ,356.62,356.9,356.967,357.179)
ORBIT_NUMBER = 13441
ORBITAL_ECCENTRICITY = 0.577
ORBITAL_INCLINATION = 86.9
ORBITAL_SEMIMAJOR_AXIS = 8851.04
PERIAPSIS_ALTITUDE = 344.56
PERIAPSIS_ARGUMENT_ANGLE = 181.61
PERIAPSIS_TIME = 2014-08-02T16:35:48.000Z
SPACECRAFT_ORIENTATION = (0.0,-1.0,0.0)
^MEX_ORIENTATION_DESC = "MEX_ORIENTATION_DESC.TXT"
SPACECRAFT_POINTING_MODE = NADIR
^MEX_POINTING_DESC = "MEX_POINTING_DESC.TXT"
RIGHT_ASCENSION = -1e+32
DECLINATION = -1e+32
OFFSET_ANGLE = -1e+32
SPACECRAFT_SOLAR_DISTANCE = 2.22123e+08
TARGET_NAME = MARS
/* CAMERA DATA ELEMENTS */
DETECTOR_TEMPERATURE = 18.9822
FOCAL_PLANE_TEMPERATURE = 8.7872
INST_CMPRS_NAME = "DISCRETE COSINE TRANSFORMATION (DCT)"
INST_CMPRS_RATIO = 12.5209
INST_CMPRS_QUALITY = 0
INST_CMPRS_QUANTZ_TBL_ID = 0
INSTRUMENT_TEMPERATURE = 11.234
LENS_TEMPERATURE = 9.195
MACROPIXEL_SIZE = 2
MISSING_FRAMES = 0
PIXEL_SUBSAMPLING_FLAG = N
SIGNAL_CHAIN_ID = 3
/* RADIOMETRIC DATA ELEMENTS */
BANDWIDTH = 48.0
CENTER_FILTER_WAVELENGTH = 748.0
RADIANCE_OFFSET = 0.0896393
RADIANCE_SCALING_FACTOR = 0.00421832
REFLECTANCE_SCALING_FACTOR = 0.000474983
MEX:REFLECTANCE_OFFSET = 0.0100934
/* IMAGE OBJECT DEFINITIONS */
OBJECT = IMAGE
  INTERCHANGE_FORMAT = BINARY
  LINES = 4606
  LINE_SAMPLES = 10427
  SAMPLE_TYPE = UNSIGNED_INTEGER
  SAMPLE_BITS = 8
  BANDS = 1
  BAND_STORAGE_TYPE = BAND_SEQUENTIAL
  MAXIMUM = 255
  MEAN = 105.114
  MINIMUM = 2
  STANDARD_DEVIATION = 45.7891
END_OBJECT = IMAGE
/* MAP OBJECT DEFINITIONS */
OBJECT = IMAGE_MAP_PROJECTION
  ^DATA_SET_MAP_PROJECTION_CATALOG= "DSMAP.CAT"
  A_AXIS_RADIUS = 3396.0
  B_AXIS_RADIUS = 3396.0
  C_AXIS_RADIUS = 3396.0
  CENTER_LATITUDE = 0.0
  CENTER_LONGITUDE = 40.0
  COORDINATE_SYSTEM_NAME = PLANETOGRAPHIC
  COORDINATE_SYSTEM_TYPE = "BODY-FIXED ROTATING"
  EASTERNMOST_LONGITUDE = 360.0
  FIRST_STANDARD_PARALLEL = "N/A"
  LINE_FIRST_PIXEL = 1
  LINE_LAST_PIXEL = 4606
  LINE_PROJECTION_OFFSET = 26082.0
  MAP_PROJECTION_ROTATION = 0.0
  MAP_PROJECTION_TYPE = SINUSOIDAL
  MAP_RESOLUTION = 296.356901933333
  MAP_SCALE = 0.2
  MAXIMUM_LATITUDE = 90.0
  MINIMUM_LATITUDE = 72.8309
  POSITIVE_LONGITUDE_DIRECTION = EAST
  REFERENCE_LATITUDE = "N/A"
  REFERENCE_LONGITUDE = "N/A"
  SAMPLE_FIRST_PIXEL = 1
  SAMPLE_LAST_PIXEL = 10427
  SAMPLE_PROJECTION_OFFSET = 3565.0
  SECOND_STANDARD_PARALLEL = "N/A"
  WESTERNMOST_LONGITUDE = 0.0
END_OBJECT = IMAGE_MAP_PROJECTION
END
