PDS_VERSION_ID = PDS3
/* FILE DATA ELEMENTS */
RECORD_TYPE = UNDEFINED
/* POINTERS TO DATA OBJECTS */
^IMAGE = ("HD408_0000_RE4.TIF")
/* IDENTIFICATION DATA ELEMENTS */
DATA_SET_ID = "MEX-M-HRSC-4-REFDR-MAPPROJECT-EXT4-V4.0"
DATA_SET_NAME = "MARS EXPRESS HRSC MAP PROJECTED REFDR EXTENSION4 V4.0"
DETECTOR_ID = MEX_HRSC_RED
EVENT_TYPE = "MARS-TERMINATOR-CALIBRATION-Tc"
INSTRUMENT_HOST_ID = MEX
INSTRUMENT_HOST_NAME = "MARS EXPRESS"
INSTRUMENT_ID = HRSC
INSTRUMENT_NAME = "HIGH RESOLUTION STEREO CAMERA"
MISSION_NAME = "MARS EXPRESS"
MISSION_PHASE_NAME = ME_Phase_30
PROCESSING_LEVEL_ID = 4
PRODUCT_CREATION_TIME = 2023-02-01T01:09:44.000Z
PRODUCT_ID = "HD408_0000_RE4.TIF"
RELEASE_ID = 0004
REVISION_ID = 0000
/* QUALITY DATA ELEMENTS */
DATA_QUALITY_ID = 1
DATA_QUALITY_DESC = "Data calculated based on original SPICE kernels"
/* TIME DATA ELEMENTS */
SPACECRAFT_CLOCK_START_COUNT = "1/0354254702.09063"
SPACECRAFT_CLOCK_STOP_COUNT = "1/0354255156.07551"
START_TIME = 2014-07-24T04:08:53.568Z
STOP_TIME = 2014-07-24T04:12:20.584Z
/* ORBITAL DATA ELEMENTS */
ASCENDING_NODE_LONGITUDE = 322.05
MAXIMUM_RESOLUTION = 0.3722
FOOTPRINT_POINT_LATITUDE = (-59.4399,-59.4304,-58.2389,-54.6562, -52.3114,-47.7948,-44.87,-42.7694, -40.0788,-37.0858,-37.2385,-37.015, -36.4825,-35.9231,-34.9772,-33.7652, -31.6096,-28.2944,-25.4065,-23.3884, -21.6569,-17.6432,-14.4883,-12.4138, -9.15023,-5.92137,-3.38889,-1.1043, 2.75129,7.15375,12.1113,16.1023,20.2529 ,23.3855,27.8062,30.5527,33.5617, 37.9234,42.2189,47.2329,50.7305,53.4726 ,57.7689,59.6094,57.5565,56.1626, 54.0048,52.2922,51.0748,46.7758,46.765, 45.1186,41.4122,38.7107,36.4261,32.2007 ,30.7223,29.4655,26.9952,25.3321,23.481 ,21.9028,20.0401,17.6205,13.5511, 11.3126,7.38816,3.97447,1.56268, -1.14748,-4.64952,-8.33061,-11.2531, -15.7795,-18.7189,-21.1329,-24.3819, -27.4789,-32.0835,-34.85,-39.0333, -42.034,-44.5004,-47.3253,-49.4166, -53.1719,-55.7172,-60.1692,-63.1525, -65.7244,-68.881,-71.6749,-73.3482, -75.7363,-77.3912,-78.4064,-74.7876, -71.1134,-65.6092,-59.4399)
FOOTPRINT_POINT_LONGITUDE = (180.038,180.096,179.639,179.4,178.739, 178.52,176.296,177.874,175.558,175.551, 169.768,163.821,159.011,155.686,151.478 ,147.325,141.641,135.046,130.528, 127.808,125.691,121.371,118.429,116.673 ,114.146,111.87,110.226,108.821,106.619 ,104.311,101.949,100.179,98.4481, 97.1999,95.5137,94.5033,93.4227,91.8938 ,90.4193,88.7166,87.5188,86.5667, 85.0099,81.8257,78.0428,68.5524,62.7457 ,57.5078,53.5724,48.1734,47.4294, 45.2335,41.143,38.7168,38.2038,35.7265, 38.5979,40.8127,44.7029,47.0516,49.4705 ,51.372,53.4645,55.995,59.8377,61.7716, 64.9116,67.4282,69.1092,70.9147,73.1316 ,75.3649,77.068,79.6155,81.2261,82.53, 84.265,85.911,88.3853,89.8927,92.237, 94.011,95.5399,97.3849,98.8172,101.63, 103.753,108.031,111.514,115.086,120.617 ,127.197,132.425,143.041,155.153, 169.729,180.479,176.869,180.531, 180.038)
ORBIT_NUMBER = 13408
ORBITAL_ECCENTRICITY = 0.578
ORBITAL_INCLINATION = 86.9
ORBITAL_SEMIMAJOR_AXIS = 8852.01
PERIAPSIS_ALTITUDE = 341.64
PERIAPSIS_ARGUMENT_ANGLE = 187.35
PERIAPSIS_TIME = 2014-07-24T01:53:08.000Z
SPACECRAFT_ORIENTATION = (0.0,-1.0,0.0)
^MEX_ORIENTATION_DESC = "MEX_ORIENTATION_DESC.TXT"
SPACECRAFT_POINTING_MODE = INERT
^MEX_POINTING_DESC = "MEX_POINTING_DESC.TXT"
RIGHT_ASCENSION = 204.869
DECLINATION = 35.511
OFFSET_ANGLE = -1e+32
SPACECRAFT_SOLAR_DISTANCE = 2.23987e+08
TARGET_NAME = MARS
/* CAMERA DATA ELEMENTS */
DETECTOR_TEMPERATURE = 18.9822
FOCAL_PLANE_TEMPERATURE = 8.7872
INST_CMPRS_NAME = "DISCRETE COSINE TRANSFORMATION (DCT)"
INST_CMPRS_RATIO = 3.80614
INST_CMPRS_QUALITY = 0
INST_CMPRS_QUANTZ_TBL_ID = 0
INSTRUMENT_TEMPERATURE = 11.6418
LENS_TEMPERATURE = 9.195
MACROPIXEL_SIZE = 1
MISSING_FRAMES = 0
PIXEL_SUBSAMPLING_FLAG = N
SIGNAL_CHAIN_ID = 3
/* RADIOMETRIC DATA ELEMENTS */
BANDWIDTH = 48.0
CENTER_FILTER_WAVELENGTH = 748.0
RADIANCE_OFFSET = 0.0
RADIANCE_SCALING_FACTOR = 0.0098376
REFLECTANCE_SCALING_FACTOR = 0.00112613
MEX:REFLECTANCE_OFFSET = 0.0
/* IMAGE OBJECT DEFINITIONS */
OBJECT = IMAGE
  INTERCHANGE_FORMAT = BINARY
  LINES = 20574
  LINE_SAMPLES = 17290
  SAMPLE_TYPE = UNSIGNED_INTEGER
  SAMPLE_BITS = 8
  BANDS = 1
  BAND_STORAGE_TYPE = BAND_SEQUENTIAL
  MAXIMUM = 255
  MEAN = 0.0
  MINIMUM = 0
  STANDARD_DEVIATION = 0.0
END_OBJECT = IMAGE
/* MAP OBJECT DEFINITIONS */
OBJECT = IMAGE_MAP_PROJECTION
  ^DATA_SET_MAP_PROJECTION_CATALOG= "DSMAP.CAT"
  A_AXIS_RADIUS = 3396.0
  B_AXIS_RADIUS = 3396.0
  C_AXIS_RADIUS = 3396.0
  CENTER_LATITUDE = 0.0
  CENTER_LONGITUDE = 97.0
  COORDINATE_SYSTEM_NAME = PLANETOGRAPHIC
  COORDINATE_SYSTEM_TYPE = "BODY-FIXED ROTATING"
  EASTERNMOST_LONGITUDE = 180.531
  FIRST_STANDARD_PARALLEL = "N/A"
  LINE_FIRST_PIXEL = 1
  LINE_LAST_PIXEL = 20574
  LINE_PROJECTION_OFFSET = 8917.0
  MAP_PROJECTION_ROTATION = 0.0
  MAP_PROJECTION_TYPE = SINUSOIDAL
  MAP_RESOLUTION = 148.178450966667
  MAP_SCALE = 0.4
  MAXIMUM_LATITUDE = 59.6094
  MINIMUM_LATITUDE = -78.4064
  POSITIVE_LONGITUDE_DIRECTION = EAST
  REFERENCE_LATITUDE = "N/A"
  REFERENCE_LONGITUDE = "N/A"
  SAMPLE_FIRST_PIXEL = 1
  SAMPLE_LAST_PIXEL = 17290
  SAMPLE_PROJECTION_OFFSET = 7820.0
  SECOND_STANDARD_PARALLEL = "N/A"
  WESTERNMOST_LONGITUDE = 35.7265
END_OBJECT = IMAGE_MAP_PROJECTION
END
