PDS_VERSION_ID = PDS3
/* FILE DATA ELEMENTS */
RECORD_TYPE = UNDEFINED
/* POINTERS TO DATA OBJECTS */
^IMAGE = ("HD408_0000_P14.TIF")
/* IDENTIFICATION DATA ELEMENTS */
DATA_SET_ID = "MEX-M-HRSC-4-REFDR-MAPPROJECT-EXT4-V4.0"
DATA_SET_NAME = "MARS EXPRESS HRSC MAP PROJECTED REFDR EXTENSION4 V4.0"
DETECTOR_ID = MEX_HRSC_P1
EVENT_TYPE = "MARS-TERMINATOR-CALIBRATION-Tc"
INSTRUMENT_HOST_ID = MEX
INSTRUMENT_HOST_NAME = "MARS EXPRESS"
INSTRUMENT_ID = HRSC
INSTRUMENT_NAME = "HIGH RESOLUTION STEREO CAMERA"
MISSION_NAME = "MARS EXPRESS"
MISSION_PHASE_NAME = ME_Phase_30
PROCESSING_LEVEL_ID = 4
PRODUCT_CREATION_TIME = 2023-02-01T01:09:44.000Z
PRODUCT_ID = "HD408_0000_P14.TIF"
RELEASE_ID = 0004
REVISION_ID = 0000
/* QUALITY DATA ELEMENTS */
DATA_QUALITY_ID = 1
DATA_QUALITY_DESC = "Data calculated based on original SPICE kernels"
/* TIME DATA ELEMENTS */
SPACECRAFT_CLOCK_START_COUNT = "1/0354254702.09063"
SPACECRAFT_CLOCK_STOP_COUNT = "1/0354255156.07551"
START_TIME = 2014-07-24T04:05:47.600Z
STOP_TIME = 2014-07-24T04:09:16.626Z
/* ORBITAL DATA ELEMENTS */
ASCENDING_NODE_LONGITUDE = 322.05
MAXIMUM_RESOLUTION = 2.9434
FOOTPRINT_POINT_LATITUDE = (-58.6104,-58.5307,-57.6578,-53.5365, -50.7754,-49.1991,-47.1434,-45.1608, -42.3237,-40.0774,-40.2437,-40.2147, -39.8583,-39.3716,-38.4138,-36.8626, -35.5919,-33.3304,-31.6917,-29.1263, -27.321,-24.2704,-21.195,-17.6691, -15.3258,-12.701,-8.7938,-4.43288, -0.188818,3.00034,7.36052,13.0538, 18.9222,22.6726,27.0773,31.8033,34.775, 38.2467,42.5875,45.3631,49.0387,53.5625 ,56.2607,56.5034,53.0474,54.2398, 50.1999,49.4268,47.6043,45.8062,44.3779 ,39.9342,37.1308,36.3198,33.4016, 33.7978,32.3125,29.6218,27.2379,25.5518 ,23.3621,21.4033,19.3947,16.5832, 14.1913,12.1533,9.06915,6.92689,3.09671 ,0.230737,-4.39202,-8.79181,-13.779, -16.7894,-21.1468,-24.0535,-27.3931, -31.4335,-36.3254,-42.6919,-45.4889, -48.5068,-52.8965,-58.5079,-62.2719, -64.8657,-70.5185,-74.3063,-76.864, -79.2382,-81.1111,-78.8828,-79.6496, -76.5327,-76.7831,-75.8425,-72.2831, -68.8795,-63.3084,-58.6104)
FOOTPRINT_POINT_LONGITUDE = (181.418,181.796,179.237,176.639, 174.883,179.43,177.953,173.981,172.983, 175.817,171.999,167.858,162.474,158.629 ,153.566,147.754,144.094,138.781, 135.592,131.327,128.711,124.845,121.456 ,118.066,116.03,113.93,111.09,108.248, 105.754,104.014,101.789,99.1108,96.544, 94.9788,93.1972,91.3259,90.1606,88.7965 ,87.0701,85.9401,84.3942,82.3714, 81.0471,75.3811,75.0177,68.6986,64.4362 ,57.2184,52.5464,49.3506,48.3308, 45.1096,43.8375,39.1083,41.2557,37.37, 40.14,35.5041,39.9448,42.6871,45.8956, 48.485,50.9025,54.0126,56.4103,58.3202, 61.0126,62.7568,65.6644,67.6913,70.7462 ,73.4438,76.3196,77.9816,80.3139, 81.8385,83.5382,85.6108,88.1231,91.5076 ,93.0905,94.9195,97.7236,101.86,105.243 ,107.973,115.939,124.319,133.173, 146.963,176.121,159.826,177.085,170.436 ,182.484,171.232,171.44,174.481,181.882 ,181.418)
ORBIT_NUMBER = 13408
ORBITAL_ECCENTRICITY = 0.578
ORBITAL_INCLINATION = 86.9
ORBITAL_SEMIMAJOR_AXIS = 8852.01
PERIAPSIS_ALTITUDE = 341.64
PERIAPSIS_ARGUMENT_ANGLE = 187.35
PERIAPSIS_TIME = 2014-07-24T01:53:08.000Z
SPACECRAFT_ORIENTATION = (0.0,-1.0,0.0)
^MEX_ORIENTATION_DESC = "MEX_ORIENTATION_DESC.TXT"
SPACECRAFT_POINTING_MODE = INERT
^MEX_POINTING_DESC = "MEX_POINTING_DESC.TXT"
RIGHT_ASCENSION = 204.869
DECLINATION = 35.511
OFFSET_ANGLE = -1e+32
SPACECRAFT_SOLAR_DISTANCE = 2.23987e+08
TARGET_NAME = MARS
/* CAMERA DATA ELEMENTS */
DETECTOR_TEMPERATURE = 17.7588
FOCAL_PLANE_TEMPERATURE = 8.7872
INST_CMPRS_NAME = "DISCRETE COSINE TRANSFORMATION (DCT)"
INST_CMPRS_RATIO = 18.4454
INST_CMPRS_QUALITY = 0
INST_CMPRS_QUANTZ_TBL_ID = 0
INSTRUMENT_TEMPERATURE = 11.6418
LENS_TEMPERATURE = 9.195
MACROPIXEL_SIZE = 8
MISSING_FRAMES = 0
PIXEL_SUBSAMPLING_FLAG = N
SIGNAL_CHAIN_ID = 1
/* RADIOMETRIC DATA ELEMENTS */
BANDWIDTH = 174.0
CENTER_FILTER_WAVELENGTH = 675.0
RADIANCE_OFFSET = 0.0
RADIANCE_SCALING_FACTOR = 0.0423367
REFLECTANCE_SCALING_FACTOR = 0.00114229
MEX:REFLECTANCE_OFFSET = 0.0
/* IMAGE OBJECT DEFINITIONS */
OBJECT = IMAGE
  INTERCHANGE_FORMAT = BINARY
  LINES = 2572
  LINE_SAMPLES = 2162
  SAMPLE_TYPE = UNSIGNED_INTEGER
  SAMPLE_BITS = 8
  BANDS = 1
  BAND_STORAGE_TYPE = BAND_SEQUENTIAL
  MAXIMUM = 255
  MEAN = 0.0
  MINIMUM = 0
  STANDARD_DEVIATION = 0.0
END_OBJECT = IMAGE
/* MAP OBJECT DEFINITIONS */
OBJECT = IMAGE_MAP_PROJECTION
  ^DATA_SET_MAP_PROJECTION_CATALOG= "DSMAP.CAT"
  A_AXIS_RADIUS = 3396.0
  B_AXIS_RADIUS = 3396.0
  C_AXIS_RADIUS = 3396.0
  CENTER_LATITUDE = 0.0
  CENTER_LONGITUDE = 97.0
  COORDINATE_SYSTEM_NAME = PLANETOGRAPHIC
  COORDINATE_SYSTEM_TYPE = "BODY-FIXED ROTATING"
  EASTERNMOST_LONGITUDE = 182.484
  FIRST_STANDARD_PARALLEL = "N/A"
  LINE_FIRST_PIXEL = 1
  LINE_LAST_PIXEL = 2572
  LINE_PROJECTION_OFFSET = 1114.1875
  MAP_PROJECTION_ROTATION = 0.0
  MAP_PROJECTION_TYPE = SINUSOIDAL
  MAP_RESOLUTION = 18.5223063708333
  MAP_SCALE = 3.2
  MAXIMUM_LATITUDE = 56.5034
  MINIMUM_LATITUDE = -81.11109999999999
  POSITIVE_LONGITUDE_DIRECTION = EAST
  REFERENCE_LATITUDE = "N/A"
  REFERENCE_LONGITUDE = "N/A"
  SAMPLE_FIRST_PIXEL = 1
  SAMPLE_LAST_PIXEL = 2162
  SAMPLE_PROJECTION_OFFSET = 977.0625
  SECOND_STANDARD_PARALLEL = "N/A"
  WESTERNMOST_LONGITUDE = 35.5041
END_OBJECT = IMAGE_MAP_PROJECTION
END
