PDS_VERSION_ID = PDS3
/* FILE DATA ELEMENTS */
RECORD_TYPE = UNDEFINED
/* POINTERS TO DATA OBJECTS */
^IMAGE = ("HD310_0000_BL4.TIF")
/* IDENTIFICATION DATA ELEMENTS */
DATA_SET_ID = "MEX-M-HRSC-4-REFDR-MAPPROJECT-EXT4-V4.0"
DATA_SET_NAME = "MARS EXPRESS HRSC MAP PROJECTED REFDR EXTENSION4 V4.0"
DETECTOR_ID = MEX_HRSC_BLUE
EVENT_TYPE = "MARS-CLOUD-VARIABLE-Gl-At"
INSTRUMENT_HOST_ID = MEX
INSTRUMENT_HOST_NAME = "MARS EXPRESS"
INSTRUMENT_ID = HRSC
INSTRUMENT_NAME = "HIGH RESOLUTION STEREO CAMERA"
MISSION_NAME = "MARS EXPRESS"
MISSION_PHASE_NAME = ME_Phase_30
PROCESSING_LEVEL_ID = 4
PRODUCT_CREATION_TIME = 2023-02-01T01:09:44.000Z
PRODUCT_ID = "HD310_0000_BL4.TIF"
RELEASE_ID = 0004
REVISION_ID = 0000
/* QUALITY DATA ELEMENTS */
DATA_QUALITY_ID = 1
DATA_QUALITY_DESC = "Data calculated based on original SPICE kernels"
/* TIME DATA ELEMENTS */
SPACECRAFT_CLOCK_START_COUNT = "1/0351775525.07315"
SPACECRAFT_CLOCK_STOP_COUNT = "1/0351778339.10744"
START_TIME = 2014-06-25T11:41:56.808Z
STOP_TIME = 2014-06-25T12:06:50.256Z
/* ORBITAL DATA ELEMENTS */
ASCENDING_NODE_LONGITUDE = 323.92
MAXIMUM_RESOLUTION = 0.2242
FOOTPRINT_POINT_LATITUDE = (76.4756,76.8386,77.0923,77.3121, 77.4968,77.6454,77.7571,77.8312,77.8674 ,77.8655,77.8257,77.7485,77.6348, 77.4855,77.0853,76.8374,76.5595,76.2531 ,75.9198,75.561,75.178,74.7718,74.3444, 73.897,73.3111,73.1905,73.047,73.7395, 74.4293,75.1132,75.7874,76.4466,77.0847 ,77.6941,78.2649,78.7861,79.2445, 79.6241,79.9092,80.0831,80.1303,80.0395 ,79.8043,79.4239,78.9025,78.2482, 77.4707,76.579,75.5843,75.0508,74.4944, 73.916,73.3164,72.3788,72.0563,72.0346, 72.5789,72.9501,73.1699,73.2772,73.3601 ,73.4072,73.3799,73.3206,73.2142, 73.1997,73.1956,74.3067,75.0324,75.7459 ,76.4473,77.1365,77.8131,78.477,79.1276 ,79.7647,80.3871,80.9941,82.1572, 83.2385,84.2147,85.0457,85.6712,86.0187 ,86.0364,85.7395,85.2021,84.5063, 83.7153,82.8673,81.9893,81.0921,80.192, 79.2906,78.3931,77.5009,76.6162,76.3962 ,76.4756)
FOOTPRINT_POINT_LONGITUDE = (59.4407,62.8458,65.6831,68.6116, 71.6213,74.7023,77.8413,81.0192,84.2174 ,87.4189,90.6058,93.7589,96.8606, 99.8951,105.711,108.474,111.132,113.683 ,116.123,118.452,120.673,122.789, 124.799,126.705,128.951,129.383,129.614 ,131.017,132.618,134.447,136.537, 138.929,141.665,144.792,148.358,152.406 ,156.969,162.056,167.642,173.655, 179.971,186.421,192.816,198.979,204.764 ,210.08,214.892,219.156,222.944,224.661 ,226.27,227.779,229.193,231.138,231.747 ,231.787,236.841,241.506,245.345, 247.949,250.914,255.904,258.909,261.573 ,264.558,264.888,265.008,266.097, 266.893,267.75,268.68,269.691,270.793, 272.002,273.331,274.804,276.436,278.259 ,282.636,288.242,295.658,305.526, 318.437,334.178,351.041,6.46568,18.9427 ,28.4495,35.6075,41.0596,45.3068, 48.6828,51.4434,53.7387,55.6853,57.3605 ,58.8246,59.1624,59.4407)
ORBIT_NUMBER = 13310
ORBITAL_ECCENTRICITY = 0.579
ORBITAL_INCLINATION = 86.88
ORBITAL_SEMIMAJOR_AXIS = 8849.11
PERIAPSIS_ALTITUDE = 334.69
PERIAPSIS_ARGUMENT_ANGLE = 204.23
PERIAPSIS_TIME = 2014-06-25T12:42:13.000Z
SPACECRAFT_ORIENTATION = (0.0,-1.0,0.0)
^MEX_ORIENTATION_DESC = "MEX_ORIENTATION_DESC.TXT"
SPACECRAFT_POINTING_MODE = NADIR
^MEX_POINTING_DESC = "MEX_POINTING_DESC.TXT"
RIGHT_ASCENSION = -1e+32
DECLINATION = -1e+32
OFFSET_ANGLE = -1e+32
SPACECRAFT_SOLAR_DISTANCE = 2.29557e+08
TARGET_NAME = MARS
/* CAMERA DATA ELEMENTS */
DETECTOR_TEMPERATURE = 18.5744
FOCAL_PLANE_TEMPERATURE = 8.5833
INST_CMPRS_NAME = "DISCRETE COSINE TRANSFORMATION (DCT)"
INST_CMPRS_RATIO = 23.3358
INST_CMPRS_QUALITY = 0
INST_CMPRS_QUANTZ_TBL_ID = 0
INSTRUMENT_TEMPERATURE = 11.4379
LENS_TEMPERATURE = 9.195
MACROPIXEL_SIZE = 2
MISSING_FRAMES = 0
PIXEL_SUBSAMPLING_FLAG = N
SIGNAL_CHAIN_ID = 2
/* RADIOMETRIC DATA ELEMENTS */
BANDWIDTH = 76.0
CENTER_FILTER_WAVELENGTH = 444.0
RADIANCE_OFFSET = 0.0
RADIANCE_SCALING_FACTOR = 0.00902773
REFLECTANCE_SCALING_FACTOR = 0.000488828
MEX:REFLECTANCE_OFFSET = 0.0
/* IMAGE OBJECT DEFINITIONS */
OBJECT = IMAGE
  INTERCHANGE_FORMAT = BINARY
  LINES = 5399
  LINE_SAMPLES = 8897
  SAMPLE_TYPE = UNSIGNED_INTEGER
  SAMPLE_BITS = 8
  BANDS = 1
  BAND_STORAGE_TYPE = BAND_SEQUENTIAL
  MAXIMUM = 255
  MEAN = 71.135
  MINIMUM = 1
  STANDARD_DEVIATION = 31.0231
END_OBJECT = IMAGE
/* MAP OBJECT DEFINITIONS */
OBJECT = IMAGE_MAP_PROJECTION
  ^DATA_SET_MAP_PROJECTION_CATALOG= "DSMAP.CAT"
  A_AXIS_RADIUS = 3396.0
  B_AXIS_RADIUS = 3396.0
  C_AXIS_RADIUS = 3396.0
  CENTER_LATITUDE = 90.0
  CENTER_LONGITUDE = 0.0
  COORDINATE_SYSTEM_NAME = PLANETOGRAPHIC
  COORDINATE_SYSTEM_TYPE = "BODY-FIXED ROTATING"
  EASTERNMOST_LONGITUDE = 360.0
  FIRST_STANDARD_PARALLEL = "N/A"
  LINE_FIRST_PIXEL = 1
  LINE_LAST_PIXEL = 5399
  LINE_PROJECTION_OFFSET = 3320.0
  MAP_PROJECTION_ROTATION = 0.0
  MAP_PROJECTION_TYPE = STEREOGRAPHIC
  MAP_RESOLUTION = 296.356901933333
  MAP_SCALE = 0.2
  MAXIMUM_LATITUDE = 90.0
  MINIMUM_LATITUDE = 72.0346
  POSITIVE_LONGITUDE_DIRECTION = EAST
  REFERENCE_LATITUDE = "N/A"
  REFERENCE_LONGITUDE = "N/A"
  SAMPLE_FIRST_PIXEL = 1
  SAMPLE_LAST_PIXEL = 8897
  SAMPLE_PROJECTION_OFFSET = 4997.0
  SECOND_STANDARD_PARALLEL = "N/A"
  WESTERNMOST_LONGITUDE = 0.0
END_OBJECT = IMAGE_MAP_PROJECTION
END
