PDS_VERSION_ID = PDS3
/* FILE DATA ELEMENTS */
RECORD_TYPE = UNDEFINED
/* POINTERS TO DATA OBJECTS */
^IMAGE = ("HD276_0000_P24.TIF")
/* IDENTIFICATION DATA ELEMENTS */
DATA_SET_ID = "MEX-M-HRSC-4-REFDR-MAPPROJECT-EXT4-V4.0"
DATA_SET_NAME = "MARS EXPRESS HRSC MAP PROJECTED REFDR EXTENSION4 V4.0"
DETECTOR_ID = MEX_HRSC_P2
EVENT_TYPE = "MARS-TERMINATOR-CALIBRATION-Tc"
INSTRUMENT_HOST_ID = MEX
INSTRUMENT_HOST_NAME = "MARS EXPRESS"
INSTRUMENT_ID = HRSC
INSTRUMENT_NAME = "HIGH RESOLUTION STEREO CAMERA"
MISSION_NAME = "MARS EXPRESS"
MISSION_PHASE_NAME = ME_Phase_30
PROCESSING_LEVEL_ID = 4
PRODUCT_CREATION_TIME = 2023-02-01T01:09:44.000Z
PRODUCT_ID = "HD276_0000_P24.TIF"
RELEASE_ID = 0004
REVISION_ID = 0000
/* QUALITY DATA ELEMENTS */
DATA_QUALITY_ID = 1
DATA_QUALITY_DESC = "Data calculated based on original SPICE kernels"
/* TIME DATA ELEMENTS */
SPACECRAFT_CLOCK_START_COUNT = "1/0350916070.09049"
SPACECRAFT_CLOCK_STOP_COUNT = "1/0350916522.06855"
START_TIME = 2014-06-15T12:44:39.452Z
STOP_TIME = 2014-06-15T12:48:05.404Z
/* ORBITAL DATA ELEMENTS */
ASCENDING_NODE_LONGITUDE = 324.56
MAXIMUM_RESOLUTION = 1.5014
FOOTPRINT_POINT_LATITUDE = (-20.9876,-21.0755,-20.4638,-18.8096, -16.5947,-15.8227,-13.3677,-11.3161, -12.3679,-8.56837,-4.12301,-1.52234, 2.89533,6.35878,11.1899,14.5617,17.135, 19.7208,24.266,27.7921,34.2642,39.2883, 43.7295,46.5616,49.5702,54.0295,57.9539 ,60.7614,63.687,68.7599,72.4846,76.6458 ,80.9897,82.6431,82.5082,79.0296, 76.6478,73.3295,68.9655,64.3094,60.8058 ,57.8147,54.9233,57.7273,54.1418, 57.7893,54.4327,56.7561,57.5112,54.1963 ,53.8508,51.3323,50.5395,49.7192, 48.4166,45.9217,44.6072,44.057,45.7655, 50.0558,52.5098,55.7091,57.5167,59.1156 ,60.6665,61.2964,61.3774,61.019,59.65, 58.2045,56.4527,53.5636,51.1274,48.2567 ,46.113,43.2904,39.3709,36.5,34.1197, 30.1723,26.3042,23.7317,19.5586,16.4188 ,11.5696,7.84484,4.28098,0.7683, -4.30301,-7.66533,-12.3197,-17.2056, -23.4821,-22.5983,-22.6823,-21.9419, -21.5756,-15.6654,-20.9876)
FOOTPRINT_POINT_LONGITUDE = (4.97557,5.03703,6.6256,8.87098,12.4469 ,16.9651,19.5908,22.3951,25.4801,24.414 ,22.4273,21.3764,19.7358,18.5621, 17.0897,16.1626,15.5038,14.8848,13.9011 ,13.2339,12.2018,11.6302,11.3118, 11.2129,11.2115,11.4613,12.0049,12.6476 ,13.62,16.4274,20.0368,27.3705,46.2951, 68.7719,100.599,130.946,138.665,144.931 ,149.581,152.386,153.691,156.523, 156.867,157.244,157.593,159.341,159.532 ,164.822,169.624,176.025,182.762, 191.927,194.472,198.798,207.495,209.681 ,214.556,218.939,221.936,227.341, 231.312,238.08,243.245,249.362,258.743, 266.72,273.306,280.586,290.834,297.162, 302.732,309.452,313.75,317.814,320.347, 323.197,326.466,328.475,329.944,332.064 ,333.829,334.86,336.337,337.307,338.601 ,339.451,340.164,340.783,341.519, 341.929,342.385,342.728,344.598,349.344 ,353.306,356.329,0.568493,359.968, 4.97557)
ORBIT_NUMBER = 13276
ORBITAL_ECCENTRICITY = 0.578
ORBITAL_INCLINATION = 86.89
ORBITAL_SEMIMAJOR_AXIS = 8830.74
PERIAPSIS_ALTITUDE = 333.51
PERIAPSIS_ARGUMENT_ANGLE = 210.04
PERIAPSIS_TIME = 2014-06-15T15:05:13.000Z
SPACECRAFT_ORIENTATION = (0.0,-1.0,0.0)
^MEX_ORIENTATION_DESC = "MEX_ORIENTATION_DESC.TXT"
SPACECRAFT_POINTING_MODE = INERT
^MEX_POINTING_DESC = "MEX_POINTING_DESC.TXT"
RIGHT_ASCENSION = 174.388
DECLINATION = -23.878
OFFSET_ANGLE = -1e+32
SPACECRAFT_SOLAR_DISTANCE = 2.31451e+08
TARGET_NAME = MARS
/* CAMERA DATA ELEMENTS */
DETECTOR_TEMPERATURE = 18.7783
FOCAL_PLANE_TEMPERATURE = 8.5833
INST_CMPRS_NAME = "DISCRETE COSINE TRANSFORMATION (DCT)"
INST_CMPRS_RATIO = 16.7331
INST_CMPRS_QUALITY = 0
INST_CMPRS_QUANTZ_TBL_ID = 0
INSTRUMENT_TEMPERATURE = 11.4379
LENS_TEMPERATURE = 9.195
MACROPIXEL_SIZE = 4
MISSING_FRAMES = 0
PIXEL_SUBSAMPLING_FLAG = N
SIGNAL_CHAIN_ID = 1
/* RADIOMETRIC DATA ELEMENTS */
BANDWIDTH = 177.0
CENTER_FILTER_WAVELENGTH = 676.5
RADIANCE_OFFSET = 0.0
RADIANCE_SCALING_FACTOR = 0.0522657
REFLECTANCE_SCALING_FACTOR = 0.00148479
MEX:REFLECTANCE_OFFSET = 0.0
/* IMAGE OBJECT DEFINITIONS */
OBJECT = IMAGE
  INTERCHANGE_FORMAT = BINARY
  LINES = 4173
  LINE_SAMPLES = 7750
  SAMPLE_TYPE = UNSIGNED_INTEGER
  SAMPLE_BITS = 8
  BANDS = 1
  BAND_STORAGE_TYPE = BAND_SEQUENTIAL
  MAXIMUM = 255
  MEAN = 111.443
  MINIMUM = 1
  STANDARD_DEVIATION = 56.9117
END_OBJECT = IMAGE
/* MAP OBJECT DEFINITIONS */
OBJECT = IMAGE_MAP_PROJECTION
  ^DATA_SET_MAP_PROJECTION_CATALOG= "DSMAP.CAT"
  A_AXIS_RADIUS = 3396.0
  B_AXIS_RADIUS = 3396.0
  C_AXIS_RADIUS = 3396.0
  CENTER_LATITUDE = 0.0
  CENTER_LONGITUDE = 343.0
  COORDINATE_SYSTEM_NAME = PLANETOGRAPHIC
  COORDINATE_SYSTEM_TYPE = "BODY-FIXED ROTATING"
  EASTERNMOST_LONGITUDE = 360.0
  FIRST_STANDARD_PARALLEL = "N/A"
  LINE_FIRST_PIXEL = 1
  LINE_LAST_PIXEL = 4173
  LINE_PROJECTION_OFFSET = 3263.0
  MAP_PROJECTION_ROTATION = 0.0
  MAP_PROJECTION_TYPE = SINUSOIDAL
  MAP_RESOLUTION = 37.0446127416667
  MAP_SCALE = 1.6
  MAXIMUM_LATITUDE = 90.0
  MINIMUM_LATITUDE = -23.4821
  POSITIVE_LONGITUDE_DIRECTION = EAST
  REFERENCE_LATITUDE = "N/A"
  REFERENCE_LONGITUDE = "N/A"
  SAMPLE_FIRST_PIXEL = 1
  SAMPLE_LAST_PIXEL = 7750
  SAMPLE_PROJECTION_OFFSET = 3878.0
  SECOND_STANDARD_PARALLEL = "N/A"
  WESTERNMOST_LONGITUDE = 0.0
END_OBJECT = IMAGE_MAP_PROJECTION
END
