PDS_VERSION_ID = PDS3
/* FILE DATA ELEMENTS */
RECORD_TYPE = UNDEFINED
/* POINTERS TO DATA OBJECTS */
^IMAGE = ("HD263_0000_IR4.TIF")
/* IDENTIFICATION DATA ELEMENTS */
DATA_SET_ID = "MEX-M-HRSC-4-REFDR-MAPPROJECT-EXT4-V4.0"
DATA_SET_NAME = "MARS EXPRESS HRSC MAP PROJECTED REFDR EXTENSION4 V4.0"
DETECTOR_ID = MEX_HRSC_IR
EVENT_TYPE = "MARS-TERMINATOR-CALIBRATION-Tc"
INSTRUMENT_HOST_ID = MEX
INSTRUMENT_HOST_NAME = "MARS EXPRESS"
INSTRUMENT_ID = HRSC
INSTRUMENT_NAME = "HIGH RESOLUTION STEREO CAMERA"
MISSION_NAME = "MARS EXPRESS"
MISSION_PHASE_NAME = ME_Phase_30
PROCESSING_LEVEL_ID = 4
PRODUCT_CREATION_TIME = 2023-02-01T01:09:44.000Z
PRODUCT_ID = "HD263_0000_IR4.TIF"
RELEASE_ID = 0004
REVISION_ID = 0000
/* QUALITY DATA ELEMENTS */
DATA_QUALITY_ID = 1
DATA_QUALITY_DESC = "Data calculated based on original SPICE kernels"
/* TIME DATA ELEMENTS */
SPACECRAFT_CLOCK_START_COUNT = "1/0350608332.08234"
SPACECRAFT_CLOCK_STOP_COUNT = "1/0350608772.06001"
START_TIME = 2014-06-11T23:12:37.358Z
STOP_TIME = 2014-06-11T23:15:49.351Z
/* ORBITAL DATA ELEMENTS */
ASCENDING_NODE_LONGITUDE = 324.81
MAXIMUM_RESOLUTION = 0.8267
FOOTPRINT_POINT_LATITUDE = (-38.7015,-38.7313,-37.9065,-35.2576, -32.6156,-27.716,-25.7294,-21.4885, -18.8807,-17.0164,-13.7344,-11.4971, -8.5802,-6.4868,-3.63803,-0.39142, 2.20613,5.27197,7.9984,10.2533,13.4239, 15.929,18.653,23.0067,27.104,30.1364, 35.8337,39.3069,41.662,46.3324,49.9676, 54.6008,58.3969,60.8329,64.5926,68.6532 ,71.345,74.281,77.8817,80.5735,81.5634, 81.1775,79.3528,76.9292,75.8732,73.1934 ,69.1147,66.2201,63.1932,57.222,56.3227 ,54.2683,51.2186,47.8199,44.1875, 42.6602,39.0314,36.5591,37.0413,37.9181 ,38.3099,38.3425,38.1109,37.7098, 37.1152,35.4305,34.0745,31.9743,30.1691 ,28.6014,26.4814,22.9183,20.9271, 18.6479,16.4499,14.2313,10.9577,8.82052 ,6.18904,1.65746,-2.86655,-5.94743, -8.21067,-12.0233,-15.1868,-17.6862, -21.6146,-26.97,-30.5987,-36.0113, -39.8477,-42.699,-45.2039,-48.7794, -48.222,-45.6274,-46.2394,-42.6484, -40.741,-38.7015)
FOOTPRINT_POINT_LONGITUDE = (196.758,196.825,197.309,200.02,203.008 ,205.572,209.193,212.527,209.142, 206.495,202.347,199.813,196.784,194.763 ,192.198,189.476,187.436,185.154, 183.223,181.69,179.6,178.034,176.355, 173.764,171.393,169.666,166.435,164.432 ,163.065,160.264,157.95,154.739,151.78, 149.655,145.864,140.682,136.217,129.698 ,116.835,96.5627,74.9008,49.0895, 28.0948,17.4867,32.7123,34.9482,36.3695 ,45.285,43.7236,49.033,50.5883,51.3864, 53.2574,55.317,57.2437,60.3336,59.8232, 62.49,66.6061,72.4837,77.756,82.7745, 87.1433,90.8997,94.6642,101.777,105.933 ,111.063,114.696,117.453,120.749, 125.472,127.775,130.184,132.315,134.309 ,137.0,138.619,140.49,143.448,146.128, 147.832,149.034,150.967,152.496,153.664 ,155.44,157.778,159.338,161.64,163.306, 164.56,165.665,167.354,175.379,178.898, 182.907,187.615,191.418,196.758)
ORBIT_NUMBER = 13263
ORBITAL_ECCENTRICITY = 0.578
ORBITAL_INCLINATION = 86.89
ORBITAL_SEMIMAJOR_AXIS = 8826.21
PERIAPSIS_ALTITUDE = 333.08
PERIAPSIS_ARGUMENT_ANGLE = 212.27
PERIAPSIS_TIME = 2014-06-11T20:15:16.000Z
SPACECRAFT_ORIENTATION = (0.0,-1.0,0.0)
^MEX_ORIENTATION_DESC = "MEX_ORIENTATION_DESC.TXT"
SPACECRAFT_POINTING_MODE = INERT
^MEX_POINTING_DESC = "MEX_POINTING_DESC.TXT"
RIGHT_ASCENSION = 187.274
DECLINATION = -0.196
OFFSET_ANGLE = -1e+32
SPACECRAFT_SOLAR_DISTANCE = 2.32165e+08
TARGET_NAME = MARS
/* CAMERA DATA ELEMENTS */
DETECTOR_TEMPERATURE = 17.5549
FOCAL_PLANE_TEMPERATURE = 8.5833
INST_CMPRS_NAME = "DISCRETE COSINE TRANSFORMATION (DCT)"
INST_CMPRS_RATIO = 6.51424
INST_CMPRS_QUALITY = 0
INST_CMPRS_QUANTZ_TBL_ID = 0
INSTRUMENT_TEMPERATURE = 12.4574
LENS_TEMPERATURE = 8.9911
MACROPIXEL_SIZE = 2
MISSING_FRAMES = 0
PIXEL_SUBSAMPLING_FLAG = N
SIGNAL_CHAIN_ID = 1
/* RADIOMETRIC DATA ELEMENTS */
BANDWIDTH = 81.0
CENTER_FILTER_WAVELENGTH = 955.5
RADIANCE_OFFSET = 0.0
RADIANCE_SCALING_FACTOR = 0.0141318
REFLECTANCE_SCALING_FACTOR = 0.00164298
MEX:REFLECTANCE_OFFSET = 0.0
/* IMAGE OBJECT DEFINITIONS */
OBJECT = IMAGE
  INTERCHANGE_FORMAT = BINARY
  LINES = 9943
  LINE_SAMPLES = 9863
  SAMPLE_TYPE = UNSIGNED_INTEGER
  SAMPLE_BITS = 8
  BANDS = 1
  BAND_STORAGE_TYPE = BAND_SEQUENTIAL
  MAXIMUM = 255
  MEAN = 114.264
  MINIMUM = 1
  STANDARD_DEVIATION = 66.8737
END_OBJECT = IMAGE
/* MAP OBJECT DEFINITIONS */
OBJECT = IMAGE_MAP_PROJECTION
  ^DATA_SET_MAP_PROJECTION_CATALOG= "DSMAP.CAT"
  A_AXIS_RADIUS = 3396.0
  B_AXIS_RADIUS = 3396.0
  C_AXIS_RADIUS = 3396.0
  CENTER_LATITUDE = 0.0
  CENTER_LONGITUDE = 151.0
  COORDINATE_SYSTEM_NAME = PLANETOGRAPHIC
  COORDINATE_SYSTEM_TYPE = "BODY-FIXED ROTATING"
  EASTERNMOST_LONGITUDE = 212.527
  FIRST_STANDARD_PARALLEL = "N/A"
  LINE_FIRST_PIXEL = 1
  LINE_LAST_PIXEL = 9943
  LINE_PROJECTION_OFFSET = 6214.0
  MAP_PROJECTION_ROTATION = 0.0
  MAP_PROJECTION_TYPE = SINUSOIDAL
  MAP_RESOLUTION = 74.08922548333329
  MAP_SCALE = 0.8
  MAXIMUM_LATITUDE = 81.5634
  MINIMUM_LATITUDE = -48.7794
  POSITIVE_LONGITUDE_DIRECTION = EAST
  REFERENCE_LATITUDE = "N/A"
  REFERENCE_LONGITUDE = "N/A"
  SAMPLE_FIRST_PIXEL = 1
  SAMPLE_LAST_PIXEL = 9863
  SAMPLE_PROJECTION_OFFSET = 5480.0
  SECOND_STANDARD_PARALLEL = "N/A"
  WESTERNMOST_LONGITUDE = 17.4867
END_OBJECT = IMAGE_MAP_PROJECTION
END
