PDS_VERSION_ID = PDS3
/* FILE DATA ELEMENTS */
RECORD_TYPE = UNDEFINED
/* POINTERS TO DATA OBJECTS */
^IMAGE = ("HD223_0000_BL4.TIF")
/* IDENTIFICATION DATA ELEMENTS */
DATA_SET_ID = "MEX-M-HRSC-4-REFDR-MAPPROJECT-EXT4-V4.0"
DATA_SET_NAME = "MARS EXPRESS HRSC MAP PROJECTED REFDR EXTENSION4 V4.0"
DETECTOR_ID = MEX_HRSC_BLUE
EVENT_TYPE = "MARS-CLOUD-VARIABLE-At"
INSTRUMENT_HOST_ID = MEX
INSTRUMENT_HOST_NAME = "MARS EXPRESS"
INSTRUMENT_ID = HRSC
INSTRUMENT_NAME = "HIGH RESOLUTION STEREO CAMERA"
MISSION_NAME = "MARS EXPRESS"
MISSION_PHASE_NAME = ME_Phase_30
PROCESSING_LEVEL_ID = 4
PRODUCT_CREATION_TIME = 2023-02-01T01:09:44.000Z
PRODUCT_ID = "HD223_0000_BL4.TIF"
RELEASE_ID = 0004
REVISION_ID = 0000
/* QUALITY DATA ELEMENTS */
DATA_QUALITY_ID = 1
DATA_QUALITY_DESC = "Data calculated based on original SPICE kernels"
/* TIME DATA ELEMENTS */
SPACECRAFT_CLOCK_START_COUNT = "1/0349594797.07330"
SPACECRAFT_CLOCK_STOP_COUNT = "1/0349596464.36533"
START_TIME = 2014-05-31T05:55:55.845Z
STOP_TIME = 2014-05-31T06:17:42.471Z
/* ORBITAL DATA ELEMENTS */
ASCENDING_NODE_LONGITUDE = 325.56
MAXIMUM_RESOLUTION = 0.469
FOOTPRINT_POINT_LATITUDE = (-27.7521,-27.4833,-27.2151,-26.9474, -26.6799,-26.4126,-26.1452,-25.8778, -25.6104,-25.3427,-24.8066,-24.2689, -23.7295,-23.1873,-22.6411,-22.09, -21.8119,-21.5323,-21.2516,-20.8277, -20.7567,-20.7396,-18.905,-17.4549, -15.9937,-14.9034,-13.4488,-12.002, -9.82943,-7.66165,-6.21799,-4.04743, -2.59795,-0.784119,0.308079,1.7713, 3.23991,4.71636,6.57576,8.06996,9.57582 ,11.0947,12.6282,14.1735,15.7347, 16.1283,16.1307,15.5238,15.1268,14.7351 ,14.3496,13.9704,13.5014,13.1341,12.78, 12.4236,12.0744,11.7289,11.3868,11.0471 ,10.7121,10.3798,10.0544,9.64239, 9.31881,8.99769,8.67905,8.36307,8.04872 ,7.73633,7.27095,7.19394,7.16573, 5.42396,4.03657,2.99657,1.6147,0.236852 ,-1.13809,-2.51067,-4.57,-5.59918, -6.63383,-8.00172,-9.7226,-10.7732, -12.5014,-13.8714,-15.2617,-16.6583, -18.062,-19.119,-20.5342,-21.9595, -23.3932,-24.8366,-26.2905,-27.3891, -27.7556,-27.7521)
FOOTPRINT_POINT_LONGITUDE = (292.59,293.491,294.382,295.262,296.133 ,296.995,297.851,298.699,299.541, 300.376,302.032,303.671,305.296,306.911 ,308.521,310.13,310.937,311.745,312.553 ,313.769,313.973,314.048,313.897, 313.814,313.706,313.639,313.543,313.479 ,313.36,313.309,313.244,313.215,313.206 ,313.203,313.214,313.246,313.289, 313.348,313.447,313.539,313.651,313.784 ,313.94,314.116,314.316,314.372,314.372 ,312.654,311.532,310.429,309.345, 308.281,306.972,305.944,304.934,303.932 ,302.943,301.963,300.991,300.026, 299.068,298.116,297.169,295.991,295.053 ,294.117,293.184,292.252,291.321, 290.388,288.987,288.753,288.669,288.957 ,289.18,289.347,289.563,289.773,289.975 ,290.167,290.454,290.594,290.703, 290.905,291.111,291.2,291.398,291.571, 291.712,291.846,291.971,292.06,292.172, 292.274,292.367,292.451,292.524,292.571 ,292.586,292.59)
ORBIT_NUMBER = 13223
ORBITAL_ECCENTRICITY = 0.578
ORBITAL_INCLINATION = 86.89
ORBITAL_SEMIMAJOR_AXIS = 8814.7
PERIAPSIS_ALTITUDE = 331.4
PERIAPSIS_ARGUMENT_ANGLE = 219.14
PERIAPSIS_TIME = 2014-05-31T04:45:21.000Z
SPACECRAFT_ORIENTATION = (0.0,-1.0,0.0)
^MEX_ORIENTATION_DESC = "MEX_ORIENTATION_DESC.TXT"
SPACECRAFT_POINTING_MODE = INERT
^MEX_POINTING_DESC = "MEX_POINTING_DESC.TXT"
RIGHT_ASCENSION = 0.656
DECLINATION = 14.797
OFFSET_ANGLE = -1e+32
SPACECRAFT_SOLAR_DISTANCE = 2.34313e+08
TARGET_NAME = MARS
/* CAMERA DATA ELEMENTS */
DETECTOR_TEMPERATURE = 18.1666
FOCAL_PLANE_TEMPERATURE = 8.5833
INST_CMPRS_NAME = "DISCRETE COSINE TRANSFORMATION (DCT)"
INST_CMPRS_RATIO = 9.28061
INST_CMPRS_QUALITY = 0
INST_CMPRS_QUANTZ_TBL_ID = 0
INSTRUMENT_TEMPERATURE = 11.6418
LENS_TEMPERATURE = 8.5833
MACROPIXEL_SIZE = 2
MISSING_FRAMES = 0
PIXEL_SUBSAMPLING_FLAG = N
SIGNAL_CHAIN_ID = 2
/* RADIOMETRIC DATA ELEMENTS */
BANDWIDTH = 76.0
CENTER_FILTER_WAVELENGTH = 444.0
RADIANCE_OFFSET = 0.367513
RADIANCE_SCALING_FACTOR = 0.00523112
REFLECTANCE_SCALING_FACTOR = 0.000295064
MEX:REFLECTANCE_OFFSET = 0.0207298
/* IMAGE OBJECT DEFINITIONS */
OBJECT = IMAGE
  INTERCHANGE_FORMAT = BINARY
  LINES = 6505
  LINE_SAMPLES = 3722
  SAMPLE_TYPE = UNSIGNED_INTEGER
  SAMPLE_BITS = 8
  BANDS = 1
  BAND_STORAGE_TYPE = BAND_SEQUENTIAL
  MAXIMUM = 255
  MEAN = 114.405
  MINIMUM = 1
  STANDARD_DEVIATION = 42.5337
END_OBJECT = IMAGE
/* MAP OBJECT DEFINITIONS */
OBJECT = IMAGE_MAP_PROJECTION
  ^DATA_SET_MAP_PROJECTION_CATALOG= "DSMAP.CAT"
  A_AXIS_RADIUS = 3396.0
  B_AXIS_RADIUS = 3396.0
  C_AXIS_RADIUS = 3396.0
  CENTER_LATITUDE = 0.0
  CENTER_LONGITUDE = 302.0
  COORDINATE_SYSTEM_NAME = PLANETOGRAPHIC
  COORDINATE_SYSTEM_TYPE = "BODY-FIXED ROTATING"
  EASTERNMOST_LONGITUDE = 314.372
  FIRST_STANDARD_PARALLEL = "N/A"
  LINE_FIRST_PIXEL = 1
  LINE_LAST_PIXEL = 6505
  LINE_PROJECTION_OFFSET = 2390.0
  MAP_PROJECTION_ROTATION = 0.0
  MAP_PROJECTION_TYPE = SINUSOIDAL
  MAP_RESOLUTION = 148.178450966667
  MAP_SCALE = 0.4
  MAXIMUM_LATITUDE = 16.1307
  MINIMUM_LATITUDE = -27.7556
  POSITIVE_LONGITUDE_DIRECTION = EAST
  REFERENCE_LATITUDE = "N/A"
  REFERENCE_LONGITUDE = "N/A"
  SAMPLE_FIRST_PIXEL = 1
  SAMPLE_LAST_PIXEL = 3722
  SAMPLE_PROJECTION_OFFSET = 1959.0
  SECOND_STANDARD_PARALLEL = "N/A"
  WESTERNMOST_LONGITUDE = 288.669
END_OBJECT = IMAGE_MAP_PROJECTION
END
