PDS_VERSION_ID = PDS3
/* FILE DATA ELEMENTS */
RECORD_TYPE = UNDEFINED
/* POINTERS TO DATA OBJECTS */
^IMAGE = ("HD185_0000_BL4.TIF")
/* IDENTIFICATION DATA ELEMENTS */
DATA_SET_ID = "MEX-M-HRSC-4-REFDR-MAPPROJECT-EXT4-V4.0"
DATA_SET_NAME = "MARS EXPRESS HRSC MAP PROJECTED REFDR EXTENSION4 V4.0"
DETECTOR_ID = MEX_HRSC_BLUE
EVENT_TYPE = "MARS-TERMINATOR-CALIBRATION-Tc"
INSTRUMENT_HOST_ID = MEX
INSTRUMENT_HOST_NAME = "MARS EXPRESS"
INSTRUMENT_ID = HRSC
INSTRUMENT_NAME = "HIGH RESOLUTION STEREO CAMERA"
MISSION_NAME = "MARS EXPRESS"
MISSION_PHASE_NAME = ME_Phase_30
PROCESSING_LEVEL_ID = 4
PRODUCT_CREATION_TIME = 2023-02-01T01:09:44.000Z
PRODUCT_ID = "HD185_0000_BL4.TIF"
RELEASE_ID = 0004
REVISION_ID = 0000
/* QUALITY DATA ELEMENTS */
DATA_QUALITY_ID = 1
DATA_QUALITY_DESC = "Data calculated based on original SPICE kernels"
/* TIME DATA ELEMENTS */
SPACECRAFT_CLOCK_START_COUNT = "1/0348630110.09053"
SPACECRAFT_CLOCK_STOP_COUNT = "1/0348630602.07320"
START_TIME = 2014-05-20T01:44:14.385Z
STOP_TIME = 2014-05-20T01:48:25.277Z
/* ORBITAL DATA ELEMENTS */
ASCENDING_NODE_LONGITUDE = 326.29
MAXIMUM_RESOLUTION = 2.2041
FOOTPRINT_POINT_LATITUDE = (15.6265,15.5065,15.6069,17.8223, 15.3932,18.2075,15.6524,17.9655,16.9116 ,21.3337,24.1101,28.5981,33.7943, 38.0738,41.8096,47.1967,50.463,53.0188, 56.7166,59.8012,62.112,65.4921,69.198, 71.881,73.2446,74.519,74.6927,74.0739, 73.1035,71.284,69.1112,66.7514,64.7879, 60.5011,56.5706,53.6497,49.8739,44.3168 ,40.5771,38.1712,33.305,28.9045,25.1116 ,21.7981,23.8387,21.6117,22.9633, 22.2642,22.5798,22.1611,22.7233,21.8362 ,24.6516,25.2396,24.7528,22.0645,27.095 ,30.911,35.4154,39.6343,42.959,45.7766, 48.2576,53.1612,56.7716,61.9383,66.6424 ,70.4945,72.9698,76.81,79.547,80.8551, 79.7979,78.4423,75.9324,73.3621,69.2928 ,66.0021,63.6203,61.0043,57.927,54.764, 49.307,44.0467,39.5915,36.4171,32.5678, 27.4424,23.3776,19.5851,19.4448,17.5429 ,19.7815,17.3799,19.1216,17.4982, 16.5867,16.7347,15.6265)
FOOTPRINT_POINT_LONGITUDE = (267.859,267.907,268.408,272.159, 274.463,277.647,279.975,281.315,284.926 ,285.178,285.41,285.909,286.701,287.576 ,288.563,290.433,291.912,293.311, 295.848,298.576,301.142,306.094,314.319 ,324.152,332.212,347.177,356.669,11.176 ,19.9089,29.6194,37.0257,42.6419, 46.1888,51.8064,55.377,57.411,59.4938, 61.7681,62.9195,63.5394,64.5486,65.2456 ,65.6941,67.8167,69.5224,72.1811, 75.7737,79.4917,81.304,85.7243,89.9928, 94.9933,94.8558,97.9681,101.158,101.905 ,101.738,101.706,101.803,102.037, 102.338,102.691,103.089,104.178,105.323 ,107.72,111.157,115.574,119.767,130.629 ,147.265,177.079,201.51,212.586,223.937 ,230.789,237.4,240.801,242.626,244.208, 245.653,246.791,248.172,249.049,249.496 ,249.676,249.792,249.804,249.695, 249.508,250.13,251.888,253.271,254.362, 256.321,258.679,262.893,264.724, 267.859)
ORBIT_NUMBER = 13185
ORBITAL_ECCENTRICITY = 0.578
ORBITAL_INCLINATION = 86.91
ORBITAL_SEMIMAJOR_AXIS = 8803.85
PERIAPSIS_ALTITUDE = 329.39
PERIAPSIS_ARGUMENT_ANGLE = 225.62
PERIAPSIS_TIME = 2014-05-20T03:13:55.000Z
SPACECRAFT_ORIENTATION = (0.0,-1.0,0.0)
^MEX_ORIENTATION_DESC = "MEX_ORIENTATION_DESC.TXT"
SPACECRAFT_POINTING_MODE = INERT
^MEX_POINTING_DESC = "MEX_POINTING_DESC.TXT"
RIGHT_ASCENSION = 146.494
DECLINATION = -52.658
OFFSET_ANGLE = -1e+32
SPACECRAFT_SOLAR_DISTANCE = 2.36273e+08
TARGET_NAME = MARS
/* CAMERA DATA ELEMENTS */
DETECTOR_TEMPERATURE = 18.3705
FOCAL_PLANE_TEMPERATURE = 8.7872
INST_CMPRS_NAME = "DISCRETE COSINE TRANSFORMATION (DCT)"
INST_CMPRS_RATIO = 16.2768
INST_CMPRS_QUALITY = 0
INST_CMPRS_QUANTZ_TBL_ID = 0
INSTRUMENT_TEMPERATURE = 11.4379
LENS_TEMPERATURE = 8.9911
MACROPIXEL_SIZE = 8
MISSING_FRAMES = 0
PIXEL_SUBSAMPLING_FLAG = N
SIGNAL_CHAIN_ID = 2
/* RADIOMETRIC DATA ELEMENTS */
BANDWIDTH = 76.0
CENTER_FILTER_WAVELENGTH = 444.0
RADIANCE_OFFSET = 0.0
RADIANCE_SCALING_FACTOR = 0.0134089
REFLECTANCE_SCALING_FACTOR = 0.000769162
MEX:REFLECTANCE_OFFSET = 0.0
/* IMAGE OBJECT DEFINITIONS */
OBJECT = IMAGE
  INTERCHANGE_FORMAT = BINARY
  LINES = 2134
  LINE_SAMPLES = 5669
  SAMPLE_TYPE = UNSIGNED_INTEGER
  SAMPLE_BITS = 8
  BANDS = 1
  BAND_STORAGE_TYPE = BAND_SEQUENTIAL
  MAXIMUM = 255
  MEAN = 57.9182
  MINIMUM = 1
  STANDARD_DEVIATION = 57.6019
END_OBJECT = IMAGE
/* MAP OBJECT DEFINITIONS */
OBJECT = IMAGE_MAP_PROJECTION
  ^DATA_SET_MAP_PROJECTION_CATALOG= "DSMAP.CAT"
  A_AXIS_RADIUS = 3396.0
  B_AXIS_RADIUS = 3396.0
  C_AXIS_RADIUS = 3396.0
  CENTER_LATITUDE = 90.0
  CENTER_LONGITUDE = 0.0
  COORDINATE_SYSTEM_NAME = PLANETOGRAPHIC
  COORDINATE_SYSTEM_TYPE = "BODY-FIXED ROTATING"
  EASTERNMOST_LONGITUDE = 360.0
  FIRST_STANDARD_PARALLEL = "N/A"
  LINE_FIRST_PIXEL = 1
  LINE_LAST_PIXEL = 2134
  LINE_PROJECTION_OFFSET = 1004.75
  MAP_PROJECTION_ROTATION = 0.0
  MAP_PROJECTION_TYPE = STEREOGRAPHIC
  MAP_RESOLUTION = 37.0446127416667
  MAP_SCALE = 1.6
  MAXIMUM_LATITUDE = 90.0
  MINIMUM_LATITUDE = 15.3932
  POSITIVE_LONGITUDE_DIRECTION = EAST
  REFERENCE_LATITUDE = "N/A"
  REFERENCE_LONGITUDE = "N/A"
  SAMPLE_FIRST_PIXEL = 1
  SAMPLE_LAST_PIXEL = 5669
  SAMPLE_PROJECTION_OFFSET = 2977.25
  SECOND_STANDARD_PARALLEL = "N/A"
  WESTERNMOST_LONGITUDE = 0.0
END_OBJECT = IMAGE_MAP_PROJECTION
END
