PDS_VERSION_ID = PDS3
/* FILE DATA ELEMENTS */
RECORD_TYPE = UNDEFINED
/* POINTERS TO DATA OBJECTS */
^IMAGE = ("HD164_0000_IR4.TIF")
/* IDENTIFICATION DATA ELEMENTS */
DATA_SET_ID = "MEX-M-HRSC-4-REFDR-MAPPROJECT-EXT4-V4.0"
DATA_SET_NAME = "MARS EXPRESS HRSC MAP PROJECTED REFDR EXTENSION4 V4.0"
DETECTOR_ID = MEX_HRSC_IR
EVENT_TYPE = "MARS-CLOUD-VARIABLE-At"
INSTRUMENT_HOST_ID = MEX
INSTRUMENT_HOST_NAME = "MARS EXPRESS"
INSTRUMENT_ID = HRSC
INSTRUMENT_NAME = "HIGH RESOLUTION STEREO CAMERA"
MISSION_NAME = "MARS EXPRESS"
MISSION_PHASE_NAME = ME_Phase_30
PROCESSING_LEVEL_ID = 4
PRODUCT_CREATION_TIME = 2023-02-01T01:09:44.000Z
PRODUCT_ID = "HD164_0000_IR4.TIF"
RELEASE_ID = 0004
REVISION_ID = 0000
/* QUALITY DATA ELEMENTS */
DATA_QUALITY_ID = 1
DATA_QUALITY_DESC = "Data calculated based on original SPICE kernels"
/* TIME DATA ELEMENTS */
SPACECRAFT_CLOCK_START_COUNT = "1/0348108612.08244"
SPACECRAFT_CLOCK_STOP_COUNT = "1/0348109855.33883"
START_TIME = 2014-05-14T00:50:17.254Z
STOP_TIME = 2014-05-14T01:00:30.256Z
/* ORBITAL DATA ELEMENTS */
ASCENDING_NODE_LONGITUDE = 326.68
MAXIMUM_RESOLUTION = 0.1183
FOOTPRINT_POINT_LATITUDE = (-56.8155,-56.956,-57.03,-57.0844, -57.1189,-57.1338,-57.1298,-57.1289, -57.0445,-56.4723,-55.9131,-55.3448, -54.7818,-54.2197,-53.6607,-53.1069, -52.5548,-52.0059,-51.4608,-50.9181, -50.3786,-49.8416,-49.307,-48.7766, -48.2495,-47.7256,-46.94,-46.4191, -45.6458,-45.1346,-44.6263,-43.8679, -43.1156,-42.6173,-41.8721,-41.1336, -40.6446,-39.6724,-38.712,-37.5265, -36.3484,-35.4209,-34.5022,-33.5927, -32.6956,-32.0239,-31.8003,-31.7978, -31.8638,-31.9445,-32.0006,-32.0369, -32.0621,-32.0834,-32.0923,-32.0927, -32.0889,-32.0844,-32.0684,-32.0456, -32.0181,-32.0139,-32.0134,-32.8772, -33.7506,-34.634,-35.5262,-36.4285, -37.3405,-38.2688,-39.1986,-40.1464, -41.3403,-42.303,-42.788,-43.2783, -44.0097,-44.5061,-45.0059,-45.525, -46.0318,-46.7945,-47.5618,-48.3356, -48.8531,-49.3741,-49.9003,-50.4294, -50.9573,-51.4968,-52.0334,-52.5751, -53.1223,-53.9416,-54.4891,-55.3295, -55.8887,-56.4536,-56.7358,-56.8155)
FOOTPRINT_POINT_LONGITUDE = (212.865,214.861,216.255,217.652, 219.053,220.459,221.782,221.871,221.954 ,221.983,222.003,222.029,222.052, 222.073,222.093,222.109,222.124,222.138 ,222.149,222.159,222.168,222.175, 222.182,222.186,222.189,222.19,222.193, 222.193,222.191,222.188,222.183,222.175 ,222.165,222.158,222.146,222.132, 222.121,222.099,222.073,222.037,221.999 ,221.965,221.928,221.89,221.848,221.817 ,221.806,221.806,221.044,219.897, 218.943,218.181,217.514,216.847,215.892 ,215.223,214.553,213.98,213.404,212.73, 212.055,211.959,211.924,212.038,212.148 ,212.253,212.354,212.451,212.543, 212.632,212.712,212.79,212.877,212.938, 212.966,212.993,213.026,213.048,213.069 ,213.094,213.111,213.131,213.146, 213.154,213.156,213.156,213.154,213.148 ,213.139,213.129,213.114,213.096, 213.075,213.035,213.001,212.949,212.906 ,212.859,212.834,212.865)
ORBIT_NUMBER = 13164
ORBITAL_ECCENTRICITY = 0.578
ORBITAL_INCLINATION = 86.9
ORBITAL_SEMIMAJOR_AXIS = 8797.91
PERIAPSIS_ALTITUDE = 328.77
PERIAPSIS_ARGUMENT_ANGLE = 229.22
PERIAPSIS_TIME = 2014-05-14T00:30:00.000Z
SPACECRAFT_ORIENTATION = (0.0,-1.0,0.0)
^MEX_ORIENTATION_DESC = "MEX_ORIENTATION_DESC.TXT"
SPACECRAFT_POINTING_MODE = NADIR
^MEX_POINTING_DESC = "MEX_POINTING_DESC.TXT"
RIGHT_ASCENSION = -1e+32
DECLINATION = -1e+32
OFFSET_ANGLE = -1e+32
SPACECRAFT_SOLAR_DISTANCE = 2.37316e+08
TARGET_NAME = MARS
/* CAMERA DATA ELEMENTS */
DETECTOR_TEMPERATURE = 17.7588
FOCAL_PLANE_TEMPERATURE = 8.3794
INST_CMPRS_NAME = "DISCRETE COSINE TRANSFORMATION (DCT)"
INST_CMPRS_RATIO = 8.81477
INST_CMPRS_QUALITY = 0
INST_CMPRS_QUANTZ_TBL_ID = 0
INSTRUMENT_TEMPERATURE = 11.8457
LENS_TEMPERATURE = 8.7872
MACROPIXEL_SIZE = 2
MISSING_FRAMES = 0
PIXEL_SUBSAMPLING_FLAG = N
SIGNAL_CHAIN_ID = 1
/* RADIOMETRIC DATA ELEMENTS */
BANDWIDTH = 81.0
CENTER_FILTER_WAVELENGTH = 955.5
RADIANCE_OFFSET = 0.0814232
RADIANCE_SCALING_FACTOR = 0.005987
REFLECTANCE_SCALING_FACTOR = 0.000727418
MEX:REFLECTANCE_OFFSET = 0.00989288
/* IMAGE OBJECT DEFINITIONS */
OBJECT = IMAGE
  INTERCHANGE_FORMAT = BINARY
  LINES = 15235
  LINE_SAMPLES = 6839
  SAMPLE_TYPE = UNSIGNED_INTEGER
  SAMPLE_BITS = 8
  BANDS = 1
  BAND_STORAGE_TYPE = BAND_SEQUENTIAL
  MAXIMUM = 255
  MEAN = 85.133
  MINIMUM = 1
  STANDARD_DEVIATION = 28.5986
END_OBJECT = IMAGE
/* MAP OBJECT DEFINITIONS */
OBJECT = IMAGE_MAP_PROJECTION
  ^DATA_SET_MAP_PROJECTION_CATALOG= "DSMAP.CAT"
  A_AXIS_RADIUS = 3396.0
  B_AXIS_RADIUS = 3396.0
  C_AXIS_RADIUS = 3396.0
  CENTER_LATITUDE = 0.0
  CENTER_LONGITUDE = 217.0
  COORDINATE_SYSTEM_NAME = PLANETOGRAPHIC
  COORDINATE_SYSTEM_TYPE = "BODY-FIXED ROTATING"
  EASTERNMOST_LONGITUDE = 222.193
  FIRST_STANDARD_PARALLEL = "N/A"
  LINE_FIRST_PIXEL = 1
  LINE_LAST_PIXEL = 15235
  LINE_PROJECTION_OFFSET = -18547.0
  MAP_PROJECTION_ROTATION = 0.0
  MAP_PROJECTION_TYPE = SINUSOIDAL
  MAP_RESOLUTION = 592.713803866667
  MAP_SCALE = 0.1
  MAXIMUM_LATITUDE = -31.7978
  MINIMUM_LATITUDE = -57.1338
  POSITIVE_LONGITUDE_DIRECTION = EAST
  REFERENCE_LATITUDE = "N/A"
  REFERENCE_LONGITUDE = "N/A"
  SAMPLE_FIRST_PIXEL = 1
  SAMPLE_LAST_PIXEL = 6839
  SAMPLE_PROJECTION_OFFSET = 3690.0
  SECOND_STANDARD_PARALLEL = "N/A"
  WESTERNMOST_LONGITUDE = 211.924
END_OBJECT = IMAGE_MAP_PROJECTION
END
