PDS_VERSION_ID = PDS3
/* FILE DATA ELEMENTS */
RECORD_TYPE = UNDEFINED
/* POINTERS TO DATA OBJECTS */
^IMAGE = ("HD128_0000_BL4.TIF")
/* IDENTIFICATION DATA ELEMENTS */
DATA_SET_ID = "MEX-M-HRSC-4-REFDR-MAPPROJECT-EXT4-V4.0"
DATA_SET_NAME = "MARS EXPRESS HRSC MAP PROJECTED REFDR EXTENSION4 V4.0"
DETECTOR_ID = MEX_HRSC_BLUE
EVENT_TYPE = "MARS-CLOUD-VARIABLE-At"
INSTRUMENT_HOST_ID = MEX
INSTRUMENT_HOST_NAME = "MARS EXPRESS"
INSTRUMENT_ID = HRSC
INSTRUMENT_NAME = "HIGH RESOLUTION STEREO CAMERA"
MISSION_NAME = "MARS EXPRESS"
MISSION_PHASE_NAME = ME_Phase_30
PROCESSING_LEVEL_ID = 4
PRODUCT_CREATION_TIME = 2023-02-01T01:09:44.000Z
PRODUCT_ID = "HD128_0000_BL4.TIF"
RELEASE_ID = 0004
REVISION_ID = 0000
/* QUALITY DATA ELEMENTS */
DATA_QUALITY_ID = 1
DATA_QUALITY_DESC = "Data calculated based on original SPICE kernels"
/* TIME DATA ELEMENTS */
SPACECRAFT_CLOCK_START_COUNT = "1/0347204314.09062"
SPACECRAFT_CLOCK_STOP_COUNT = "1/0347205626.44772"
START_TIME = 2014-05-03T13:48:59.215Z
STOP_TIME = 2014-05-03T14:07:05.398Z
/* ORBITAL DATA ELEMENTS */
ASCENDING_NODE_LONGITUDE = 327.35
MAXIMUM_RESOLUTION = 0.352
FOOTPRINT_POINT_LATITUDE = (-22.5931,-22.4126,-22.125,-21.8384, -21.5524,-21.2667,-20.9813,-20.6957, -20.4102,-20.124,-19.8368,-19.548, -19.2569,-18.9281,-18.8914,-18.8716, -16.744,-15.3351,-14.3003,-13.2368, -12.5216,-11.1219,-9.72622,-8.33323, -6.9421,-5.55209,-4.16285,-2.77349, -1.03518,0.00911918,1.75061,3.14834, 4.19993,5.60503,7.01555,8.43066,9.85344 ,10.566,11.2825,12.0007,12.7204,13.4423 ,14.1677,14.8953,15.9921,16.3602, 16.3845,16.1225,15.9138,15.7082,15.5039 ,15.3018,15.1022,14.9038,14.7079, 14.5128,14.3191,14.1267,13.9362,13.7463 ,13.5577,13.3697,13.1829,12.9975, 12.8126,12.6287,12.4457,12.1761,11.9943 ,11.8129,11.4963,11.4512,11.4345, 10.4088,9.04607,7.68872,6.33484,4.64338 ,3.29687,1.95208,0.610085,-1.06589, -2.40652,-3.74732,-5.09697,-6.43601, -7.44321,-8.80621,-9.82092,-11.1724, -12.1784,-13.5422,-14.9122,-16.2866, -17.6698,-19.0596,-20.4566,-22.2167, -22.5705,-22.5931)
FOOTPRINT_POINT_LONGITUDE = (285.844,286.66,287.951,289.225,290.487 ,291.738,292.98,294.215,295.444,296.669 ,297.893,299.119,300.349,301.735,301.89 ,301.93,301.85,301.807,301.811,301.768, 301.724,301.693,301.669,301.652,301.642 ,301.638,301.65,301.654,301.683,301.707 ,301.75,301.8,301.846,301.914,301.993, 302.082,302.185,302.24,302.301,302.364, 302.431,302.502,302.578,302.657,302.786 ,302.832,302.835,301.731,300.853, 299.987,299.129,298.282,297.443,296.613 ,295.79,294.974,294.164,293.359,292.559 ,291.763,290.97,290.181,289.395,288.611 ,287.83,287.05,286.271,285.103,284.326, 283.548,282.184,281.989,281.919,282.085 ,282.301,282.511,282.716,282.973, 283.167,283.359,283.543,283.759,283.938 ,284.106,284.245,284.418,284.538, 284.663,284.771,284.917,285.033,285.161 ,285.283,285.4,285.51,285.614,285.711, 285.822,285.843,285.844)
ORBIT_NUMBER = 13128
ORBITAL_ECCENTRICITY = 0.578
ORBITAL_INCLINATION = 86.89
ORBITAL_SEMIMAJOR_AXIS = 8788.39
PERIAPSIS_ALTITUDE = 329.25
PERIAPSIS_ARGUMENT_ANGLE = 235.32
PERIAPSIS_TIME = 2014-05-03T12:56:38.000Z
SPACECRAFT_ORIENTATION = (0.0,-1.0,0.0)
^MEX_ORIENTATION_DESC = "MEX_ORIENTATION_DESC.TXT"
SPACECRAFT_POINTING_MODE = INERT
^MEX_POINTING_DESC = "MEX_POINTING_DESC.TXT"
RIGHT_ASCENSION = 353.0
DECLINATION = 29.501
OFFSET_ANGLE = -1e+32
SPACECRAFT_SOLAR_DISTANCE = 2.3903e+08
TARGET_NAME = MARS
/* CAMERA DATA ELEMENTS */
DETECTOR_TEMPERATURE = 17.9627
FOCAL_PLANE_TEMPERATURE = 8.1755
INST_CMPRS_NAME = "DISCRETE COSINE TRANSFORMATION (DCT)"
INST_CMPRS_RATIO = 15.5911
INST_CMPRS_QUALITY = 0
INST_CMPRS_QUANTZ_TBL_ID = 0
INSTRUMENT_TEMPERATURE = 10.8262
LENS_TEMPERATURE = 8.5833
MACROPIXEL_SIZE = 2
MISSING_FRAMES = 0
PIXEL_SUBSAMPLING_FLAG = N
SIGNAL_CHAIN_ID = 2
/* RADIOMETRIC DATA ELEMENTS */
BANDWIDTH = 76.0
CENTER_FILTER_WAVELENGTH = 444.0
RADIANCE_OFFSET = 0.640302
RADIANCE_SCALING_FACTOR = 0.00453909
REFLECTANCE_SCALING_FACTOR = 0.000266448
MEX:REFLECTANCE_OFFSET = 0.0375861
/* IMAGE OBJECT DEFINITIONS */
OBJECT = IMAGE
  INTERCHANGE_FORMAT = BINARY
  LINES = 5776
  LINE_SAMPLES = 3009
  SAMPLE_TYPE = UNSIGNED_INTEGER
  SAMPLE_BITS = 8
  BANDS = 1
  BAND_STORAGE_TYPE = BAND_SEQUENTIAL
  MAXIMUM = 255
  MEAN = 125.255
  MINIMUM = 1
  STANDARD_DEVIATION = 44.7755
END_OBJECT = IMAGE
/* MAP OBJECT DEFINITIONS */
OBJECT = IMAGE_MAP_PROJECTION
  ^DATA_SET_MAP_PROJECTION_CATALOG= "DSMAP.CAT"
  A_AXIS_RADIUS = 3396.0
  B_AXIS_RADIUS = 3396.0
  C_AXIS_RADIUS = 3396.0
  CENTER_LATITUDE = 0.0
  CENTER_LONGITUDE = 293.0
  COORDINATE_SYSTEM_NAME = PLANETOGRAPHIC
  COORDINATE_SYSTEM_TYPE = "BODY-FIXED ROTATING"
  EASTERNMOST_LONGITUDE = 302.835
  FIRST_STANDARD_PARALLEL = "N/A"
  LINE_FIRST_PIXEL = 1
  LINE_LAST_PIXEL = 5776
  LINE_PROJECTION_OFFSET = 2427.0
  MAP_PROJECTION_ROTATION = 0.0
  MAP_PROJECTION_TYPE = SINUSOIDAL
  MAP_RESOLUTION = 148.178450966667
  MAP_SCALE = 0.4
  MAXIMUM_LATITUDE = 16.3845
  MINIMUM_LATITUDE = -22.5931
  POSITIVE_LONGITUDE_DIRECTION = EAST
  REFERENCE_LATITUDE = "N/A"
  REFERENCE_LONGITUDE = "N/A"
  SAMPLE_FIRST_PIXEL = 1
  SAMPLE_LAST_PIXEL = 3009
  SAMPLE_PROJECTION_OFFSET = 1609.0
  SECOND_STANDARD_PARALLEL = "N/A"
  WESTERNMOST_LONGITUDE = 281.919
END_OBJECT = IMAGE_MAP_PROJECTION
END
