PDS_VERSION_ID = PDS3
/* FILE DATA ELEMENTS */
RECORD_TYPE = UNDEFINED
/* POINTERS TO DATA OBJECTS */
^IMAGE = ("HD125_0000_GR4.TIF")
/* IDENTIFICATION DATA ELEMENTS */
DATA_SET_ID = "MEX-M-HRSC-4-REFDR-MAPPROJECT-EXT4-V4.0"
DATA_SET_NAME = "MARS EXPRESS HRSC MAP PROJECTED REFDR EXTENSION4 V4.0"
DETECTOR_ID = MEX_HRSC_GREEN
EVENT_TYPE = "MARS-TERMINATOR-CALIBRATION-Tc"
INSTRUMENT_HOST_ID = MEX
INSTRUMENT_HOST_NAME = "MARS EXPRESS"
INSTRUMENT_ID = HRSC
INSTRUMENT_NAME = "HIGH RESOLUTION STEREO CAMERA"
MISSION_NAME = "MARS EXPRESS"
MISSION_PHASE_NAME = ME_Phase_30
PROCESSING_LEVEL_ID = 4
PRODUCT_CREATION_TIME = 2023-02-01T01:09:44.000Z
PRODUCT_ID = "HD125_0000_GR4.TIF"
RELEASE_ID = 0004
REVISION_ID = 0000
/* QUALITY DATA ELEMENTS */
DATA_QUALITY_ID = 1
DATA_QUALITY_DESC = "Data calculated based on original SPICE kernels"
/* TIME DATA ELEMENTS */
SPACECRAFT_CLOCK_START_COUNT = "1/0347119786.09058"
SPACECRAFT_CLOCK_STOP_COUNT = "1/0347120260.05255"
START_TIME = 2014-05-02T14:11:30.192Z
STOP_TIME = 2014-05-02T14:15:20.227Z
/* ORBITAL DATA ELEMENTS */
ASCENDING_NODE_LONGITUDE = 327.42
MAXIMUM_RESOLUTION = 0.6328
FOOTPRINT_POINT_LATITUDE = (15.9148,15.8315,16.0744,16.2473, 15.8206,17.1828,17.0081,19.115,21.8107, 25.1546,27.5783,30.2142,33.3703,38.0229 ,42.1158,46.3794,48.8338,54.2433, 58.2132,62.7657,65.9832,67.7253,70.2862 ,72.2538,72.6029,72.0554,70.2669, 67.4936,65.2235,62.3978,60.2759,56.5454 ,53.8592,51.158,46.8561,43.4229,40.9287 ,37.244,33.3744,28.3036,25.3954,22.7393 ,20.2606,17.1246,18.1757,17.5496, 18.5189,17.9285,17.7427,18.0635,18.7765 ,19.5298,18.8878,19.0771,19.7326,22.097 ,25.1344,29.2286,33.4767,39.0176, 44.5462,47.4237,51.1612,54.028,57.9656, 60.5786,64.6429,67.3021,71.4158,73.9722 ,75.6358,77.4198,78.7605,78.7282,77.653 ,75.5287,72.5203,70.4233,66.5528,63.706 ,59.7731,56.4357,51.4148,46.0001, 43.4754,39.537,36.0015,32.7739,28.9276, 24.1261,20.4615,18.0083,20.4678,17.6094 ,16.7729,16.8019,16.2874,16.5062, 15.9148)
FOOTPRINT_POINT_LONGITUDE = (281.647,281.658,281.703,285.416,290.46 ,295.474,298.739,301.305,301.53,301.893 ,302.219,302.657,303.249,304.379, 305.662,307.391,308.607,312.096,315.685 ,321.613,327.858,332.505,342.552, 358.297,6.31961,24.0517,37.2891,47.9209 ,53.5718,58.6953,61.6593,65.6799, 67.9134,69.7606,72.0893,73.5452,74.43, 75.52,76.4367,77.3584,77.7697,78.0701, 78.298,79.1921,83.9293,86.6801,90.8194, 95.87,97.3833,99.5194,104.681,108.528, 111.293,115.253,118.025,118.102,118.02, 118.024,118.16,118.582,119.349,119.927, 120.91,121.89,123.668,125.216,128.48, 131.452,138.317,145.146,151.711,162.887 ,183.306,197.199,214.235,227.995, 238.303,242.92,248.717,251.641,254.567, 256.374,258.318,259.699,260.16,260.708, 261.03,261.225,261.341,261.334,261.214, 261.268,262.483,263.014,266.967,271.094 ,277.856,278.881,281.647)
ORBIT_NUMBER = 13125
ORBITAL_ECCENTRICITY = 0.578
ORBITAL_INCLINATION = 86.91
ORBITAL_SEMIMAJOR_AXIS = 8787.17
PERIAPSIS_ALTITUDE = 328.5
PERIAPSIS_ARGUMENT_ANGLE = 235.82
PERIAPSIS_TIME = 2014-05-02T15:58:51.000Z
SPACECRAFT_ORIENTATION = (0.0,-1.0,0.0)
^MEX_ORIENTATION_DESC = "MEX_ORIENTATION_DESC.TXT"
SPACECRAFT_POINTING_MODE = INERT
^MEX_POINTING_DESC = "MEX_POINTING_DESC.TXT"
RIGHT_ASCENSION = 143.915
DECLINATION = -54.081
OFFSET_ANGLE = -1e+32
SPACECRAFT_SOLAR_DISTANCE = 2.39168e+08
TARGET_NAME = MARS
/* CAMERA DATA ELEMENTS */
DETECTOR_TEMPERATURE = 18.3705
FOCAL_PLANE_TEMPERATURE = 9.195
INST_CMPRS_NAME = "DISCRETE COSINE TRANSFORMATION (DCT)"
INST_CMPRS_RATIO = 8.76053
INST_CMPRS_QUALITY = 0
INST_CMPRS_QUANTZ_TBL_ID = 0
INSTRUMENT_TEMPERATURE = 11.4379
LENS_TEMPERATURE = 9.3989
MACROPIXEL_SIZE = 2
MISSING_FRAMES = 1
PIXEL_SUBSAMPLING_FLAG = N
SIGNAL_CHAIN_ID = 2
/* RADIOMETRIC DATA ELEMENTS */
BANDWIDTH = 88.0
CENTER_FILTER_WAVELENGTH = 538.0
RADIANCE_OFFSET = 0.0
RADIANCE_SCALING_FACTOR = 0.0228162
REFLECTANCE_SCALING_FACTOR = 0.00112379
MEX:REFLECTANCE_OFFSET = 0.0
/* IMAGE OBJECT DEFINITIONS */
OBJECT = IMAGE
  INTERCHANGE_FORMAT = BINARY
  LINES = 5770
  LINE_SAMPLES = 11650
  SAMPLE_TYPE = UNSIGNED_INTEGER
  SAMPLE_BITS = 8
  BANDS = 1
  BAND_STORAGE_TYPE = BAND_SEQUENTIAL
  MAXIMUM = 255
  MEAN = 64.0903
  MINIMUM = 1
  STANDARD_DEVIATION = 61.5046
END_OBJECT = IMAGE
/* MAP OBJECT DEFINITIONS */
OBJECT = IMAGE_MAP_PROJECTION
  ^DATA_SET_MAP_PROJECTION_CATALOG= "DSMAP.CAT"
  A_AXIS_RADIUS = 3396.0
  B_AXIS_RADIUS = 3396.0
  C_AXIS_RADIUS = 3396.0
  CENTER_LATITUDE = 90.0
  CENTER_LONGITUDE = 0.0
  COORDINATE_SYSTEM_NAME = PLANETOGRAPHIC
  COORDINATE_SYSTEM_TYPE = "BODY-FIXED ROTATING"
  EASTERNMOST_LONGITUDE = 360.0
  FIRST_STANDARD_PARALLEL = "N/A"
  LINE_FIRST_PIXEL = 1
  LINE_LAST_PIXEL = 5770
  LINE_PROJECTION_OFFSET = 2661.0
  MAP_PROJECTION_ROTATION = 0.0
  MAP_PROJECTION_TYPE = STEREOGRAPHIC
  MAP_RESOLUTION = 74.08922548333329
  MAP_SCALE = 0.8
  MAXIMUM_LATITUDE = 90.0
  MINIMUM_LATITUDE = 15.8206
  POSITIVE_LONGITUDE_DIRECTION = EAST
  REFERENCE_LATITUDE = "N/A"
  REFERENCE_LONGITUDE = "N/A"
  SAMPLE_FIRST_PIXEL = 1
  SAMPLE_LAST_PIXEL = 11650
  SAMPLE_PROJECTION_OFFSET = 5791.0
  SECOND_STANDARD_PARALLEL = "N/A"
  WESTERNMOST_LONGITUDE = 0.0
END_OBJECT = IMAGE_MAP_PROJECTION
END
