PDS_VERSION_ID = PDS3
/* FILE DATA ELEMENTS */
RECORD_TYPE = UNDEFINED
/* POINTERS TO DATA OBJECTS */
^IMAGE = ("HD117_0000_GR4.TIF")
/* IDENTIFICATION DATA ELEMENTS */
DATA_SET_ID = "MEX-M-HRSC-4-REFDR-MAPPROJECT-EXT4-V4.0"
DATA_SET_NAME = "MARS EXPRESS HRSC MAP PROJECTED REFDR EXTENSION4 V4.0"
DETECTOR_ID = MEX_HRSC_GREEN
EVENT_TYPE = "MARS-CLOUD-VARIABLE-At"
INSTRUMENT_HOST_ID = MEX
INSTRUMENT_HOST_NAME = "MARS EXPRESS"
INSTRUMENT_ID = HRSC
INSTRUMENT_NAME = "HIGH RESOLUTION STEREO CAMERA"
MISSION_NAME = "MARS EXPRESS"
MISSION_PHASE_NAME = ME_Phase_30
PROCESSING_LEVEL_ID = 4
PRODUCT_CREATION_TIME = 2023-02-01T01:09:44.000Z
PRODUCT_ID = "HD117_0000_GR4.TIF"
RELEASE_ID = 0004
REVISION_ID = 0000
/* QUALITY DATA ELEMENTS */
DATA_QUALITY_ID = 1
DATA_QUALITY_DESC = "Data calculated based on original SPICE kernels"
/* TIME DATA ELEMENTS */
SPACECRAFT_CLOCK_START_COUNT = "1/0346927661.07301"
SPACECRAFT_CLOCK_STOP_COUNT = "1/0346929273.62510"
START_TIME = 2014-04-30T08:54:03.598Z
STOP_TIME = 2014-04-30T09:09:58.459Z
/* ORBITAL DATA ELEMENTS */
ASCENDING_NODE_LONGITUDE = 327.56
MAXIMUM_RESOLUTION = 0.3238
FOOTPRINT_POINT_LATITUDE = (-18.9702,-18.592,-18.3395,-18.0862, -17.8316,-17.5757,-17.3191,-17.0608, -16.8009,-16.539,-16.2751,-15.9072, -15.6707,-15.6368,-15.6323,-14.6356, -13.64,-11.9846,-10.6616,-9.33943, -8.34813,-7.02607,-5.70023,-4.37645, -3.38161,-2.38625,-0.390516,0.943057, 2.28459,3.62761,4.97342,6.33174,7.69373 ,8.3775,9.06361,9.75159,10.4424,11.1356 ,11.8312,12.8807,13.5805,14.6438, 15.3532,16.0657,16.787,17.8831,18.2474, 18.2656,17.9856,17.774,17.5636,17.356, 17.1498,16.9496,16.7509,16.5513,16.3536 ,16.1616,15.9192,15.7294,15.447,15.2608 ,15.0796,14.8986,14.7165,14.5303, 14.3513,14.0406,13.7348,13.5599,13.3902 ,13.3421,13.3261,11.9987,11.3309, 10.0101,8.69683,7.71415,6.08441,4.1364, 2.85244,1.88458,0.920347,-0.681332, -1.64243,-2.92143,-4.20063,-5.47669, -6.75342,-8.03082,-8.98897,-10.2716, -11.2294,-12.5097,-13.7934,-15.4041, -17.3474,-18.6463,-18.9716,-18.9702)
FOOTPRINT_POINT_LONGITUDE = (328.118,329.911,331.083,332.24,333.386 ,334.521,335.644,336.758,337.867,338.97 ,340.07,341.581,342.541,342.678,342.732 ,342.698,342.666,342.618,342.581, 342.548,342.526,342.499,342.473,342.453 ,342.442,342.431,342.418,342.413, 342.417,342.423,342.433,342.451,342.475 ,342.49,342.507,342.526,342.547,342.57, 342.595,342.638,342.667,342.72,342.757, 342.796,342.84,342.917,342.943,342.944, 341.941,341.146,340.357,339.574,338.797 ,338.026,337.261,336.499,335.74,334.985 ,334.046,333.296,332.176,331.43,330.683 ,329.936,329.191,328.448,327.702, 326.394,325.079,324.324,323.562,323.376 ,323.308,323.585,323.725,323.993, 324.252,324.442,324.749,325.106,325.318 ,325.479,325.639,325.891,326.042, 326.235,326.436,326.616,326.772,326.939 ,327.062,327.216,327.337,327.485, 327.623,327.782,327.955,328.065,328.092 ,328.118)
ORBIT_NUMBER = 13117
ORBITAL_ECCENTRICITY = 0.577
ORBITAL_INCLINATION = 86.91
ORBITAL_SEMIMAJOR_AXIS = 8781.77
PERIAPSIS_ALTITUDE = 329.01
PERIAPSIS_ARGUMENT_ANGLE = 237.18
PERIAPSIS_TIME = 2014-04-30T08:05:00.000Z
SPACECRAFT_ORIENTATION = (0.0,-1.0,0.0)
^MEX_ORIENTATION_DESC = "MEX_ORIENTATION_DESC.TXT"
SPACECRAFT_POINTING_MODE = INERT
^MEX_POINTING_DESC = "MEX_POINTING_DESC.TXT"
RIGHT_ASCENSION = 351.944
DECLINATION = 31.113
OFFSET_ANGLE = -1e+32
SPACECRAFT_SOLAR_DISTANCE = 2.39533e+08
TARGET_NAME = MARS
/* CAMERA DATA ELEMENTS */
DETECTOR_TEMPERATURE = 18.9822
FOCAL_PLANE_TEMPERATURE = 8.7872
INST_CMPRS_NAME = "DISCRETE COSINE TRANSFORMATION (DCT)"
INST_CMPRS_RATIO = 12.3473
INST_CMPRS_QUALITY = 0
INST_CMPRS_QUANTZ_TBL_ID = 0
INSTRUMENT_TEMPERATURE = 12.0496
LENS_TEMPERATURE = 9.3989
MACROPIXEL_SIZE = 2
PIXEL_SUBSAMPLING_FLAG = N
SIGNAL_CHAIN_ID = 2
/* RADIOMETRIC DATA ELEMENTS */
BANDWIDTH = 88.0
CENTER_FILTER_WAVELENGTH = 538.0
RADIANCE_OFFSET = 1.02621
RADIANCE_SCALING_FACTOR = 0.00878044
REFLECTANCE_SCALING_FACTOR = 0.000433731
MEX:REFLECTANCE_OFFSET = 0.0506923
/* IMAGE OBJECT DEFINITIONS */
OBJECT = IMAGE
  INTERCHANGE_FORMAT = BINARY
  LINES = 5574
  LINE_SAMPLES = 3000
  SAMPLE_TYPE = UNSIGNED_INTEGER
  SAMPLE_BITS = 8
  BANDS = 1
  BAND_STORAGE_TYPE = BAND_SEQUENTIAL
  MAXIMUM = 255
  MEAN = 122.495
  MINIMUM = 1
  STANDARD_DEVIATION = 56.2972
END_OBJECT = IMAGE
/* MAP OBJECT DEFINITIONS */
OBJECT = IMAGE_MAP_PROJECTION
  ^DATA_SET_MAP_PROJECTION_CATALOG= "DSMAP.CAT"
  A_AXIS_RADIUS = 3396.0
  B_AXIS_RADIUS = 3396.0
  C_AXIS_RADIUS = 3396.0
  CENTER_LATITUDE = 0.0
  CENTER_LONGITUDE = 336.0
  COORDINATE_SYSTEM_NAME = PLANETOGRAPHIC
  COORDINATE_SYSTEM_TYPE = "BODY-FIXED ROTATING"
  EASTERNMOST_LONGITUDE = 342.944
  FIRST_STANDARD_PARALLEL = "N/A"
  LINE_FIRST_PIXEL = 1
  LINE_LAST_PIXEL = 5574
  LINE_PROJECTION_OFFSET = 2722.0
  MAP_PROJECTION_ROTATION = 0.0
  MAP_PROJECTION_TYPE = SINUSOIDAL
  MAP_RESOLUTION = 148.178450966667
  MAP_SCALE = 0.4
  MAXIMUM_LATITUDE = 18.2656
  MINIMUM_LATITUDE = -18.9716
  POSITIVE_LONGITUDE_DIRECTION = EAST
  REFERENCE_LATITUDE = "N/A"
  REFERENCE_LONGITUDE = "N/A"
  SAMPLE_FIRST_PIXEL = 1
  SAMPLE_LAST_PIXEL = 3000
  SAMPLE_PROJECTION_OFFSET = 1624.0
  SECOND_STANDARD_PARALLEL = "N/A"
  WESTERNMOST_LONGITUDE = 323.308
END_OBJECT = IMAGE_MAP_PROJECTION
END
