PDS_VERSION_ID = PDS3
/* FILE DATA ELEMENTS */
RECORD_TYPE = UNDEFINED
/* POINTERS TO DATA OBJECTS */
^IMAGE = ("HD103_0000_BL4.TIF")
/* IDENTIFICATION DATA ELEMENTS */
DATA_SET_ID = "MEX-M-HRSC-4-REFDR-MAPPROJECT-EXT4-V4.0"
DATA_SET_NAME = "MARS EXPRESS HRSC MAP PROJECTED REFDR EXTENSION4 V4.0"
DETECTOR_ID = MEX_HRSC_BLUE
EVENT_TYPE = "MARS-CLOUD-VARIABLE-At"
INSTRUMENT_HOST_ID = MEX
INSTRUMENT_HOST_NAME = "MARS EXPRESS"
INSTRUMENT_ID = HRSC
INSTRUMENT_NAME = "HIGH RESOLUTION STEREO CAMERA"
MISSION_NAME = "MARS EXPRESS"
MISSION_PHASE_NAME = ME_Phase_30
PROCESSING_LEVEL_ID = 4
PRODUCT_CREATION_TIME = 2023-02-01T01:09:44.000Z
PRODUCT_ID = "HD103_0000_BL4.TIF"
RELEASE_ID = 0004
REVISION_ID = 0000
/* QUALITY DATA ELEMENTS */
DATA_QUALITY_ID = 1
DATA_QUALITY_DESC = "Data calculated based on original SPICE kernels"
/* TIME DATA ELEMENTS */
SPACECRAFT_CLOCK_START_COUNT = "1/0346575490.09053"
SPACECRAFT_CLOCK_STOP_COUNT = "1/0346576311.18434"
START_TIME = 2014-04-26T07:01:25.835Z
STOP_TIME = 2014-04-26T07:16:13.999Z
/* ORBITAL DATA ELEMENTS */
ASCENDING_NODE_LONGITUDE = 327.82
MAXIMUM_RESOLUTION = 0.2999
FOOTPRINT_POINT_LATITUDE = (-19.0995,-18.9595,-18.7976,-18.6337, -18.4677,-18.2994,-18.1289,-17.956, -17.7808,-17.6029,-17.4221,-17.238, -17.0505,-16.8842,-16.8602,-16.8578, -14.9323,-13.6513,-12.0506,-10.4518, -8.85356,-7.89455,-6.93565,-5.33611, -3.73296,-2.77061,-1.80534,-0.517122, 1.0987,1.74567,2.39481,3.37281,4.02605, 4.68108,5.66844,6.32801,6.98678,7.64809 ,8.31124,8.97821,9.98057,10.6529, 11.3278,12.0044,12.6834,13.3673,14.3983 ,15.4406,15.7851,15.8027,15.6057, 15.4528,15.1887,14.943,14.7206,14.5851, 14.4167,14.1752,14.0101,13.8812,13.7197 ,13.5974,13.4697,13.3469,13.1336, 13.0203,12.8147,12.6973,12.5842,12.441, 12.4109,12.3989,11.4172,10.1268,9.47324 ,8.18739,7.54603,5.95256,4.68394, 3.73466,2.47248,1.53076,0.275229, -0.975966,-2.22449,-3.47213,-4.71798, -5.96283,-7.20705,-8.76452,-9.69922, -10.6345,-12.1885,-13.1254,-15.0032, -16.5681,-17.5129,-18.7756,-19.0916, -19.0995)
FOOTPRINT_POINT_LONGITUDE = (322.506,323.452,324.523,325.587, 326.645,327.698,328.747,329.793,330.836 ,331.879,332.923,333.97,335.021,335.943 ,336.075,336.128,336.102,336.092, 336.079,336.074,336.073,336.077,336.082 ,336.098,336.126,336.143,336.168, 336.202,336.255,336.278,336.303,336.348 ,336.38,336.413,336.47,336.509,336.548, 336.59,336.634,336.683,336.758,336.813, 336.871,336.931,336.994,337.062,337.169 ,337.288,337.326,337.329,336.369, 335.607,334.287,332.994,331.891,331.167 ,330.268,329.016,328.129,327.423, 326.543,325.841,325.142,324.443,323.224 ,322.526,321.307,320.611,319.913,319.04 ,318.866,318.804,318.96,319.155,319.259 ,319.451,319.545,319.774,319.951, 320.082,320.253,320.375,320.538,320.695 ,320.847,320.996,321.142,321.283, 321.405,321.568,321.664,321.757,321.922 ,322.008,322.172,322.308,322.381, 322.474,322.497,322.506)
ORBIT_NUMBER = 13103
ORBITAL_ECCENTRICITY = 0.577
ORBITAL_INCLINATION = 86.91
ORBITAL_SEMIMAJOR_AXIS = 8778.7
PERIAPSIS_ALTITUDE = 328.6
PERIAPSIS_ARGUMENT_ANGLE = 239.58
PERIAPSIS_TIME = 2014-04-26T06:15:47.000Z
SPACECRAFT_ORIENTATION = (0.0,-1.0,0.0)
^MEX_ORIENTATION_DESC = "MEX_ORIENTATION_DESC.TXT"
SPACECRAFT_POINTING_MODE = INERT
^MEX_POINTING_DESC = "MEX_POINTING_DESC.TXT"
RIGHT_ASCENSION = 350.5
DECLINATION = 33.213
OFFSET_ANGLE = -1e+32
SPACECRAFT_SOLAR_DISTANCE = 2.4016e+08
TARGET_NAME = MARS
/* CAMERA DATA ELEMENTS */
DETECTOR_TEMPERATURE = 17.7588
FOCAL_PLANE_TEMPERATURE = 7.7677
INST_CMPRS_NAME = "DISCRETE COSINE TRANSFORMATION (DCT)"
INST_CMPRS_RATIO = 10.6833
INST_CMPRS_QUALITY = 0
INST_CMPRS_QUANTZ_TBL_ID = 0
INSTRUMENT_TEMPERATURE = 11.234
LENS_TEMPERATURE = 8.1755
MACROPIXEL_SIZE = 2
MISSING_FRAMES = 0
PIXEL_SUBSAMPLING_FLAG = N
SIGNAL_CHAIN_ID = 2
/* RADIOMETRIC DATA ELEMENTS */
BANDWIDTH = 76.0
CENTER_FILTER_WAVELENGTH = 444.0
RADIANCE_OFFSET = 0.525825
RADIANCE_SCALING_FACTOR = 0.00390706
REFLECTANCE_SCALING_FACTOR = 0.000231521
MEX:REFLECTANCE_OFFSET = 0.0311589
/* IMAGE OBJECT DEFINITIONS */
OBJECT = IMAGE
  INTERCHANGE_FORMAT = BINARY
  LINES = 10346
  LINE_SAMPLES = 5327
  SAMPLE_TYPE = UNSIGNED_INTEGER
  SAMPLE_BITS = 8
  BANDS = 1
  BAND_STORAGE_TYPE = BAND_SEQUENTIAL
  MAXIMUM = 255
  MEAN = 132.719
  MINIMUM = 1
  STANDARD_DEVIATION = 49.8181
END_OBJECT = IMAGE
/* MAP OBJECT DEFINITIONS */
OBJECT = IMAGE_MAP_PROJECTION
  ^DATA_SET_MAP_PROJECTION_CATALOG= "DSMAP.CAT"
  A_AXIS_RADIUS = 3396.0
  B_AXIS_RADIUS = 3396.0
  C_AXIS_RADIUS = 3396.0
  CENTER_LATITUDE = 0.0
  CENTER_LONGITUDE = 329.0
  COORDINATE_SYSTEM_NAME = PLANETOGRAPHIC
  COORDINATE_SYSTEM_TYPE = "BODY-FIXED ROTATING"
  EASTERNMOST_LONGITUDE = 337.329
  FIRST_STANDARD_PARALLEL = "N/A"
  LINE_FIRST_PIXEL = 1
  LINE_LAST_PIXEL = 10346
  LINE_PROJECTION_OFFSET = 4682.0
  MAP_PROJECTION_ROTATION = 0.0
  MAP_PROJECTION_TYPE = SINUSOIDAL
  MAP_RESOLUTION = 296.356901933333
  MAP_SCALE = 0.2
  MAXIMUM_LATITUDE = 15.8027
  MINIMUM_LATITUDE = -19.0995
  POSITIVE_LONGITUDE_DIRECTION = EAST
  REFERENCE_LATITUDE = "N/A"
  REFERENCE_LONGITUDE = "N/A"
  SAMPLE_FIRST_PIXEL = 1
  SAMPLE_LAST_PIXEL = 5327
  SAMPLE_PROJECTION_OFFSET = 2951.0
  SECOND_STANDARD_PARALLEL = "N/A"
  WESTERNMOST_LONGITUDE = 318.804
END_OBJECT = IMAGE_MAP_PROJECTION
END
