PDS_VERSION_ID = PDS3
/* FILE DATA ELEMENTS */
RECORD_TYPE = UNDEFINED
/* POINTERS TO DATA OBJECTS */
^IMAGE = ("HD083_0000_IR4.TIF")
/* IDENTIFICATION DATA ELEMENTS */
DATA_SET_ID = "MEX-M-HRSC-4-REFDR-MAPPROJECT-EXT4-V4.0"
DATA_SET_NAME = "MARS EXPRESS HRSC MAP PROJECTED REFDR EXTENSION4 V4.0"
DETECTOR_ID = MEX_HRSC_IR
EVENT_TYPE = "MARS-CLOUD-VARIABLE-At"
INSTRUMENT_HOST_ID = MEX
INSTRUMENT_HOST_NAME = "MARS EXPRESS"
INSTRUMENT_ID = HRSC
INSTRUMENT_NAME = "HIGH RESOLUTION STEREO CAMERA"
MISSION_NAME = "MARS EXPRESS"
MISSION_PHASE_NAME = ME_Phase_30
PROCESSING_LEVEL_ID = 4
PRODUCT_CREATION_TIME = 2023-02-01T01:09:44.000Z
PRODUCT_ID = "HD083_0000_IR4.TIF"
RELEASE_ID = 0004
REVISION_ID = 0000
/* QUALITY DATA ELEMENTS */
DATA_QUALITY_ID = 1
DATA_QUALITY_DESC = "Data calculated based on original SPICE kernels"
/* TIME DATA ELEMENTS */
SPACECRAFT_CLOCK_START_COUNT = "1/0346070908.08267"
SPACECRAFT_CLOCK_STOP_COUNT = "1/0346071678.32333"
START_TIME = 2014-04-20T10:48:50.887Z
STOP_TIME = 2014-04-20T10:54:37.177Z
/* ORBITAL DATA ELEMENTS */
ASCENDING_NODE_LONGITUDE = 328.2
MAXIMUM_RESOLUTION = 0.1916
FOOTPRINT_POINT_LATITUDE = (-54.7977,-54.8304,-54.8567,-54.8742, -54.8825,-54.8818,-54.8597,-54.8584, -54.8437,-54.0171,-52.9832,-52.3622, -51.5337,-51.119,-50.4955,-49.6647, -49.0442,-48.4173,-47.9986,-47.5841, -47.1663,-46.7472,-46.119,-45.6996, -45.0696,-44.6373,-44.0051,-43.5833, -43.1616,-42.736,-42.3162,-41.893, -41.4674,-41.0404,-40.6144,-40.1854, -39.7581,-39.3267,-38.6814,-38.2494, -37.8177,-37.1683,-36.7357,-36.303, -35.6516,-35.2084,-34.7698,-34.3298, -33.8889,-33.6688,-33.6393,-33.687, -33.7469,-33.7784,-33.7998,-33.8089, -33.8071,-33.8018,-33.7882,-33.7734, -33.7714,-33.7721,-34.2092,-34.644, -35.0783,-35.5115,-35.9441,-36.3757, -36.8059,-37.2355,-37.6643,-38.0922, -38.7339,-39.1604,-39.5882,-40.0133, -40.44,-40.8608,-41.2838,-41.7042, -42.1232,-42.7517,-43.3812,-44.2126, -44.8511,-45.4849,-46.1096,-46.9397, -47.7663,-48.3835,-48.7989,-49.6231, -50.2411,-51.0628,-52.2967,-53.1182, -53.733,-54.5518,-54.7575,-54.7977)
FOOTPRINT_POINT_LONGITUDE = (212.455,213.414,214.439,215.466, 216.495,217.525,219.273,219.338,219.403 ,219.465,219.538,219.581,219.635, 219.661,219.701,219.751,219.782,219.821 ,219.846,219.866,219.889,219.912, 219.945,219.967,219.999,220.02,220.052, 220.072,220.092,220.114,220.131,220.151 ,220.171,220.192,220.211,220.232, 220.251,220.273,220.302,220.322,220.342 ,220.371,220.389,220.408,220.435, 220.458,220.478,220.497,220.517,220.527 ,220.528,219.774,218.54,217.654,216.567 ,215.687,215.146,214.605,213.863, 213.323,213.256,213.233,213.236,213.238 ,213.24,213.241,213.242,213.242,213.241 ,213.24,213.238,213.235,213.231,213.227 ,213.224,213.219,213.214,213.206, 213.199,213.191,213.181,213.166,213.149 ,213.122,213.1,213.082,213.058,213.021, 212.979,212.943,212.921,212.869,212.827 ,212.766,212.667,212.594,212.534, 212.446,212.426,212.455)
ORBIT_NUMBER = 13083
ORBITAL_ECCENTRICITY = 0.578
ORBITAL_INCLINATION = 86.9
ORBITAL_SEMIMAJOR_AXIS = 8776.06
PERIAPSIS_ALTITUDE = 327.52
PERIAPSIS_ARGUMENT_ANGLE = 242.97
PERIAPSIS_TIME = 2014-04-20T10:30:57.000Z
SPACECRAFT_ORIENTATION = (0.0,-1.0,0.0)
^MEX_ORIENTATION_DESC = "MEX_ORIENTATION_DESC.TXT"
SPACECRAFT_POINTING_MODE = INERT
^MEX_POINTING_DESC = "MEX_POINTING_DESC.TXT"
RIGHT_ASCENSION = 348.324
DECLINATION = 36.124
OFFSET_ANGLE = -1e+32
SPACECRAFT_SOLAR_DISTANCE = 2.41024e+08
TARGET_NAME = MARS
/* CAMERA DATA ELEMENTS */
DETECTOR_TEMPERATURE = 18.1666
FOCAL_PLANE_TEMPERATURE = 8.7872
INST_CMPRS_NAME = "DISCRETE COSINE TRANSFORMATION (DCT)"
INST_CMPRS_RATIO = 8.76403
INST_CMPRS_QUALITY = 0
INST_CMPRS_QUANTZ_TBL_ID = 0
INSTRUMENT_TEMPERATURE = 11.8457
LENS_TEMPERATURE = 9.195
MACROPIXEL_SIZE = 4
MISSING_FRAMES = 1
PIXEL_SUBSAMPLING_FLAG = N
SIGNAL_CHAIN_ID = 2
/* RADIOMETRIC DATA ELEMENTS */
BANDWIDTH = 81.0
CENTER_FILTER_WAVELENGTH = 955.5
RADIANCE_OFFSET = 0.0366565
RADIANCE_SCALING_FACTOR = 0.00513909
REFLECTANCE_SCALING_FACTOR = 0.000644066
MEX:REFLECTANCE_OFFSET = 0.00459404
/* IMAGE OBJECT DEFINITIONS */
OBJECT = IMAGE
  INTERCHANGE_FORMAT = BINARY
  LINES = 6291
  LINE_SAMPLES = 2029
  SAMPLE_TYPE = UNSIGNED_INTEGER
  SAMPLE_BITS = 8
  BANDS = 1
  BAND_STORAGE_TYPE = BAND_SEQUENTIAL
  MAXIMUM = 255
  MEAN = 94.9945
  MINIMUM = 1
  STANDARD_DEVIATION = 28.5461
END_OBJECT = IMAGE
/* MAP OBJECT DEFINITIONS */
OBJECT = IMAGE_MAP_PROJECTION
  ^DATA_SET_MAP_PROJECTION_CATALOG= "DSMAP.CAT"
  A_AXIS_RADIUS = 3396.0
  B_AXIS_RADIUS = 3396.0
  C_AXIS_RADIUS = 3396.0
  CENTER_LATITUDE = 0.0
  CENTER_LONGITUDE = 217.0
  COORDINATE_SYSTEM_NAME = PLANETOGRAPHIC
  COORDINATE_SYSTEM_TYPE = "BODY-FIXED ROTATING"
  EASTERNMOST_LONGITUDE = 220.528
  FIRST_STANDARD_PARALLEL = "N/A"
  LINE_FIRST_PIXEL = 1
  LINE_LAST_PIXEL = 6291
  LINE_PROJECTION_OFFSET = -9973.25
  MAP_PROJECTION_ROTATION = 0.0
  MAP_PROJECTION_TYPE = SINUSOIDAL
  MAP_RESOLUTION = 296.356901933333
  MAP_SCALE = 0.2
  MAXIMUM_LATITUDE = -33.6393
  MINIMUM_LATITUDE = -54.8825
  POSITIVE_LONGITUDE_DIRECTION = EAST
  REFERENCE_LATITUDE = "N/A"
  REFERENCE_LONGITUDE = "N/A"
  SAMPLE_FIRST_PIXEL = 1
  SAMPLE_LAST_PIXEL = 2029
  SAMPLE_PROJECTION_OFFSET = 999.25
  SECOND_STANDARD_PARALLEL = "N/A"
  WESTERNMOST_LONGITUDE = 212.426
END_OBJECT = IMAGE_MAP_PROJECTION
END
