PDS_VERSION_ID = PDS3
/* FILE DATA ELEMENTS */
RECORD_TYPE = UNDEFINED
/* POINTERS TO DATA OBJECTS */
^IMAGE = ("HD067_0000_S24.TIF")
/* IDENTIFICATION DATA ELEMENTS */
DATA_SET_ID = "MEX-M-HRSC-4-REFDR-MAPPROJECT-EXT4-V4.0"
DATA_SET_NAME = "MARS EXPRESS HRSC MAP PROJECTED REFDR EXTENSION4 V4.0"
DETECTOR_ID = MEX_HRSC_S2
EVENT_TYPE = "MARS-REGIONAL-MAPPING-Gl-Pf"
INSTRUMENT_HOST_ID = MEX
INSTRUMENT_HOST_NAME = "MARS EXPRESS"
INSTRUMENT_ID = HRSC
INSTRUMENT_NAME = "HIGH RESOLUTION STEREO CAMERA"
MISSION_NAME = "MARS EXPRESS"
MISSION_PHASE_NAME = ME_Phase_30
PROCESSING_LEVEL_ID = 4
PRODUCT_CREATION_TIME = 2023-02-01T01:09:44.000Z
PRODUCT_ID = "HD067_0000_S24.TIF"
RELEASE_ID = 0004
REVISION_ID = 0000
/* QUALITY DATA ELEMENTS */
DATA_QUALITY_ID = 1
DATA_QUALITY_DESC = "Data calculated based on original SPICE kernels"
/* TIME DATA ELEMENTS */
SPACECRAFT_CLOCK_START_COUNT = "1/0345668449.07316"
SPACECRAFT_CLOCK_STOP_COUNT = "1/0345669255.14710"
START_TIME = 2014-04-15T19:06:26.388Z
STOP_TIME = 2014-04-15T19:14:18.155Z
/* ORBITAL DATA ELEMENTS */
ASCENDING_NODE_LONGITUDE = 328.49
MAXIMUM_RESOLUTION = 0.1507
FOOTPRINT_POINT_LATITUDE = (-51.2575,-51.249,-51.2367,-51.2219, -51.2047,-51.185,-51.1629,-51.1386, -51.112,-51.083,-51.0517,-51.0179, -50.9481,-50.9432,-51.0947,-50.6482, -50.2031,-49.5378,-49.0935,-48.6531, -48.2116,-47.5563,-47.1161,-46.6792, -46.0246,-45.3702,-44.7179,-44.2794, -43.8451,-43.4129,-42.7666,-42.3357, -41.6904,-41.2598,-40.8337,-40.4084, -39.7719,-38.9232,-38.5,-38.0764, -37.6547,-37.0225,-36.1801,-35.1308, -34.2939,-33.4592,-32.4074,-31.7838, -30.954,-29.9185,-29.7112,-29.6495, -29.7178,-29.7651,-29.8032,-29.8339, -29.8956,-29.9306,-29.9747,-30.0053, -30.03,-30.0583,-30.0939,-30.0959, -30.0977,-30.9169,-31.7366,-32.3504, -33.1728,-33.7916,-34.4138,-35.2506, -36.2861,-37.12,-38.1719,-39.0112, -39.4332,-40.2802,-41.1176,-41.547, -42.1856,-43.0336,-43.6779,-44.32, -44.7484,-45.3972,-45.8337,-46.2661, -46.6955,-47.1338,-47.5678,-48.0126, -48.442,-48.8823,-49.5384,-49.9864, -50.6458,-51.0941,-51.317,-51.2575)
FOOTPRINT_POINT_LONGITUDE = (44.4714,45.1587,45.9399,46.7167, 47.4894,48.2586,49.0245,49.7869,50.5461 ,51.303,52.0582,52.8123,54.2239,54.3179 ,54.4104,54.4121,54.4135,54.4154, 54.4154,54.4164,54.4164,54.418,54.4169, 54.4166,54.4154,54.413,54.4104,54.4061, 54.4034,54.401,54.3976,54.3947,54.3898, 54.3858,54.3836,54.3814,54.3782,54.3723 ,54.3694,54.3659,54.363,54.3583,54.3509 ,54.3419,54.3347,54.3278,54.3097, 54.3037,54.2957,54.2853,54.2826,54.2819 ,53.2929,52.5728,51.9432,51.3127, 50.1471,49.4289,48.5279,47.8052,47.1713 ,46.3537,45.0766,44.9853,44.9523, 44.9756,44.9976,45.0144,45.032,45.0427, 45.0496,45.0521,45.0621,45.064,45.0567, 45.0506,45.0451,45.0304,45.0203,45.0067 ,44.989,44.9654,44.94,44.9144,44.896, 44.8626,44.8364,44.8121,44.7887,44.7583 ,44.7296,44.6925,44.6646,44.628,44.5736 ,44.5283,44.4661,44.4167,44.3922, 44.4714)
ORBIT_NUMBER = 13067
ORBITAL_ECCENTRICITY = 0.577
ORBITAL_INCLINATION = 86.89
ORBITAL_SEMIMAJOR_AXIS = 8771.06
PERIAPSIS_ALTITUDE = 328.01
PERIAPSIS_ARGUMENT_ANGLE = 245.68
PERIAPSIS_TIME = 2014-04-15T18:42:51.000Z
SPACECRAFT_ORIENTATION = (0.0,-1.0,0.0)
^MEX_ORIENTATION_DESC = "MEX_ORIENTATION_DESC.TXT"
SPACECRAFT_POINTING_MODE = INERT
^MEX_POINTING_DESC = "MEX_POINTING_DESC.TXT"
RIGHT_ASCENSION = 346.441
DECLINATION = 38.406
OFFSET_ANGLE = -1e+32
SPACECRAFT_SOLAR_DISTANCE = 2.4169e+08
TARGET_NAME = MARS
/* CAMERA DATA ELEMENTS */
DETECTOR_TEMPERATURE = 18.9822
FOCAL_PLANE_TEMPERATURE = 7.9716
INST_CMPRS_NAME = "DISCRETE COSINE TRANSFORMATION (DCT)"
INST_CMPRS_RATIO = 10.3663
INST_CMPRS_QUALITY = 0
INST_CMPRS_QUANTZ_TBL_ID = 0
INSTRUMENT_TEMPERATURE = 11.4379
LENS_TEMPERATURE = 8.3794
MACROPIXEL_SIZE = 2
MISSING_FRAMES = 0
PIXEL_SUBSAMPLING_FLAG = N
SIGNAL_CHAIN_ID = 1
/* RADIOMETRIC DATA ELEMENTS */
BANDWIDTH = 178.0
CENTER_FILTER_WAVELENGTH = 679.0
RADIANCE_OFFSET = 0.524189
RADIANCE_SCALING_FACTOR = 0.0278302
REFLECTANCE_SCALING_FACTOR = 0.000860916
MEX:REFLECTANCE_OFFSET = 0.0162155
/* IMAGE OBJECT DEFINITIONS */
OBJECT = IMAGE
  INTERCHANGE_FORMAT = BINARY
  LINES = 12768
  LINE_SAMPLES = 4204
  SAMPLE_TYPE = UNSIGNED_INTEGER
  SAMPLE_BITS = 8
  BANDS = 1
  BAND_STORAGE_TYPE = BAND_SEQUENTIAL
  MAXIMUM = 254
  MEAN = 143.59
  MINIMUM = 1
  STANDARD_DEVIATION = 38.8532
END_OBJECT = IMAGE
/* MAP OBJECT DEFINITIONS */
OBJECT = IMAGE_MAP_PROJECTION
  ^DATA_SET_MAP_PROJECTION_CATALOG= "DSMAP.CAT"
  A_AXIS_RADIUS = 3396.0
  B_AXIS_RADIUS = 3396.0
  C_AXIS_RADIUS = 3396.0
  CENTER_LATITUDE = 0.0
  CENTER_LONGITUDE = 49.0
  COORDINATE_SYSTEM_NAME = PLANETOGRAPHIC
  COORDINATE_SYSTEM_TYPE = "BODY-FIXED ROTATING"
  EASTERNMOST_LONGITUDE = 54.418
  FIRST_STANDARD_PARALLEL = "N/A"
  LINE_FIRST_PIXEL = 1
  LINE_LAST_PIXEL = 12768
  LINE_PROJECTION_OFFSET = -17618.25
  MAP_PROJECTION_ROTATION = 0.0
  MAP_PROJECTION_TYPE = SINUSOIDAL
  MAP_RESOLUTION = 592.713803866667
  MAP_SCALE = 0.1
  MAXIMUM_LATITUDE = -29.6495
  MINIMUM_LATITUDE = -51.317
  POSITIVE_LONGITUDE_DIRECTION = EAST
  REFERENCE_LATITUDE = "N/A"
  REFERENCE_LONGITUDE = "N/A"
  SAMPLE_FIRST_PIXEL = 1
  SAMPLE_LAST_PIXEL = 4204
  SAMPLE_PROJECTION_OFFSET = 2015.25
  SECOND_STANDARD_PARALLEL = "N/A"
  WESTERNMOST_LONGITUDE = 44.3922
END_OBJECT = IMAGE_MAP_PROJECTION
END
