PDS_VERSION_ID = PDS3
/* FILE DATA ELEMENTS */
RECORD_TYPE = UNDEFINED
/* POINTERS TO DATA OBJECTS */
^IMAGE = ("HD067_0000_ND4.TIF")
/* IDENTIFICATION DATA ELEMENTS */
DATA_SET_ID = "MEX-M-HRSC-4-REFDR-MAPPROJECT-EXT4-V4.0"
DATA_SET_NAME = "MARS EXPRESS HRSC MAP PROJECTED REFDR EXTENSION4 V4.0"
DETECTOR_ID = MEX_HRSC_NADIR
EVENT_TYPE = "MARS-REGIONAL-MAPPING-Gl-Pf"
INSTRUMENT_HOST_ID = MEX
INSTRUMENT_HOST_NAME = "MARS EXPRESS"
INSTRUMENT_ID = HRSC
INSTRUMENT_NAME = "HIGH RESOLUTION STEREO CAMERA"
MISSION_NAME = "MARS EXPRESS"
MISSION_PHASE_NAME = ME_Phase_30
PROCESSING_LEVEL_ID = 4
PRODUCT_CREATION_TIME = 2023-02-01T01:09:44.000Z
PRODUCT_ID = "HD067_0000_ND4.TIF"
RELEASE_ID = 0004
REVISION_ID = 0000
/* QUALITY DATA ELEMENTS */
DATA_QUALITY_ID = 1
DATA_QUALITY_DESC = "Data calculated based on original SPICE kernels"
/* TIME DATA ELEMENTS */
SPACECRAFT_CLOCK_START_COUNT = "1/0345668449.07316"
SPACECRAFT_CLOCK_STOP_COUNT = "1/0345669255.14710"
START_TIME = 2014-04-15T19:03:05.865Z
STOP_TIME = 2014-04-15T19:09:56.860Z
/* ORBITAL DATA ELEMENTS */
ASCENDING_NODE_LONGITUDE = 328.49
MAXIMUM_RESOLUTION = 0.0569 <m/pixel>
FOOTPRINT_POINT_LATITUDE = (-51.1825,-51.2073,-51.2134,-51.2086, -51.1931,-51.1672,-51.1335,-51.1309, -51.1847,-50.752,-50.3199,-49.8882, -49.4566,-49.0259,-48.5952,-48.1642, -47.7337,-47.3031,-46.8731,-46.4433, -45.7989,-45.3695,-44.9402,-44.2962, -43.6522,-43.2232,-42.7951,-42.3665, -41.9381,-41.511,-40.8689,-40.4409, -40.0137,-39.5861,-39.1588,-38.7313, -38.0901,-37.6627,-37.2353,-36.5942, -35.9528,-35.3117,-34.8841,-34.4563, -33.8146,-33.3871,-32.9601,-32.5332, -32.1059,-31.6781,-31.0368,-30.6106, -29.9676,-29.7531,-29.7235,-29.7739, -29.8361,-29.866,-29.9073,-29.9362, -29.9492,-29.9589,-29.9641,-29.9661, -29.9618,-29.9611,-29.9614,-30.5991, -31.0239,-31.4483,-31.8729,-32.7218, -33.5692,-34.2035,-35.26,-35.8947, -36.9527,-37.7989,-38.857,-39.4921, -40.5509,-41.3977,-42.0341,-42.8819, -43.3069,-44.1548,-44.7915,-45.2171, -45.6439,-46.0695,-46.7074,-47.346, -47.7732,-48.4128,-49.057,-49.6999, -50.5517,-50.9827,-51.1978,-51.1825)
FOOTPRINT_POINT_LONGITUDE = (44.8184,46.4846,47.7417,48.9894, 50.2278,51.4603,52.6118,52.6884,52.7558 ,52.7771,52.7978,52.8177,52.8369, 52.8557,52.8737,52.8907,52.9073,52.923, 52.9384,52.9533,52.9745,52.9879,53.0009 ,53.0189,53.0352,53.0457,53.0568, 53.0664,53.0756,53.0869,53.1,53.1074, 53.1174,53.1253,53.1341,53.1422,53.1531 ,53.1598,53.1668,53.1766,53.1864, 53.1949,53.2006,53.2064,53.2144,53.2189 ,53.2226,53.226,53.2297,53.234,53.2395, 53.2417,53.2481,53.2502,53.2506,52.4524 ,51.4103,50.7714,49.7323,48.6887, 48.0436,47.3149,46.666,46.0155,45.1962, 45.1141,45.0739,45.098,45.1133,45.1275, 45.1418,45.1696,45.1928,45.2052,45.2181 ,45.2272,45.2406,45.2461,45.2453, 45.2422,45.2356,45.2291,45.2157,45.2, 45.1875,45.167,45.1471,45.1297,45.1087, 45.09,45.0615,45.0293,45.0034,44.9651, 44.9154,44.866,44.8055,44.764,44.7436, 44.8184)
ORBIT_NUMBER = 13067
ORBITAL_ECCENTRICITY = 0.577
ORBITAL_INCLINATION = 86.89
ORBITAL_SEMIMAJOR_AXIS = 8771.06
PERIAPSIS_ALTITUDE = 328.01
PERIAPSIS_ARGUMENT_ANGLE = 245.68
PERIAPSIS_TIME = 2014-04-15T18:42:51.000Z
SPACECRAFT_ORIENTATION = (0.0,-1.0,0.0)
^MEX_ORIENTATION_DESC = "MEX_ORIENTATION_DESC.TXT"
SPACECRAFT_POINTING_MODE = INERT
^MEX_POINTING_DESC = "MEX_POINTING_DESC.TXT"
RIGHT_ASCENSION = 346.441
DECLINATION = 38.406
OFFSET_ANGLE = -1e+32
SPACECRAFT_SOLAR_DISTANCE = 2.4169e+08
TARGET_NAME = MARS
/* CAMERA DATA ELEMENTS */
DETECTOR_TEMPERATURE = 18.3705 <degC>
FOCAL_PLANE_TEMPERATURE = 7.9716 <degC>
INST_CMPRS_NAME = "DISCRETE COSINE TRANSFORMATION (DCT)"
INST_CMPRS_RATIO = 6.04088
INST_CMPRS_QUALITY = 0
INST_CMPRS_QUANTZ_TBL_ID = 0
INSTRUMENT_TEMPERATURE = 11.4379 <degC>
LENS_TEMPERATURE = 8.3794 <degC>
MACROPIXEL_SIZE = 1
MISSING_FRAMES = 0
PIXEL_SUBSAMPLING_FLAG = N
SIGNAL_CHAIN_ID = 0
/* RADIOMETRIC DATA ELEMENTS */
BANDWIDTH = 177.0 <nm>
CENTER_FILTER_WAVELENGTH = 677.5 <nm>
RADIANCE_OFFSET = 0.300045 <W*m**-2*sr**-1>
RADIANCE_SCALING_FACTOR = 0.0258862 <W*m**-2*sr**-1>
REFLECTANCE_SCALING_FACTOR = 0.000803276
MEX:REFLECTANCE_OFFSET = 0.0093107
/* IMAGE OBJECT DEFINITIONS */
OBJECT = IMAGE
  INTERCHANGE_FORMAT = BINARY
  LINES = 25535
  LINE_SAMPLES = 8408
  SAMPLE_TYPE = UNSIGNED_INTEGER
  SAMPLE_BITS = 8
  BANDS = 1
  BAND_STORAGE_TYPE = BAND_SEQUENTIAL
  MAXIMUM = 254
  MEAN = 140.927
  MINIMUM = 1
  STANDARD_DEVIATION = 40.7441
END_OBJECT = IMAGE
/* MAP OBJECT DEFINITIONS */
OBJECT = IMAGE_MAP_PROJECTION
  ^DATA_SET_MAP_PROJECTION_CATALOG= "DSMAP.CAT"
  A_AXIS_RADIUS = 3396.0 <km>
  B_AXIS_RADIUS = 3396.0 <km>
  C_AXIS_RADIUS = 3396.0 <km>
  CENTER_LATITUDE = 0.0
  CENTER_LONGITUDE = 49.0
  COORDINATE_SYSTEM_NAME = PLANETOGRAPHIC
  COORDINATE_SYSTEM_TYPE = "BODY-FIXED ROTATING"
  EASTERNMOST_LONGITUDE = 53.2506
  FIRST_STANDARD_PARALLEL = "N/A"
  LINE_FIRST_PIXEL = 1
  LINE_LAST_PIXEL = 25535
  LINE_PROJECTION_OFFSET = -35236.0
  MAP_PROJECTION_ROTATION = 0.0
  MAP_PROJECTION_TYPE = SINUSOIDAL
  MAP_RESOLUTION = 1185.42760773333 <pixel/degree>
  MAP_SCALE = 0.05 <km/pixel>
  MAXIMUM_LATITUDE = -29.7235
  MINIMUM_LATITUDE = -51.2134
  POSITIVE_LONGITUDE_DIRECTION = EAST
  REFERENCE_LATITUDE = "N/A"
  REFERENCE_LONGITUDE = "N/A"
  SAMPLE_FIRST_PIXEL = 1
  SAMPLE_LAST_PIXEL = 8408
  SAMPLE_PROJECTION_OFFSET = 4031.0
  SECOND_STANDARD_PARALLEL = "N/A"
  WESTERNMOST_LONGITUDE = 44.7436
END_OBJECT = IMAGE_MAP_PROJECTION
END
