PDS_VERSION_ID = PDS3
/* FILE DATA ELEMENTS */
RECORD_TYPE = UNDEFINED
/* POINTERS TO DATA OBJECTS */
^IMAGE = ("HD008_0000_GR4.TIF")
/* IDENTIFICATION DATA ELEMENTS */
DATA_SET_ID = "MEX-M-HRSC-4-REFDR-MAPPROJECT-EXT4-V4.0"
DATA_SET_NAME = "MARS EXPRESS HRSC MAP PROJECTED REFDR EXTENSION4 V4.0"
DETECTOR_ID = MEX_HRSC_GREEN
EVENT_TYPE = "MARS-CLOUD-VARIABLE-At"
INSTRUMENT_HOST_ID = MEX
INSTRUMENT_HOST_NAME = "MARS EXPRESS"
INSTRUMENT_ID = HRSC
INSTRUMENT_NAME = "HIGH RESOLUTION STEREO CAMERA"
MISSION_NAME = "MARS EXPRESS"
MISSION_PHASE_NAME = ME_Phase_30
PROCESSING_LEVEL_ID = 4
PRODUCT_CREATION_TIME = 2023-02-01T01:09:44.000Z
PRODUCT_ID = "HD008_0000_GR4.TIF"
RELEASE_ID = 0004
REVISION_ID = 0000
/* QUALITY DATA ELEMENTS */
DATA_QUALITY_ID = 1
DATA_QUALITY_DESC = "Data calculated based on original SPICE kernels"
/* TIME DATA ELEMENTS */
SPACECRAFT_CLOCK_START_COUNT = "1/0344184913.07298"
SPACECRAFT_CLOCK_STOP_COUNT = "1/0344186325.28488"
START_TIME = 2014-03-29T14:58:24.533Z
STOP_TIME = 2014-03-29T15:15:19.955Z
/* ORBITAL DATA ELEMENTS */
ASCENDING_NODE_LONGITUDE = 329.59
MAXIMUM_RESOLUTION = 0.385
FOOTPRINT_POINT_LATITUDE = (-23.872,-23.8712,-23.8668,-23.8591, -23.8482,-23.834,-23.8115,-23.8102, -23.8206,-22.9495,-22.076,-20.7739, -19.9077,-19.0434,-17.749,-15.6038, -13.8939,-12.1873,-9.63964,-7.51341, -5.81399,-4.54031,-2.84146,-0.283402, 1.42094,3.13349,4.85555,5.71614,6.58735 ,7.45539,8.32591,9.19792,10.0738, 10.9522,11.835,12.7204,13.6106,14.5052, 15.4025,16.3048,17.2107,18.1263,19.0458 ,19.5081,19.521,19.4926,19.4639,19.4403 ,19.4201,19.405,19.3874,19.3729,19.363, 19.3548,19.3469,19.3425,19.3411,19.3412 ,19.3414,19.3408,17.964,17.0551,16.1508 ,15.2519,14.3549,13.4623,12.5747, 11.6935,10.8121,9.93703,9.06386,8.19574 ,7.32674,6.4628,5.60112,4.74076,3.88221 ,3.02579,2.17094,1.31721,-0.383871, -2.0825,-3.77816,-5.47191,-6.74286, -8.43938,-10.1311,-11.8314,-13.5351, -14.8215,-16.5356,-17.3939,-18.6708, -19.5302,-20.3929,-21.2602,-22.1289, -23.4358,-23.8725,-23.872)
FOOTPRINT_POINT_LONGITUDE = (313.187,315.103,316.48,317.849,319.21, 320.568,322.269,322.354,322.381,322.371 ,322.36,322.345,322.336,322.326,322.312 ,322.294,322.282,322.271,322.275, 322.274,322.274,322.277,322.289,322.326 ,322.349,322.384,322.43,322.453,322.485 ,322.515,322.547,322.58,322.618,322.657 ,322.7,322.746,322.796,322.849,322.905, 322.966,323.03,323.1,323.175,323.214, 323.215,322.077,320.792,319.658,318.53, 317.546,316.283,315.16,314.036,313.048, 311.634,310.212,309.209,308.199,308.054 ,308.005,308.265,308.431,308.593, 308.751,308.907,309.059,309.207,309.35, 309.493,309.63,309.765,309.895,310.026, 310.151,310.274,310.396,310.515,310.631 ,310.746,310.858,311.072,311.28,311.479 ,311.666,311.788,311.961,312.149, 312.302,312.45,312.547,312.681,312.746, 312.855,312.917,312.975,313.028,313.079 ,313.152,313.176,313.187)
ORBIT_NUMBER = 13008
ORBITAL_ECCENTRICITY = 0.577
ORBITAL_INCLINATION = 86.9
ORBITAL_SEMIMAJOR_AXIS = 8760.67
PERIAPSIS_ALTITUDE = 328.0
PERIAPSIS_ARGUMENT_ANGLE = 255.67
PERIAPSIS_TIME = 2014-03-29T14:27:42.000Z
SPACECRAFT_ORIENTATION = (0.0,-1.0,0.0)
^MEX_ORIENTATION_DESC = "MEX_ORIENTATION_DESC.TXT"
SPACECRAFT_POINTING_MODE = INERT
^MEX_POINTING_DESC = "MEX_POINTING_DESC.TXT"
RIGHT_ASCENSION = 337.993
DECLINATION = 46.335
OFFSET_ANGLE = -1e+32
SPACECRAFT_SOLAR_DISTANCE = 2.43933e+08
TARGET_NAME = MARS
/* CAMERA DATA ELEMENTS */
DETECTOR_TEMPERATURE = 18.7783
FOCAL_PLANE_TEMPERATURE = 8.5833
INST_CMPRS_NAME = "DISCRETE COSINE TRANSFORMATION (DCT)"
INST_CMPRS_RATIO = 29.1268
INST_CMPRS_QUALITY = 0
INST_CMPRS_QUANTZ_TBL_ID = 0
INSTRUMENT_TEMPERATURE = 11.8457
LENS_TEMPERATURE = 9.3989
MACROPIXEL_SIZE = 4
MISSING_FRAMES = 0
PIXEL_SUBSAMPLING_FLAG = N
SIGNAL_CHAIN_ID = 2
/* RADIOMETRIC DATA ELEMENTS */
BANDWIDTH = 88.0
CENTER_FILTER_WAVELENGTH = 538.0
RADIANCE_OFFSET = 1.04709
RADIANCE_SCALING_FACTOR = 0.00903376
REFLECTANCE_SCALING_FACTOR = 0.000462796
MEX:REFLECTANCE_OFFSET = 0.0536423
/* IMAGE OBJECT DEFINITIONS */
OBJECT = IMAGE
  INTERCHANGE_FORMAT = BINARY
  LINES = 6433
  LINE_SAMPLES = 2240
  SAMPLE_TYPE = UNSIGNED_INTEGER
  SAMPLE_BITS = 8
  BANDS = 1
  BAND_STORAGE_TYPE = BAND_SEQUENTIAL
  MAXIMUM = 255
  MEAN = 137.897
  MINIMUM = 1
  STANDARD_DEVIATION = 63.2035
END_OBJECT = IMAGE
/* MAP OBJECT DEFINITIONS */
OBJECT = IMAGE_MAP_PROJECTION
  ^DATA_SET_MAP_PROJECTION_CATALOG= "DSMAP.CAT"
  A_AXIS_RADIUS = 3396.0
  B_AXIS_RADIUS = 3396.0
  C_AXIS_RADIUS = 3396.0
  CENTER_LATITUDE = 0.0
  CENTER_LONGITUDE = 317.0
  COORDINATE_SYSTEM_NAME = PLANETOGRAPHIC
  COORDINATE_SYSTEM_TYPE = "BODY-FIXED ROTATING"
  EASTERNMOST_LONGITUDE = 323.215
  FIRST_STANDARD_PARALLEL = "N/A"
  LINE_FIRST_PIXEL = 1
  LINE_LAST_PIXEL = 6433
  LINE_PROJECTION_OFFSET = 2883.0
  MAP_PROJECTION_ROTATION = 0.0
  MAP_PROJECTION_TYPE = SINUSOIDAL
  MAP_RESOLUTION = 148.178450966667
  MAP_SCALE = 0.4
  MAXIMUM_LATITUDE = 19.521
  MINIMUM_LATITUDE = -23.8725
  POSITIVE_LONGITUDE_DIRECTION = EAST
  REFERENCE_LATITUDE = "N/A"
  REFERENCE_LONGITUDE = "N/A"
  SAMPLE_FIRST_PIXEL = 1
  SAMPLE_LAST_PIXEL = 2240
  SAMPLE_PROJECTION_OFFSET = 1358.0
  SECOND_STANDARD_PARALLEL = "N/A"
  WESTERNMOST_LONGITUDE = 308.005
END_OBJECT = IMAGE_MAP_PROJECTION
END
