PDS_VERSION_ID = PDS3
/* FILE DATA ELEMENTS */
RECORD_TYPE = UNDEFINED
/* POINTERS TO DATA OBJECTS */
^IMAGE = ("HC939_0000_RE4.TIF")
/* IDENTIFICATION DATA ELEMENTS */
DATA_SET_ID = "MEX-M-HRSC-4-REFDR-MAPPROJECT-EXT4-V4.0"
DATA_SET_NAME = "MARS EXPRESS HRSC MAP PROJECTED REFDR EXTENSION4 V4.0"
DETECTOR_ID = MEX_HRSC_RED
EVENT_TYPE = "MARS-REGIONAL-MAPPING-Te-Im-Fl"
INSTRUMENT_HOST_ID = MEX
INSTRUMENT_HOST_NAME = "MARS EXPRESS"
INSTRUMENT_ID = HRSC
INSTRUMENT_NAME = "HIGH RESOLUTION STEREO CAMERA"
MISSION_NAME = "MARS EXPRESS"
MISSION_PHASE_NAME = ME_Phase_30
PROCESSING_LEVEL_ID = 4
PRODUCT_CREATION_TIME = 2023-01-31T11:51:40.000Z
PRODUCT_ID = "HC939_0000_RE4.TIF"
RELEASE_ID = 0003
REVISION_ID = 0000
/* QUALITY DATA ELEMENTS */
DATA_QUALITY_ID = 1
DATA_QUALITY_DESC = "Data calculated based on original SPICE kernels"
/* TIME DATA ELEMENTS */
SPACECRAFT_CLOCK_START_COUNT = "1/0342448242.09041"
SPACECRAFT_CLOCK_STOP_COUNT = "1/0342448722.06223"
START_TIME = 2014-03-09T12:30:58.820Z
STOP_TIME = 2014-03-09T12:34:22.511Z
/* ORBITAL DATA ELEMENTS */
ASCENDING_NODE_LONGITUDE = 330.88
MAXIMUM_RESOLUTION = 0.1144
FOOTPRINT_POINT_LATITUDE = (-48.5427,-48.5234,-48.5008,-48.475, -48.4457,-48.4129,-48.3766,-48.352, -48.3495,-48.2984,-47.9873,-47.4702, -47.0577,-46.745,-46.3212,-46.0032, -45.4647,-45.138,-44.8081,-44.3641, -43.9168,-43.6924,-43.4658,-43.2391, -43.0098,-42.7808,-42.5502,-42.2021, -41.9687,-41.7328,-41.497,-41.259, -41.0216,-40.7819,-40.5386,-40.1751, -39.9303,-39.6839,-39.3122,-38.9382, -38.6875,-38.4349,-38.1817,-37.9267, -37.6697,-37.4121,-37.1532,-36.8931, -36.7634,-36.6625,-36.687,-36.7149, -36.7341,-36.7487,-36.7721,-36.7818, -36.7906,-36.788,-36.7907,-36.7911, -36.7934,-37.0576,-37.3205,-37.5822, -37.8423,-38.1011,-38.358,-38.6125, -38.8669,-39.2458,-39.6181,-39.8668, -40.2394,-40.4836,-40.7291,-40.971, -41.2121,-41.4513,-41.8095,-42.0465, -42.2811,-42.5164,-42.7486,-42.9753, -43.2042,-43.4375,-43.7889,-44.0152, -44.2423,-44.6898,-45.1309,-45.5658, -45.9985,-46.4281,-46.9599,-47.3805, -47.9017,-48.3105,-48.4127,-48.5427)
FOOTPRINT_POINT_LONGITUDE = (171.864,171.337,170.808,170.276, 169.742,169.206,168.667,168.327,168.293 ,168.249,168.263,168.292,168.318, 168.336,168.356,168.372,168.395,168.408 ,168.42,168.434,168.448,168.454,168.461 ,168.467,168.473,168.478,168.483, 168.491,168.495,168.499,168.502,168.506 ,168.509,168.513,168.514,168.517, 168.519,168.52,168.521,168.521,168.522, 168.521,168.521,168.52,168.518,168.517, 168.515,168.513,168.512,168.511,168.965 ,169.533,169.984,170.323,170.811, 171.407,171.853,172.188,172.485,172.522 ,172.534,172.525,172.515,172.505, 172.495,172.485,172.475,172.465,172.454 ,172.438,172.423,172.412,172.394, 172.383,172.371,172.359,172.348,172.336 ,172.317,172.305,172.293,172.28,172.267 ,172.255,172.243,172.228,172.206, 172.193,172.179,172.151,172.122,172.094 ,172.065,172.034,171.995,171.964, 171.923,171.891,171.882,171.864)
ORBIT_NUMBER = 12939
ORBITAL_ECCENTRICITY = 0.577
ORBITAL_INCLINATION = 86.89
ORBITAL_SEMIMAJOR_AXIS = 8755.65
PERIAPSIS_ALTITUDE = 328.7
PERIAPSIS_ARGUMENT_ANGLE = 267.31
PERIAPSIS_TIME = 2014-03-09T12:20:01.000Z
SPACECRAFT_ORIENTATION = (0.0,1.0,0.0)
^MEX_ORIENTATION_DESC = "MEX_ORIENTATION_DESC.TXT"
SPACECRAFT_POINTING_MODE = ACROSSTRACK
^MEX_POINTING_DESC = "MEX_POINTING_DESC.TXT"
RIGHT_ASCENSION = -1e+32
DECLINATION = -1e+32
OFFSET_ANGLE = 0.8
SPACECRAFT_SOLAR_DISTANCE = 2.46093e+08
TARGET_NAME = MARS
/* CAMERA DATA ELEMENTS */
DETECTOR_TEMPERATURE = 18.7783
FOCAL_PLANE_TEMPERATURE = 8.1755
INST_CMPRS_NAME = "DISCRETE COSINE TRANSFORMATION (DCT)"
INST_CMPRS_RATIO = 9.23865
INST_CMPRS_QUALITY = 0
INST_CMPRS_QUANTZ_TBL_ID = 0
INSTRUMENT_TEMPERATURE = 11.6418
LENS_TEMPERATURE = 8.5833
MACROPIXEL_SIZE = 4
MISSING_FRAMES = 0
PIXEL_SUBSAMPLING_FLAG = N
SIGNAL_CHAIN_ID = 2
/* RADIOMETRIC DATA ELEMENTS */
BANDWIDTH = 48.0
CENTER_FILTER_WAVELENGTH = 748.0
RADIANCE_OFFSET = 0.0647844
RADIANCE_SCALING_FACTOR = 0.0052505
REFLECTANCE_SCALING_FACTOR = 0.000725648
MEX:REFLECTANCE_OFFSET = 0.00895356
/* IMAGE OBJECT DEFINITIONS */
OBJECT = IMAGE
  INTERCHANGE_FORMAT = BINARY
  LINES = 6959
  LINE_SAMPLES = 2141
  SAMPLE_TYPE = UNSIGNED_INTEGER
  SAMPLE_BITS = 8
  BANDS = 1
  BAND_STORAGE_TYPE = BAND_SEQUENTIAL
  MAXIMUM = 255
  MEAN = 96.8574
  MINIMUM = 1
  STANDARD_DEVIATION = 19.8305
END_OBJECT = IMAGE
/* MAP OBJECT DEFINITIONS */
OBJECT = IMAGE_MAP_PROJECTION
  ^DATA_SET_MAP_PROJECTION_CATALOG= "DSMAP.CAT"
  A_AXIS_RADIUS = 3396.0
  B_AXIS_RADIUS = 3396.0
  C_AXIS_RADIUS = 3396.0
  CENTER_LATITUDE = 0.0
  CENTER_LONGITUDE = 170.0
  COORDINATE_SYSTEM_NAME = PLANETOGRAPHIC
  COORDINATE_SYSTEM_TYPE = "BODY-FIXED ROTATING"
  EASTERNMOST_LONGITUDE = 172.534
  FIRST_STANDARD_PARALLEL = "N/A"
  LINE_FIRST_PIXEL = 1
  LINE_LAST_PIXEL = 6959
  LINE_PROJECTION_OFFSET = -21754.375
  MAP_PROJECTION_ROTATION = 0.0
  MAP_PROJECTION_TYPE = SINUSOIDAL
  MAP_RESOLUTION = 592.713803866667
  MAP_SCALE = 0.1
  MAXIMUM_LATITUDE = -36.6625
  MINIMUM_LATITUDE = -48.5427
  POSITIVE_LONGITUDE_DIRECTION = EAST
  REFERENCE_LATITUDE = "N/A"
  REFERENCE_LONGITUDE = "N/A"
  SAMPLE_FIRST_PIXEL = 1
  SAMPLE_LAST_PIXEL = 2141
  SAMPLE_PROJECTION_OFFSET = 831.125
  SECOND_STANDARD_PARALLEL = "N/A"
  WESTERNMOST_LONGITUDE = 168.249
END_OBJECT = IMAGE_MAP_PROJECTION
END
