PDS_VERSION_ID = PDS3
/* FILE DATA ELEMENTS */
RECORD_TYPE = UNDEFINED
/* POINTERS TO DATA OBJECTS */
^IMAGE = ("HC937_0000_P24.TIF")
/* IDENTIFICATION DATA ELEMENTS */
DATA_SET_ID = "MEX-M-HRSC-4-REFDR-MAPPROJECT-EXT4-V4.0"
DATA_SET_NAME = "MARS EXPRESS HRSC MAP PROJECTED REFDR EXTENSION4 V4.0"
DETECTOR_ID = MEX_HRSC_P2
EVENT_TYPE = "MARS-REGIONAL-MAPPING-Im-Fl"
INSTRUMENT_HOST_ID = MEX
INSTRUMENT_HOST_NAME = "MARS EXPRESS"
INSTRUMENT_ID = HRSC
INSTRUMENT_NAME = "HIGH RESOLUTION STEREO CAMERA"
MISSION_NAME = "MARS EXPRESS"
MISSION_PHASE_NAME = ME_Phase_30
PROCESSING_LEVEL_ID = 4
PRODUCT_CREATION_TIME = 2023-01-31T11:51:40.000Z
PRODUCT_ID = "HC937_0000_P24.TIF"
RELEASE_ID = 0003
REVISION_ID = 0000
/* QUALITY DATA ELEMENTS */
DATA_QUALITY_ID = 1
DATA_QUALITY_DESC = "Data calculated based on original SPICE kernels"
/* TIME DATA ELEMENTS */
SPACECRAFT_CLOCK_START_COUNT = "1/0342397872.08262"
SPACECRAFT_CLOCK_STOP_COUNT = "1/0342398502.63796"
START_TIME = 2014-03-08T22:31:37.796Z
STOP_TIME = 2014-03-08T22:37:06.711Z
/* ORBITAL DATA ELEMENTS */
ASCENDING_NODE_LONGITUDE = 330.92
MAXIMUM_RESOLUTION = 0.0522
FOOTPRINT_POINT_LATITUDE = (-51.8621,-51.8576,-51.8499,-51.8395, -51.8259,-51.8093,-51.7883,-51.7869, -51.741,-51.1366,-50.5243,-49.74, -49.1054,-48.4703,-47.8184,-47.1567, -46.4843,-46.1429,-45.8031,-45.459, -45.1117,-44.7609,-44.4078,-44.0521, -43.6945,-43.3326,-42.968,-42.601, -42.2306,-41.8581,-41.4824,-41.1031, -40.7203,-40.14,-39.7513,-39.1561, -38.7586,-38.3556,-37.9493,-37.5396, -37.126,-36.7086,-36.288,-35.8632, -35.4352,-35.0024,-34.5662,-34.1263, -33.6827,-33.458,-33.3906,-33.4024, -33.4078,-33.4036,-33.39,-33.3815, -33.3654,-33.3641,-33.3648,-33.8135, -34.2556,-34.7002,-35.3581,-35.7868, -36.2218,-36.6434,-37.0628,-37.4753, -37.8866,-38.2994,-38.707,-39.1101, -39.5083,-39.9019,-40.4888,-40.8752, -41.2586,-41.6395,-42.0176,-42.3919, -42.763,-43.3083,-43.6741,-44.0423, -44.3988,-44.9297,-45.2751,-45.6232, -45.9696,-46.3118,-46.9905,-47.662, -48.4849,-49.1299,-49.7653,-50.3926, -50.8577,-51.6233,-51.7729,-51.8621)
FOOTPRINT_POINT_LONGITUDE = (17.7129,17.0217,16.437,15.8879,15.3408 ,14.7949,14.2154,14.1814,14.1514,14.182 ,14.2104,14.2402,14.2621,14.2853, 14.3029,14.3183,14.3304,14.3352,14.341, 14.3452,14.349,14.3516,14.3537,14.3552, 14.3565,14.3566,14.3562,14.3551,14.3533 ,14.351,14.3481,14.3442,14.3394,14.3311 ,14.3255,14.313,14.3053,14.2961,14.2862 ,14.2754,14.2638,14.2512,14.2379, 14.2238,14.209,14.1928,14.176,14.1585, 14.1401,14.13,14.1271,14.9865,15.7232, 16.3782,17.1587,17.6921,18.3102,18.3516 ,18.3665,18.3619,18.3585,18.3506, 18.3396,18.3347,18.3234,18.3178,18.3106 ,18.3054,18.2982,18.2876,18.2777, 18.2682,18.2592,18.2508,18.2358,18.2259 ,18.2157,18.2048,18.1934,18.1822, 18.1707,18.1573,18.1437,18.1256,18.1139 ,18.0951,18.0857,18.0722,18.0582, 18.0442,18.0146,17.9809,17.9403,17.908, 17.8749,17.8404,17.8131,17.7659,17.7571 ,17.7129)
ORBIT_NUMBER = 12937
ORBITAL_ECCENTRICITY = 0.577
ORBITAL_INCLINATION = 86.89
ORBITAL_SEMIMAJOR_AXIS = 8754.98
PERIAPSIS_ALTITUDE = 328.4
PERIAPSIS_ARGUMENT_ANGLE = 267.63
PERIAPSIS_TIME = 2014-03-08T22:21:30.000Z
SPACECRAFT_ORIENTATION = (0.0,1.0,0.0)
^MEX_ORIENTATION_DESC = "MEX_ORIENTATION_DESC.TXT"
SPACECRAFT_POINTING_MODE = ACROSSTRACK
^MEX_POINTING_DESC = "MEX_POINTING_DESC.TXT"
RIGHT_ASCENSION = -1e+32
DECLINATION = -1e+32
OFFSET_ANGLE = -0.269
SPACECRAFT_SOLAR_DISTANCE = 2.46148e+08
TARGET_NAME = MARS
/* CAMERA DATA ELEMENTS */
DETECTOR_TEMPERATURE = 18.5744
FOCAL_PLANE_TEMPERATURE = 8.1755
INST_CMPRS_NAME = "DISCRETE COSINE TRANSFORMATION (DCT)"
INST_CMPRS_RATIO = 5.3639
INST_CMPRS_QUALITY = 0
INST_CMPRS_QUANTZ_TBL_ID = 0
INSTRUMENT_TEMPERATURE = 11.0301
LENS_TEMPERATURE = 8.5833
MACROPIXEL_SIZE = 2
MISSING_FRAMES = 0
PIXEL_SUBSAMPLING_FLAG = N
SIGNAL_CHAIN_ID = 3
/* RADIOMETRIC DATA ELEMENTS */
BANDWIDTH = 177.0
CENTER_FILTER_WAVELENGTH = 676.5
RADIANCE_OFFSET = 0.247977
RADIANCE_SCALING_FACTOR = 0.0163373
REFLECTANCE_SCALING_FACTOR = 0.000524843
MEX:REFLECTANCE_OFFSET = 0.00796637
/* IMAGE OBJECT DEFINITIONS */
OBJECT = IMAGE
  INTERCHANGE_FORMAT = BINARY
  LINES = 21874
  LINE_SAMPLES = 4621
  SAMPLE_TYPE = UNSIGNED_INTEGER
  SAMPLE_BITS = 8
  BANDS = 1
  BAND_STORAGE_TYPE = BAND_SEQUENTIAL
  MAXIMUM = 255
  MEAN = 115.856
  MINIMUM = 1
  STANDARD_DEVIATION = 29.4111
END_OBJECT = IMAGE
/* MAP OBJECT DEFINITIONS */
OBJECT = IMAGE_MAP_PROJECTION
  ^DATA_SET_MAP_PROJECTION_CATALOG= "DSMAP.CAT"
  A_AXIS_RADIUS = 3396.0
  B_AXIS_RADIUS = 3396.0
  C_AXIS_RADIUS = 3396.0
  CENTER_LATITUDE = 0.0
  CENTER_LONGITUDE = 16.0
  COORDINATE_SYSTEM_NAME = PLANETOGRAPHIC
  COORDINATE_SYSTEM_TYPE = "BODY-FIXED ROTATING"
  EASTERNMOST_LONGITUDE = 18.3665
  FIRST_STANDARD_PARALLEL = "N/A"
  LINE_FIRST_PIXEL = 1
  LINE_LAST_PIXEL = 21874
  LINE_PROJECTION_OFFSET = -39542.75
  MAP_PROJECTION_ROTATION = 0.0
  MAP_PROJECTION_TYPE = SINUSOIDAL
  MAP_RESOLUTION = 1185.42760773333
  MAP_SCALE = 0.05
  MAXIMUM_LATITUDE = -33.3641
  MINIMUM_LATITUDE = -51.8621
  POSITIVE_LONGITUDE_DIRECTION = EAST
  REFERENCE_LATITUDE = "N/A"
  REFERENCE_LONGITUDE = "N/A"
  SAMPLE_FIRST_PIXEL = 1
  SAMPLE_LAST_PIXEL = 4621
  SAMPLE_PROJECTION_OFFSET = 2089.25
  SECOND_STANDARD_PARALLEL = "N/A"
  WESTERNMOST_LONGITUDE = 14.1271
END_OBJECT = IMAGE_MAP_PROJECTION
END
