PDS_VERSION_ID = PDS3
/* FILE DATA ELEMENTS */
RECORD_TYPE = UNDEFINED
/* POINTERS TO DATA OBJECTS */
^IMAGE = ("HC927_0000_RE4.TIF")
/* IDENTIFICATION DATA ELEMENTS */
DATA_SET_ID = "MEX-M-HRSC-4-REFDR-MAPPROJECT-EXT4-V4.0"
DATA_SET_NAME = "MARS EXPRESS HRSC MAP PROJECTED REFDR EXTENSION4 V4.0"
DETECTOR_ID = MEX_HRSC_RED
EVENT_TYPE = "MARS-REGIONAL-MAPPING-Fl-Gl-Pf"
INSTRUMENT_HOST_ID = MEX
INSTRUMENT_HOST_NAME = "MARS EXPRESS"
INSTRUMENT_ID = HRSC
INSTRUMENT_NAME = "HIGH RESOLUTION STEREO CAMERA"
MISSION_NAME = "MARS EXPRESS"
MISSION_PHASE_NAME = ME_Phase_30
PROCESSING_LEVEL_ID = 4
PRODUCT_CREATION_TIME = 2023-01-31T11:51:40.000Z
PRODUCT_ID = "HC927_0000_RE4.TIF"
RELEASE_ID = 0003
REVISION_ID = 0000
/* QUALITY DATA ELEMENTS */
DATA_QUALITY_ID = 1
DATA_QUALITY_DESC = "Data calculated based on original SPICE kernels"
/* TIME DATA ELEMENTS */
SPACECRAFT_CLOCK_START_COUNT = "1/0342146272.08271"
SPACECRAFT_CLOCK_STOP_COUNT = "1/0342146678.17137"
START_TIME = 2014-03-06T00:38:06.429Z
STOP_TIME = 2014-03-06T00:41:28.114Z
/* ORBITAL DATA ELEMENTS */
ASCENDING_NODE_LONGITUDE = 331.1
MAXIMUM_RESOLUTION = 0.0954
FOOTPRINT_POINT_LATITUDE = (-54.0865,-54.0648,-54.0405,-54.0136, -53.984,-53.9517,-53.893,-53.8906, -53.7975,-53.2678,-52.8405,-52.2966, -51.7487,-51.4164,-50.9688,-50.5157, -50.2882,-50.0581,-49.8283,-49.4796, -49.2464,-48.893,-48.6575,-48.2991, -48.06,-47.6971,-47.455,-47.2093, -46.9637,-46.715,-46.4671,-46.2164, -45.8362,-45.5813,-45.3257,-45.0708, -44.8072,-44.548,-44.296,-44.0388, -43.7784,-43.5151,-43.2448,-42.8398, -42.5699,-42.297,-41.884,-41.746, -41.7347,-41.7535,-41.7756,-41.7954, -41.8177,-41.8402,-41.8598,-41.8688, -41.8811,-41.8817,-41.8837,-42.3003, -42.5779,-42.8461,-43.1183,-43.3856, -43.6552,-43.9224,-44.3146,-44.5782, -44.8394,-45.1001,-45.3582,-45.6158, -45.8715,-46.253,-46.5057,-46.7565, -47.0054,-47.376,-47.6224,-47.8659, -48.23,-48.47,-48.7128,-48.9492, -49.1864,-49.5399,-49.8915,-50.1219, -50.352,-50.5826,-51.0374,-51.3759, -51.824,-52.1557,-52.7046,-53.1389, -53.5691,-53.8877,-53.9935,-54.0865)
FOOTPRINT_POINT_LONGITUDE = (317.649,317.16,316.67,316.177,315.683, 315.186,314.373,314.341,314.259,314.319 ,314.366,314.421,314.475,314.506, 314.545,314.583,314.601,314.619,314.637 ,314.662,314.678,314.702,314.718, 314.741,314.755,314.777,314.79,314.803, 314.816,314.828,314.841,314.852,314.867 ,314.877,314.887,314.899,314.905, 314.915,314.929,314.942,314.952,314.962 ,314.967,314.977,314.984,314.99,314.998 ,315.0,315.001,315.308,315.685,316.06, 316.502,317.077,317.651,318.02,318.591, 318.625,318.636,318.614,318.599,318.586 ,318.571,318.556,318.541,318.525, 318.503,318.487,318.471,318.454,318.437 ,318.421,318.403,318.377,318.36,318.342 ,318.324,318.297,318.278,318.259, 318.231,318.212,318.192,318.173,318.153 ,318.122,318.091,318.071,318.05,318.029 ,317.986,317.953,317.908,317.874, 317.816,317.769,317.72,317.684,317.671, 317.649)
ORBIT_NUMBER = 12927
ORBITAL_ECCENTRICITY = 0.577
ORBITAL_INCLINATION = 86.9
ORBITAL_SEMIMAJOR_AXIS = 8754.44
PERIAPSIS_ALTITUDE = 328.23
PERIAPSIS_ARGUMENT_ANGLE = 269.35
PERIAPSIS_TIME = 2014-03-06T00:29:13.000Z
SPACECRAFT_ORIENTATION = (0.0,1.0,0.0)
^MEX_ORIENTATION_DESC = "MEX_ORIENTATION_DESC.TXT"
SPACECRAFT_POINTING_MODE = ACROSSTRACK
^MEX_POINTING_DESC = "MEX_POINTING_DESC.TXT"
RIGHT_ASCENSION = -1e+32
DECLINATION = -1e+32
OFFSET_ANGLE = 0.7
SPACECRAFT_SOLAR_DISTANCE = 2.46415e+08
TARGET_NAME = MARS
/* CAMERA DATA ELEMENTS */
DETECTOR_TEMPERATURE = 18.3705
FOCAL_PLANE_TEMPERATURE = 7.3599
INST_CMPRS_NAME = "DISCRETE COSINE TRANSFORMATION (DCT)"
INST_CMPRS_RATIO = 6.07031
INST_CMPRS_QUALITY = 0
INST_CMPRS_QUANTZ_TBL_ID = 0
INSTRUMENT_TEMPERATURE = 11.234
LENS_TEMPERATURE = 7.7677
MACROPIXEL_SIZE = 4
MISSING_FRAMES = 0
PIXEL_SUBSAMPLING_FLAG = N
SIGNAL_CHAIN_ID = 2
/* RADIOMETRIC DATA ELEMENTS */
BANDWIDTH = 48.0
CENTER_FILTER_WAVELENGTH = 748.0
RADIANCE_OFFSET = 0.193692
RADIANCE_SCALING_FACTOR = 0.00382408
REFLECTANCE_SCALING_FACTOR = 0.000529891
MEX:REFLECTANCE_OFFSET = 0.0268394
/* IMAGE OBJECT DEFINITIONS */
OBJECT = IMAGE
  INTERCHANGE_FORMAT = BINARY
  LINES = 7239
  LINE_SAMPLES = 1895
  SAMPLE_TYPE = UNSIGNED_INTEGER
  SAMPLE_BITS = 8
  BANDS = 1
  BAND_STORAGE_TYPE = BAND_SEQUENTIAL
  MAXIMUM = 255
  MEAN = 120.614
  MINIMUM = 1
  STANDARD_DEVIATION = 30.1413
END_OBJECT = IMAGE
/* MAP OBJECT DEFINITIONS */
OBJECT = IMAGE_MAP_PROJECTION
  ^DATA_SET_MAP_PROJECTION_CATALOG= "DSMAP.CAT"
  A_AXIS_RADIUS = 3396.0
  B_AXIS_RADIUS = 3396.0
  C_AXIS_RADIUS = 3396.0
  CENTER_LATITUDE = 0.0
  CENTER_LONGITUDE = 316.0
  COORDINATE_SYSTEM_NAME = PLANETOGRAPHIC
  COORDINATE_SYSTEM_TYPE = "BODY-FIXED ROTATING"
  EASTERNMOST_LONGITUDE = 318.636
  FIRST_STANDARD_PARALLEL = "N/A"
  LINE_FIRST_PIXEL = 1
  LINE_LAST_PIXEL = 7239
  LINE_PROJECTION_OFFSET = -24760.875
  MAP_PROJECTION_ROTATION = 0.0
  MAP_PROJECTION_TYPE = SINUSOIDAL
  MAP_RESOLUTION = 592.713803866667
  MAP_SCALE = 0.1
  MAXIMUM_LATITUDE = -41.7347
  MINIMUM_LATITUDE = -54.0865
  POSITIVE_LONGITUDE_DIRECTION = EAST
  REFERENCE_LATITUDE = "N/A"
  REFERENCE_LONGITUDE = "N/A"
  SAMPLE_FIRST_PIXEL = 1
  SAMPLE_LAST_PIXEL = 1895
  SAMPLE_PROJECTION_OFFSET = 655.375
  SECOND_STANDARD_PARALLEL = "N/A"
  WESTERNMOST_LONGITUDE = 314.259
END_OBJECT = IMAGE_MAP_PROJECTION
END
