PDS_VERSION_ID = PDS3
/* FILE DATA ELEMENTS */
RECORD_TYPE = UNDEFINED
/* POINTERS TO DATA OBJECTS */
^IMAGE = ("HC923_0000_S24.TIF")
/* IDENTIFICATION DATA ELEMENTS */
DATA_SET_ID = "MEX-M-HRSC-4-REFDR-MAPPROJECT-EXT4-V4.0"
DATA_SET_NAME = "MARS EXPRESS HRSC MAP PROJECTED REFDR EXTENSION4 V4.0"
DETECTOR_ID = MEX_HRSC_S2
EVENT_TYPE = "MARS-REGIONAL-MAPPING-Im-Fl-Pf"
INSTRUMENT_HOST_ID = MEX
INSTRUMENT_HOST_NAME = "MARS EXPRESS"
INSTRUMENT_ID = HRSC
INSTRUMENT_NAME = "HIGH RESOLUTION STEREO CAMERA"
MISSION_NAME = "MARS EXPRESS"
MISSION_PHASE_NAME = ME_Phase_30
PROCESSING_LEVEL_ID = 4
PRODUCT_CREATION_TIME = 2023-01-31T11:51:40.000Z
PRODUCT_ID = "HC923_0000_S24.TIF"
RELEASE_ID = 0003
REVISION_ID = 0000
/* QUALITY DATA ELEMENTS */
DATA_QUALITY_ID = 1
DATA_QUALITY_DESC = "Data calculated based on original SPICE kernels"
/* TIME DATA ELEMENTS */
SPACECRAFT_CLOCK_START_COUNT = "1/0342045630.09057"
SPACECRAFT_CLOCK_STOP_COUNT = "1/0342046155.13958"
START_TIME = 2014-03-04T20:40:35.078Z
STOP_TIME = 2014-03-04T20:45:17.804Z
/* ORBITAL DATA ELEMENTS */
ASCENDING_NODE_LONGITUDE = 331.18
MAXIMUM_RESOLUTION = 0.0461
FOOTPRINT_POINT_LATITUDE = (-54.8191,-54.7736,-54.717,-54.6349, -54.6325,-54.5551,-54.1292,-53.5547, -52.8215,-51.9215,-51.3196,-50.7061, -50.391,-50.0756,-49.6063,-49.2871, -48.8034,-48.4807,-48.1559,-47.6614, -47.162,-46.8268,-46.3131,-45.9689, -45.6234,-45.2735,-44.922,-44.5659, -44.2103,-43.8493,-43.4861,-43.1201, -42.7506,-42.3781,-42.003,-41.6243, -41.2418,-40.6545,-40.07,-39.6734, -39.2731,-38.8697,-38.4631,-38.0533, -37.6395,-37.4314,-37.3883,-37.4276, -37.4475,-37.4643,-37.4782,-37.4957, -37.5038,-37.5089,-37.5092,-37.5106, -37.9191,-38.3433,-38.7608,-39.1663, -39.5683,-39.9686,-40.3677,-40.7584, -41.1445,-41.7227,-42.1035,-42.4823, -42.8562,-43.2263,-43.5951,-43.9607, -44.324,-44.6845,-45.0402,-45.5698, -45.919,-46.2656,-46.6091,-46.9509, -47.2898,-47.7924,-48.1248,-48.4532, -48.9436,-49.2609,-49.5834,-49.9078, -50.2248,-50.5388,-50.8499,-51.4627, -51.7734,-52.378,-52.9761,-53.5653, -54.1455,-54.5773,-54.7198,-54.8191)
FOOTPRINT_POINT_LONGITUDE = (6.56473,5.57194,4.5729,3.37662,3.34495 ,3.28841,3.33877,3.40244,3.47667, 3.55795,3.61316,3.66365,3.68488,3.70692 ,3.74256,3.76435,3.79458,3.81487, 3.83566,3.86318,3.88956,3.90693,3.92877 ,3.94324,3.95717,3.97044,3.98315, 3.99405,4.00667,4.01681,4.02636,4.03588 ,4.04424,4.05169,4.0585,4.06488,4.0702, 4.07281,4.07881,4.08052,4.08163,4.08197 ,4.08174,4.08082,4.07902,4.07774, 4.07742,4.83059,5.29483,5.72202,6.14834 ,6.82168,7.24567,7.70426,7.73951,7.7521 ,7.74013,7.72321,7.70656,7.69154, 7.67612,7.66,7.64288,7.62671,7.61038, 7.58395,7.56603,7.54732,7.52879,7.51016 ,7.4907,7.47078,7.45045,7.42988,7.40912 ,7.37718,7.3555,7.33355,7.3111,7.28829, 7.26497,7.22956,7.20546,7.18127,7.14362 ,7.12002,7.0937,7.0661,7.03925,7.01243, 6.98516,6.93038,6.90052,6.84199,6.78117 ,6.7189,6.6552,6.60611,6.58939,6.56473)
ORBIT_NUMBER = 12923
ORBITAL_ECCENTRICITY = 0.577
ORBITAL_INCLINATION = 86.89
ORBITAL_SEMIMAJOR_AXIS = 8754.67
PERIAPSIS_ALTITUDE = 328.47
PERIAPSIS_ARGUMENT_ANGLE = 269.99
PERIAPSIS_TIME = 2014-03-04T20:32:12.000Z
SPACECRAFT_ORIENTATION = (0.0,1.0,0.0)
^MEX_ORIENTATION_DESC = "MEX_ORIENTATION_DESC.TXT"
SPACECRAFT_POINTING_MODE = ACROSSTRACK
^MEX_POINTING_DESC = "MEX_POINTING_DESC.TXT"
RIGHT_ASCENSION = -1e+32
DECLINATION = -1e+32
OFFSET_ANGLE = 0.539
SPACECRAFT_SOLAR_DISTANCE = 2.46519e+08
TARGET_NAME = MARS
/* CAMERA DATA ELEMENTS */
DETECTOR_TEMPERATURE = 18.3705
FOCAL_PLANE_TEMPERATURE = 8.1755
INST_CMPRS_NAME = "DISCRETE COSINE TRANSFORMATION (DCT)"
INST_CMPRS_RATIO = 4.76473
INST_CMPRS_QUALITY = 0
INST_CMPRS_QUANTZ_TBL_ID = 0
INSTRUMENT_TEMPERATURE = 11.234
LENS_TEMPERATURE = 8.3794
MACROPIXEL_SIZE = 2
MISSING_FRAMES = 0
PIXEL_SUBSAMPLING_FLAG = N
SIGNAL_CHAIN_ID = 1
/* RADIOMETRIC DATA ELEMENTS */
BANDWIDTH = 178.0
CENTER_FILTER_WAVELENGTH = 679.0
RADIANCE_OFFSET = 0.246767
RADIANCE_SCALING_FACTOR = 0.0201284
REFLECTANCE_SCALING_FACTOR = 0.000647795
MEX:REFLECTANCE_OFFSET = 0.00794172
/* IMAGE OBJECT DEFINITIONS */
OBJECT = IMAGE
  INTERCHANGE_FORMAT = BINARY
  LINES = 20472
  LINE_SAMPLES = 3893
  SAMPLE_TYPE = UNSIGNED_INTEGER
  SAMPLE_BITS = 8
  BANDS = 1
  BAND_STORAGE_TYPE = BAND_SEQUENTIAL
  MAXIMUM = 255
  MEAN = 107.947
  MINIMUM = 1
  STANDARD_DEVIATION = 26.0383
END_OBJECT = IMAGE
/* MAP OBJECT DEFINITIONS */
OBJECT = IMAGE_MAP_PROJECTION
  ^DATA_SET_MAP_PROJECTION_CATALOG= "DSMAP.CAT"
  A_AXIS_RADIUS = 3396.0
  B_AXIS_RADIUS = 3396.0
  C_AXIS_RADIUS = 3396.0
  CENTER_LATITUDE = 0.0
  CENTER_LONGITUDE = 6.0
  COORDINATE_SYSTEM_NAME = PLANETOGRAPHIC
  COORDINATE_SYSTEM_TYPE = "BODY-FIXED ROTATING"
  EASTERNMOST_LONGITUDE = 7.7521
  FIRST_STANDARD_PARALLEL = "N/A"
  LINE_FIRST_PIXEL = 1
  LINE_LAST_PIXEL = 20472
  LINE_PROJECTION_OFFSET = -44368.25
  MAP_PROJECTION_ROTATION = 0.0
  MAP_PROJECTION_TYPE = SINUSOIDAL
  MAP_RESOLUTION = 1185.42760773333
  MAP_SCALE = 0.05
  MAXIMUM_LATITUDE = -37.3883
  MINIMUM_LATITUDE = -54.8191
  POSITIVE_LONGITUDE_DIRECTION = EAST
  REFERENCE_LATITUDE = "N/A"
  REFERENCE_LONGITUDE = "N/A"
  SAMPLE_FIRST_PIXEL = 1
  SAMPLE_LAST_PIXEL = 3893
  SAMPLE_PROJECTION_OFFSET = 2050.25
  SECOND_STANDARD_PARALLEL = "N/A"
  WESTERNMOST_LONGITUDE = 3.28841
END_OBJECT = IMAGE_MAP_PROJECTION
END
