PDS_VERSION_ID = PDS3
/* FILE DATA ELEMENTS */
RECORD_TYPE = UNDEFINED
/* POINTERS TO DATA OBJECTS */
^IMAGE = ("HC919_0000_S24.TIF")
/* IDENTIFICATION DATA ELEMENTS */
DATA_SET_ID = "MEX-M-HRSC-4-REFDR-MAPPROJECT-EXT4-V4.0"
DATA_SET_NAME = "MARS EXPRESS HRSC MAP PROJECTED REFDR EXTENSION4 V4.0"
DETECTOR_ID = MEX_HRSC_S2
EVENT_TYPE = "MARS-REGIONAL-MAPPING-Gl-Pf"
INSTRUMENT_HOST_ID = MEX
INSTRUMENT_HOST_NAME = "MARS EXPRESS"
INSTRUMENT_ID = HRSC
INSTRUMENT_NAME = "HIGH RESOLUTION STEREO CAMERA"
MISSION_NAME = "MARS EXPRESS"
MISSION_PHASE_NAME = ME_Phase_30
PROCESSING_LEVEL_ID = 4
PRODUCT_CREATION_TIME = 2023-01-31T11:51:40.000Z
PRODUCT_ID = "HC919_0000_S24.TIF"
RELEASE_ID = 0003
REVISION_ID = 0000
/* QUALITY DATA ELEMENTS */
DATA_QUALITY_ID = 1
DATA_QUALITY_DESC = "Data calculated based on original SPICE kernels"
/* TIME DATA ELEMENTS */
SPACECRAFT_CLOCK_START_COUNT = "1/0341945073.07324"
SPACECRAFT_CLOCK_STOP_COUNT = "1/0341945549.46863"
START_TIME = 2014-03-03T16:44:38.019Z
STOP_TIME = 2014-03-03T16:48:29.136Z
/* ORBITAL DATA ELEMENTS */
ASCENDING_NODE_LONGITUDE = 331.24
MAXIMUM_RESOLUTION = 0.0509
FOOTPRINT_POINT_LATITUDE = (-50.3938,-50.3928,-50.3889,-50.3822, -50.3726,-50.3601,-50.3395,-50.3384, -50.2316,-49.6301,-49.1342,-48.6491, -48.0252,-47.5187,-47.1376,-46.6222, -45.9706,-45.7053,-45.4416,-45.1747, -44.7706,-44.5004,-44.0959,-43.823, -43.5461,-43.2689,-42.9898,-42.7081, -42.4255,-41.9986,-41.5668,-41.2782, -40.9851,-40.5397,-40.2406,-39.9402, -39.6364,-39.3317,-38.8717,-38.5641, -38.2533,-37.9405,-37.6257,-37.3073, -36.9874,-36.5048,-36.3429,-36.2871, -36.295,-36.3004,-36.3048,-36.3041, -36.2968,-36.2922,-36.2831,-36.2824, -36.2831,-36.6061,-37.0898,-37.5709, -37.8933,-38.2085,-38.5204,-38.8312, -39.1414,-39.4486,-39.754,-40.0542, -40.3565,-40.7982,-41.0926,-41.3858, -41.677,-41.9667,-42.255,-42.5405, -42.8254,-43.1066,-43.3881,-43.6657, -44.0797,-44.355,-44.6267,-44.9001, -45.1687,-45.4366,-45.7014,-45.967, -46.2293,-46.4906,-47.0045,-47.3901, -47.8993,-48.2764,-48.7764,-49.1482, -49.6378,-50.1212,-50.2417,-50.3938)
FOOTPRINT_POINT_LONGITUDE = (57.0733,56.5404,56.0406,55.5423,55.046 ,54.551,53.9021,53.8713,53.8376,53.8627 ,53.8794,53.8983,53.9178,53.9316, 53.9415,53.9533,53.9662,53.9706,53.9749 ,53.9789,53.9837,53.9869,53.9918, 53.9942,53.996,53.9974,53.9989,53.9995, 54.0001,54.0003,53.9994,53.9985,53.997, 53.9932,53.9901,53.987,53.9831,53.979, 53.9723,53.9678,53.9627,53.957,53.9509, 53.9442,53.9372,53.9261,53.9221,53.9206 ,54.3112,54.7032,55.2733,55.9515, 56.7039,57.1339,57.5652,57.6011,57.6141 ,57.6099,57.6021,57.5928,57.5842, 57.5778,57.572,57.5653,57.5577,57.5507, 57.543,57.5367,57.5287,57.5197,57.5121, 57.5044,57.4964,57.4881,57.4797,57.471, 57.4623,57.4537,57.4444,57.4357,57.422, 57.4124,57.4027,57.3921,57.382,57.3722, 57.3621,57.3514,57.3408,57.3303,57.3106 ,57.2931,57.2692,57.2516,57.2257, 57.2057,57.1797,57.1527,57.1461, 57.0733)
ORBIT_NUMBER = 12919
ORBITAL_ECCENTRICITY = 0.577
ORBITAL_INCLINATION = 86.89
ORBITAL_SEMIMAJOR_AXIS = 8754.88
PERIAPSIS_ALTITUDE = 327.96
PERIAPSIS_ARGUMENT_ANGLE = 270.69
PERIAPSIS_TIME = 2014-03-03T16:35:16.000Z
SPACECRAFT_ORIENTATION = (0.0,1.0,0.0)
^MEX_ORIENTATION_DESC = "MEX_ORIENTATION_DESC.TXT"
SPACECRAFT_POINTING_MODE = ACROSSTRACK
^MEX_POINTING_DESC = "MEX_POINTING_DESC.TXT"
RIGHT_ASCENSION = -1e+32
DECLINATION = -1e+32
OFFSET_ANGLE = -0.3
SPACECRAFT_SOLAR_DISTANCE = 2.4662e+08
TARGET_NAME = MARS
/* CAMERA DATA ELEMENTS */
DETECTOR_TEMPERATURE = 18.5744
FOCAL_PLANE_TEMPERATURE = 7.9716
INST_CMPRS_NAME = "DISCRETE COSINE TRANSFORMATION (DCT)"
INST_CMPRS_RATIO = 8.0712
INST_CMPRS_QUALITY = 0
INST_CMPRS_QUANTZ_TBL_ID = 0
INSTRUMENT_TEMPERATURE = 11.4379
LENS_TEMPERATURE = 7.9716
MACROPIXEL_SIZE = 2
MISSING_FRAMES = 0
PIXEL_SUBSAMPLING_FLAG = N
SIGNAL_CHAIN_ID = 1
/* RADIOMETRIC DATA ELEMENTS */
BANDWIDTH = 178.0
CENTER_FILTER_WAVELENGTH = 679.0
RADIANCE_OFFSET = 1.0814
RADIANCE_SCALING_FACTOR = 0.0200814
REFLECTANCE_SCALING_FACTOR = 0.000646816
MEX:REFLECTANCE_OFFSET = 0.0348316
/* IMAGE OBJECT DEFINITIONS */
OBJECT = IMAGE
  INTERCHANGE_FORMAT = BINARY
  LINES = 16585
  LINE_SAMPLES = 3970
  SAMPLE_TYPE = UNSIGNED_INTEGER
  SAMPLE_BITS = 8
  BANDS = 1
  BAND_STORAGE_TYPE = BAND_SEQUENTIAL
  MAXIMUM = 255
  MEAN = 170.687
  MINIMUM = 1
  STANDARD_DEVIATION = 37.5565
END_OBJECT = IMAGE
/* MAP OBJECT DEFINITIONS */
OBJECT = IMAGE_MAP_PROJECTION
  ^DATA_SET_MAP_PROJECTION_CATALOG= "DSMAP.CAT"
  A_AXIS_RADIUS = 3396.0
  B_AXIS_RADIUS = 3396.0
  C_AXIS_RADIUS = 3396.0
  CENTER_LATITUDE = 0.0
  CENTER_LONGITUDE = 56.0
  COORDINATE_SYSTEM_NAME = PLANETOGRAPHIC
  COORDINATE_SYSTEM_TYPE = "BODY-FIXED ROTATING"
  EASTERNMOST_LONGITUDE = 57.6141
  FIRST_STANDARD_PARALLEL = "N/A"
  LINE_FIRST_PIXEL = 1
  LINE_LAST_PIXEL = 16585
  LINE_PROJECTION_OFFSET = -43061.75
  MAP_PROJECTION_ROTATION = 0.0
  MAP_PROJECTION_TYPE = SINUSOIDAL
  MAP_RESOLUTION = 1185.42760773333
  MAP_SCALE = 0.05
  MAXIMUM_LATITUDE = -36.2824
  MINIMUM_LATITUDE = -50.3938
  POSITIVE_LONGITUDE_DIRECTION = EAST
  REFERENCE_LATITUDE = "N/A"
  REFERENCE_LONGITUDE = "N/A"
  SAMPLE_FIRST_PIXEL = 1
  SAMPLE_LAST_PIXEL = 3970
  SAMPLE_PROJECTION_OFFSET = 2246.75
  SECOND_STANDARD_PARALLEL = "N/A"
  WESTERNMOST_LONGITUDE = 53.8376
END_OBJECT = IMAGE_MAP_PROJECTION
END
