PDS_VERSION_ID = PDS3
/* FILE DATA ELEMENTS */
RECORD_TYPE = UNDEFINED
/* POINTERS TO DATA OBJECTS */
^IMAGE = ("HC919_0000_P24.TIF")
/* IDENTIFICATION DATA ELEMENTS */
DATA_SET_ID = "MEX-M-HRSC-4-REFDR-MAPPROJECT-EXT4-V4.0"
DATA_SET_NAME = "MARS EXPRESS HRSC MAP PROJECTED REFDR EXTENSION4 V4.0"
DETECTOR_ID = MEX_HRSC_P2
EVENT_TYPE = "MARS-REGIONAL-MAPPING-Gl-Pf"
INSTRUMENT_HOST_ID = MEX
INSTRUMENT_HOST_NAME = "MARS EXPRESS"
INSTRUMENT_ID = HRSC
INSTRUMENT_NAME = "HIGH RESOLUTION STEREO CAMERA"
MISSION_NAME = "MARS EXPRESS"
MISSION_PHASE_NAME = ME_Phase_30
PROCESSING_LEVEL_ID = 4
PRODUCT_CREATION_TIME = 2023-01-31T11:51:40.000Z
PRODUCT_ID = "HC919_0000_P24.TIF"
RELEASE_ID = 0003
REVISION_ID = 0000
/* QUALITY DATA ELEMENTS */
DATA_QUALITY_ID = 1
DATA_QUALITY_DESC = "Data calculated based on original SPICE kernels"
/* TIME DATA ELEMENTS */
SPACECRAFT_CLOCK_START_COUNT = "1/0341945073.07324"
SPACECRAFT_CLOCK_STOP_COUNT = "1/0341945549.46863"
START_TIME = 2014-03-03T16:44:57.916Z
STOP_TIME = 2014-03-03T16:48:59.841Z
/* ORBITAL DATA ELEMENTS */
ASCENDING_NODE_LONGITUDE = 331.24
MAXIMUM_RESOLUTION = 0.0506
FOOTPRINT_POINT_LATITUDE = (-50.3623,-50.3608,-50.3564,-50.3493, -50.3394,-50.3268,-50.3029,-50.3017, -50.2306,-49.8692,-49.1344,-48.6453, -48.2717,-47.7684,-47.2595,-46.7452, -46.2248,-45.9619,-45.5648,-45.2993, -45.0314,-44.7613,-44.4898,-44.083, -43.8083,-43.5316,-43.1134,-42.6917, -42.4085,-42.1234,-41.8365,-41.5474, -41.2567,-40.9642,-40.6682,-40.3683, -39.9183,-39.463,-39.1582,-38.696, -38.3876,-38.0746,-37.7604,-37.4442, -37.1248,-36.8046,-36.4815,-36.3188, -36.3086,-36.3175,-36.3216,-36.3249, -36.3242,-36.3175,-36.3106,-36.303, -36.3018,-36.3026,-36.7896,-37.1115, -37.432,-37.913,-38.2283,-38.5408, -38.8523,-39.162,-39.4689,-39.774, -40.0758,-40.5258,-40.821,-41.117, -41.411,-41.7022,-41.9923,-42.2808, -42.5669,-42.852,-43.134,-43.5549, -43.8332,-44.1089,-44.384,-44.6574, -45.0645,-45.3344,-45.6006,-45.8669, -46.131,-46.3935,-46.654,-47.0394, -47.5552,-47.9371,-48.566,-49.0639, -49.6771,-50.1613,-50.2817,-50.3623)
FOOTPRINT_POINT_LONGITUDE = (57.101,56.6506,56.1384,55.6276,55.1184 ,54.6109,53.8509,53.8193,53.7815, 53.7962,53.8212,53.8393,53.8506,53.8643 ,53.8766,53.8877,53.8974,53.902,53.9075 ,53.9112,53.9144,53.9168,53.9193, 53.9234,53.9251,53.9264,53.9275,53.928, 53.9279,53.9274,53.9263,53.9251,53.9234 ,53.9211,53.9182,53.9139,53.9082, 53.9009,53.8961,53.8877,53.8823,53.8757 ,53.8691,53.8619,53.8538,53.8458, 53.8372,53.8326,53.8323,54.3474,54.7162 ,55.2324,55.9345,56.6756,57.2317, 57.6043,57.6418,57.6552,57.6476,57.6419 ,57.6356,57.6232,57.6163,57.61,57.6028, 57.5948,57.5873,57.5797,57.5728,57.5614 ,57.5549,57.5467,57.5387,57.5304, 57.5218,57.5129,57.5039,57.4947,57.4857 ,57.4715,57.4622,57.453,57.443,57.433, 57.4171,57.4062,57.3965,57.3854,57.3745 ,57.3638,57.353,57.3385,57.3131,57.2953 ,57.2635,57.2371,57.2037,57.1763, 57.1694,57.101)
ORBIT_NUMBER = 12919
ORBITAL_ECCENTRICITY = 0.577
ORBITAL_INCLINATION = 86.89
ORBITAL_SEMIMAJOR_AXIS = 8754.88
PERIAPSIS_ALTITUDE = 327.96
PERIAPSIS_ARGUMENT_ANGLE = 270.69
PERIAPSIS_TIME = 2014-03-03T16:35:16.000Z
SPACECRAFT_ORIENTATION = (0.0,1.0,0.0)
^MEX_ORIENTATION_DESC = "MEX_ORIENTATION_DESC.TXT"
SPACECRAFT_POINTING_MODE = ACROSSTRACK
^MEX_POINTING_DESC = "MEX_POINTING_DESC.TXT"
RIGHT_ASCENSION = -1e+32
DECLINATION = -1e+32
OFFSET_ANGLE = -0.3
SPACECRAFT_SOLAR_DISTANCE = 2.4662e+08
TARGET_NAME = MARS
/* CAMERA DATA ELEMENTS */
DETECTOR_TEMPERATURE = 18.5744
FOCAL_PLANE_TEMPERATURE = 7.9716
INST_CMPRS_NAME = "DISCRETE COSINE TRANSFORMATION (DCT)"
INST_CMPRS_RATIO = 6.40915
INST_CMPRS_QUALITY = 0
INST_CMPRS_QUANTZ_TBL_ID = 0
INSTRUMENT_TEMPERATURE = 11.4379
LENS_TEMPERATURE = 7.9716
MACROPIXEL_SIZE = 2
MISSING_FRAMES = 0
PIXEL_SUBSAMPLING_FLAG = N
SIGNAL_CHAIN_ID = 3
/* RADIOMETRIC DATA ELEMENTS */
BANDWIDTH = 177.0
CENTER_FILTER_WAVELENGTH = 676.5
RADIANCE_OFFSET = 1.02485
RADIANCE_SCALING_FACTOR = 0.0186523
REFLECTANCE_SCALING_FACTOR = 0.000601514
MEX:REFLECTANCE_OFFSET = 0.03305
/* IMAGE OBJECT DEFINITIONS */
OBJECT = IMAGE
  INTERCHANGE_FORMAT = BINARY
  LINES = 16585
  LINE_SAMPLES = 3970
  SAMPLE_TYPE = UNSIGNED_INTEGER
  SAMPLE_BITS = 8
  BANDS = 1
  BAND_STORAGE_TYPE = BAND_SEQUENTIAL
  MAXIMUM = 255
  MEAN = 159.953
  MINIMUM = 1
  STANDARD_DEVIATION = 43.104
END_OBJECT = IMAGE
/* MAP OBJECT DEFINITIONS */
OBJECT = IMAGE_MAP_PROJECTION
  ^DATA_SET_MAP_PROJECTION_CATALOG= "DSMAP.CAT"
  A_AXIS_RADIUS = 3396.0
  B_AXIS_RADIUS = 3396.0
  C_AXIS_RADIUS = 3396.0
  CENTER_LATITUDE = 0.0
  CENTER_LONGITUDE = 56.0
  COORDINATE_SYSTEM_NAME = PLANETOGRAPHIC
  COORDINATE_SYSTEM_TYPE = "BODY-FIXED ROTATING"
  EASTERNMOST_LONGITUDE = 57.6552
  FIRST_STANDARD_PARALLEL = "N/A"
  LINE_FIRST_PIXEL = 1
  LINE_LAST_PIXEL = 16585
  LINE_PROJECTION_OFFSET = -43061.75
  MAP_PROJECTION_ROTATION = 0.0
  MAP_PROJECTION_TYPE = SINUSOIDAL
  MAP_RESOLUTION = 1185.42760773333
  MAP_SCALE = 0.05
  MAXIMUM_LATITUDE = -36.3018
  MINIMUM_LATITUDE = -50.3623
  POSITIVE_LONGITUDE_DIRECTION = EAST
  REFERENCE_LATITUDE = "N/A"
  REFERENCE_LONGITUDE = "N/A"
  SAMPLE_FIRST_PIXEL = 1
  SAMPLE_LAST_PIXEL = 3970
  SAMPLE_PROJECTION_OFFSET = 2246.75
  SECOND_STANDARD_PARALLEL = "N/A"
  WESTERNMOST_LONGITUDE = 53.7815
END_OBJECT = IMAGE_MAP_PROJECTION
END
